PDS_VERSION_ID = PDS3
/* FILE DATA ELEMENTS */
RECORD_TYPE = UNDEFINED
/* POINTERS TO DATA OBJECTS */
^IMAGE = ("HG728_0000_P24.TIF")
/* IDENTIFICATION DATA ELEMENTS */
DATA_SET_ID = "MEX-M-HRSC-4-REFDR-MAPPROJECT-EXT6-V4.0"
DATA_SET_NAME = "MARS EXPRESS HRSC MAP PROJECTED REFDR EXTENSION6 V4.0"
DETECTOR_ID = MEX_HRSC_P2
EVENT_TYPE = "MARS-REGIONAL-MAPPING-Im-Gl-La"
INSTRUMENT_HOST_ID = MEX
INSTRUMENT_HOST_NAME = "MARS EXPRESS"
INSTRUMENT_ID = HRSC
INSTRUMENT_NAME = "HIGH RESOLUTION STEREO CAMERA"
MISSION_NAME = "MARS EXPRESS"
MISSION_PHASE_NAME = ME_Phase_36
PROCESSING_LEVEL_ID = 4
PRODUCT_CREATION_TIME = 2023-01-26T14:39:22.000Z
PRODUCT_ID = "HG728_0000_P24.TIF"
RELEASE_ID = 0001
REVISION_ID = 0000
/* QUALITY DATA ELEMENTS */
DATA_QUALITY_ID = 1
DATA_QUALITY_DESC = "Data calculated based on original SPICE kernels"
/* TIME DATA ELEMENTS */
SPACECRAFT_CLOCK_START_COUNT = "1/0437832433.07328"
SPACECRAFT_CLOCK_STOP_COUNT = "1/0437832717.63342"
START_TIME = 2017-03-17T12:07:31.812Z
STOP_TIME = 2017-03-17T12:11:10.553Z
/* ORBITAL DATA ELEMENTS */
ASCENDING_NODE_LONGITUDE = 259.72
MAXIMUM_RESOLUTION = 0.0273
FOOTPRINT_POINT_LATITUDE = (-28.8456,-28.8686,-28.8852,-28.8995, -28.8999,-28.8741,-28.5897,-28.1637, -27.8712,-27.5843,-27.2976,-26.8754, -26.4458,-26.1586,-25.8704,-25.5823, -25.2983,-25.0191,-24.7391,-24.4611, -24.0412,-23.6237,-23.3424,-23.063, -22.7811,-22.3615,-21.9391,-21.6551, -21.3784,-21.0975,-20.6757,-20.3942, -19.9737,-19.6919,-19.4102,-19.129, -18.6945,-18.4049,-18.1126,-17.8218, -17.3855,-16.9487,-16.6576,-16.2208, -15.9279,-15.6375,-15.3438,-15.0553, -14.7638,-14.618,-14.5929,-14.5752, -14.5526,-14.5282,-14.5276,-14.5277, -14.8217,-15.1135,-15.5491,-15.8408, -16.1355,-16.4262,-16.7172,-17.1538, -17.444,-17.7356,-18.0265,-18.3175, -18.7536,-19.0447,-19.3268,-19.6057, -19.8906,-20.1719,-20.5883,-20.8693, -21.291,-21.5719,-21.8531,-22.1348, -22.559,-22.8385,-23.1135,-23.5378, -23.9573,-24.3762,-24.6558,-25.0718, -25.4982,-25.931,-26.2198,-26.5052, -26.7934,-27.221,-27.5068,-27.9369, -28.3697,-28.6604,-28.8009,-28.8456)
FOOTPRINT_POINT_LONGITUDE = (84.9105,84.3856,83.9558,83.536,83.5231 ,83.527,83.5288,83.5309,83.5347,83.5365 ,83.538,83.5374,83.5386,83.5394,83.5403 ,83.541,83.5412,83.5416,83.542,83.5416, 83.5416,83.5405,83.5405,83.5397,83.5395 ,83.5379,83.5368,83.5367,83.5341, 83.5327,83.5305,83.5289,83.5257,83.5239 ,83.5219,83.5196,83.5156,83.5127, 83.5104,83.5075,83.5031,83.4985,83.4952 ,83.4902,83.4872,83.4834,83.4804, 83.4759,83.472,83.4701,83.4698,83.866, 84.3224,84.7311,84.7438,84.7485,84.7481 ,84.7504,84.7563,84.7587,84.7578, 84.7615,84.7649,84.77,84.7743,84.7771, 84.7807,84.7841,84.7898,84.7931,84.796, 84.8024,84.8018,84.8053,84.8172,84.821, 84.8263,84.83,84.8334,84.8359,84.8375, 84.8425,84.853,84.8539,84.8603,84.8672, 84.8713,84.8813,84.8843,84.8902,84.8934 ,84.9008,84.9045,84.9154,84.9216, 84.9284,84.9314,84.9302,84.9357, 84.9105)
ORBIT_NUMBER = 16728
ORBITAL_ECCENTRICITY = 0.579
ORBITAL_INCLINATION = 86.95
ORBITAL_SEMIMAJOR_AXIS = 8846.8
PERIAPSIS_ALTITUDE = 332.04
PERIAPSIS_ARGUMENT_ANGLE = 335.63
PERIAPSIS_TIME = 2017-03-17T12:09:02.000Z
SPACECRAFT_ORIENTATION = (0.0,1.0,0.0)
^MEX_ORIENTATION_DESC = "MEX_ORIENTATION_DESC.TXT"
SPACECRAFT_POINTING_MODE = ACROSSTRACK
^MEX_POINTING_DESC = "MEX_POINTING_DESC.TXT"
RIGHT_ASCENSION = -1e+32
DECLINATION = -1e+32
OFFSET_ANGLE = -0.95
SPACECRAFT_SOLAR_DISTANCE = 2.23536e+08
TARGET_NAME = MARS
/* CAMERA DATA ELEMENTS */
DETECTOR_TEMPERATURE = 18.5744
FOCAL_PLANE_TEMPERATURE = 8.5833
INST_CMPRS_NAME = "DISCRETE COSINE TRANSFORMATION (DCT)"
INST_CMPRS_RATIO = 8.40851
INST_CMPRS_QUALITY = 0
INST_CMPRS_QUANTZ_TBL_ID = 0
INSTRUMENT_TEMPERATURE = 11.8457
LENS_TEMPERATURE = 8.7872
MACROPIXEL_SIZE = 2
MISSING_FRAMES = 0
PIXEL_SUBSAMPLING_FLAG = N
SIGNAL_CHAIN_ID = 3
/* RADIOMETRIC DATA ELEMENTS */
BANDWIDTH = 177.0
CENTER_FILTER_WAVELENGTH = 676.5
RADIANCE_OFFSET = 3.04273
RADIANCE_SCALING_FACTOR = 0.0109902
REFLECTANCE_SCALING_FACTOR = 0.000291178
MEX:REFLECTANCE_OFFSET = 0.0806147
/* IMAGE OBJECT DEFINITIONS */
OBJECT = IMAGE
  INTERCHANGE_FORMAT = BINARY
  LINES = 33926
  LINE_SAMPLES = 3165
  SAMPLE_TYPE = UNSIGNED_INTEGER
  SAMPLE_BITS = 8
  BANDS = 1
  BAND_STORAGE_TYPE = BAND_SEQUENTIAL
  MAXIMUM = 255
  MEAN = 120.629
  MINIMUM = 1
  STANDARD_DEVIATION = 29.1982
END_OBJECT = IMAGE
/* MAP OBJECT DEFINITIONS */
OBJECT = IMAGE_MAP_PROJECTION
  ^DATA_SET_MAP_PROJECTION_CATALOG= "DSMAP.CAT"
  A_AXIS_RADIUS = 3396.0
  B_AXIS_RADIUS = 3396.0
  C_AXIS_RADIUS = 3396.0
  CENTER_LATITUDE = 0.0
  CENTER_LONGITUDE = 84.0
  COORDINATE_SYSTEM_NAME = PLANETOGRAPHIC
  COORDINATE_SYSTEM_TYPE = "BODY-FIXED ROTATING"
  EASTERNMOST_LONGITUDE = 84.9357
  FIRST_STANDARD_PARALLEL = "N/A"
  LINE_FIRST_PIXEL = 1
  LINE_LAST_PIXEL = 33926
  LINE_PROJECTION_OFFSET = -34466.25
  MAP_PROJECTION_ROTATION = 0.0
  MAP_PROJECTION_TYPE = SINUSOIDAL
  MAP_RESOLUTION = 2370.85521546667
  MAP_SCALE = 0.025
  MAXIMUM_LATITUDE = -14.5276
  MINIMUM_LATITUDE = -28.8999
  POSITIVE_LONGITUDE_DIRECTION = EAST
  REFERENCE_LATITUDE = "N/A"
  REFERENCE_LONGITUDE = "N/A"
  SAMPLE_FIRST_PIXEL = 1
  SAMPLE_LAST_PIXEL = 3165
  SAMPLE_PROJECTION_OFFSET = 1237.75
  SECOND_STANDARD_PARALLEL = "N/A"
  WESTERNMOST_LONGITUDE = 83.46980000000001
END_OBJECT = IMAGE_MAP_PROJECTION
END
