PDS_VERSION_ID = PDS3
/* FILE DATA ELEMENTS */
RECORD_TYPE = UNDEFINED
/* POINTERS TO DATA OBJECTS */
^IMAGE = ("HG728_0001_GR4.TIF")
/* IDENTIFICATION DATA ELEMENTS */
DATA_SET_ID = "MEX-M-HRSC-4-REFDR-MAPPROJECT-EXT6-V4.0"
DATA_SET_NAME = "MARS EXPRESS HRSC MAP PROJECTED REFDR EXTENSION6 V4.0"
DETECTOR_ID = MEX_HRSC_GREEN
EVENT_TYPE = "MARS-REGIONAL-MAPPING-Vo-Im-Fl"
INSTRUMENT_HOST_ID = MEX
INSTRUMENT_HOST_NAME = "MARS EXPRESS"
INSTRUMENT_ID = HRSC
INSTRUMENT_NAME = "HIGH RESOLUTION STEREO CAMERA"
MISSION_NAME = "MARS EXPRESS"
MISSION_PHASE_NAME = ME_Phase_36
PROCESSING_LEVEL_ID = 4
PRODUCT_CREATION_TIME = 2023-01-26T14:39:22.000Z
PRODUCT_ID = "HG728_0001_GR4.TIF"
RELEASE_ID = 0001
REVISION_ID = 0000
/* QUALITY DATA ELEMENTS */
DATA_QUALITY_ID = 1
DATA_QUALITY_DESC = "Data calculated based on original SPICE kernels"
/* TIME DATA ELEMENTS */
SPACECRAFT_CLOCK_START_COUNT = "1/0437832866.09037"
SPACECRAFT_CLOCK_STOP_COUNT = "1/0437833024.06728"
START_TIME = 2017-03-17T12:15:22.019Z
STOP_TIME = 2017-03-17T12:16:25.819Z
/* ORBITAL DATA ELEMENTS */
ASCENDING_NODE_LONGITUDE = 259.72
MAXIMUM_RESOLUTION = 0.0723
FOOTPRINT_POINT_LATITUDE = (-0.38337,-0.383998,-0.384508,-0.385002 ,-0.385521,-0.386055,-0.38658,-0.387111 ,-0.387652,-0.388203,-0.38876,-0.389322 ,-0.389921,-0.390511,-0.390587, -0.388274,-0.209038,-0.0283553,0.155447 ,0.302174,0.447941,0.630118,0.739625, 0.887304,1.07467,1.22371,1.37176, 1.48264,1.63106,1.74435,1.82027,1.89634 ,2.04733,2.16055,2.23616,2.31177, 2.38735,2.46298,2.57791,2.6557,2.73302, 2.80945,2.88664,2.96318,3.07781,3.15453 ,3.23128,3.30805,3.38632,3.42554, 3.43487,3.43582,3.43686,3.43787,3.43832 ,3.43896,3.43935,3.43986,3.44033, 3.44073,3.44127,3.44197,3.4426,3.44304, 3.4431,3.44193,3.36348,3.24742,3.17072, 3.09396,2.97866,2.90173,2.82489,2.74795 ,2.67082,2.59416,2.51674,2.44114, 2.32769,2.25204,2.13851,2.06285,1.91198 ,1.83603,1.76017,1.61008,1.49834, 1.31218,1.1264,0.977351,0.828118, 0.68207,0.498959,0.3163,0.206526, 0.0607151,-0.121661,-0.337041,-0.372965 ,-0.38337)
FOOTPRINT_POINT_LONGITUDE = (84.7543,84.5999,84.4771,84.355,84.2334 ,84.1122,83.9918,83.872,83.7527,83.634, 83.5158,83.3981,83.2807,83.1638,83.1493 ,83.145,83.1396,83.134,83.1281,83.1234, 83.119,83.1135,83.11,83.1052,83.0989, 83.0941,83.0895,83.0861,83.0813,83.0774 ,83.0749,83.0723,83.0675,83.0638, 83.0613,83.0587,83.0562,83.0536,83.0496 ,83.0468,83.0441,83.0417,83.039,83.0365 ,83.0327,83.03,83.0274,83.0247,83.022, 83.0206,83.0203,83.1965,83.375,83.5543, 83.6526,83.7842,83.8667,83.9826,84.0993 ,84.1827,84.2999,84.4508,84.6371, 84.7735,84.7905,84.7962,84.7954,84.7937 ,84.7921,84.7905,84.7886,84.7874, 84.7856,84.784,84.7832,84.78,84.7805, 84.7798,84.7787,84.7778,84.7765,84.7753 ,84.7703,84.7698,84.7689,84.7677, 84.7676,84.7665,84.7626,84.7608,84.7592 ,84.7579,84.7581,84.7552,84.7539,84.749 ,84.7476,84.7465,84.7463,84.7543)
ORBIT_NUMBER = 16728
ORBITAL_ECCENTRICITY = 0.579
ORBITAL_INCLINATION = 86.95
ORBITAL_SEMIMAJOR_AXIS = 8846.8
PERIAPSIS_ALTITUDE = 332.04
PERIAPSIS_ARGUMENT_ANGLE = 335.63
PERIAPSIS_TIME = 2017-03-17T12:09:02.000Z
SPACECRAFT_ORIENTATION = (0.0,1.0,0.0)
^MEX_ORIENTATION_DESC = "MEX_ORIENTATION_DESC.TXT"
SPACECRAFT_POINTING_MODE = ACROSSTRACK
^MEX_POINTING_DESC = "MEX_POINTING_DESC.TXT"
RIGHT_ASCENSION = -1e+32
DECLINATION = -1e+32
OFFSET_ANGLE = -0.95
SPACECRAFT_SOLAR_DISTANCE = 2.23536e+08
TARGET_NAME = MARS
/* CAMERA DATA ELEMENTS */
DETECTOR_TEMPERATURE = 19.7978
FOCAL_PLANE_TEMPERATURE = 8.7872
INST_CMPRS_NAME = "DISCRETE COSINE TRANSFORMATION (DCT)"
INST_CMPRS_RATIO = 10.9285
INST_CMPRS_QUALITY = 0
INST_CMPRS_QUANTZ_TBL_ID = 0
INSTRUMENT_TEMPERATURE = 13.4769
LENS_TEMPERATURE = 9.6028
MACROPIXEL_SIZE = 4
MISSING_FRAMES = 0
PIXEL_SUBSAMPLING_FLAG = N
SIGNAL_CHAIN_ID = 2
/* RADIOMETRIC DATA ELEMENTS */
BANDWIDTH = 88.0
CENTER_FILTER_WAVELENGTH = 538.0
RADIANCE_OFFSET = 1.29028
RADIANCE_SCALING_FACTOR = 0.00306825
REFLECTANCE_SCALING_FACTOR = 0.000132001
MEX:REFLECTANCE_OFFSET = 0.0555099
/* IMAGE OBJECT DEFINITIONS */
OBJECT = IMAGE
  INTERCHANGE_FORMAT = BINARY
  LINES = 4572
  LINE_SAMPLES = 2088
  SAMPLE_TYPE = UNSIGNED_INTEGER
  SAMPLE_BITS = 8
  BANDS = 1
  BAND_STORAGE_TYPE = BAND_SEQUENTIAL
  MAXIMUM = 255
  MEAN = 157.237
  MINIMUM = 1
  STANDARD_DEVIATION = 23.9278
END_OBJECT = IMAGE
/* MAP OBJECT DEFINITIONS */
OBJECT = IMAGE_MAP_PROJECTION
  ^DATA_SET_MAP_PROJECTION_CATALOG= "DSMAP.CAT"
  A_AXIS_RADIUS = 3396.0
  B_AXIS_RADIUS = 3396.0
  C_AXIS_RADIUS = 3396.0
  CENTER_LATITUDE = 0.0
  CENTER_LONGITUDE = 84.0
  COORDINATE_SYSTEM_NAME = PLANETOGRAPHIC
  COORDINATE_SYSTEM_TYPE = "BODY-FIXED ROTATING"
  EASTERNMOST_LONGITUDE = 84.7962
  FIRST_STANDARD_PARALLEL = "N/A"
  LINE_FIRST_PIXEL = 1
  LINE_LAST_PIXEL = 4572
  LINE_PROJECTION_OFFSET = 4094.625
  MAP_PROJECTION_ROTATION = 0.0
  MAP_PROJECTION_TYPE = SINUSOIDAL
  MAP_RESOLUTION = 1185.42760773333
  MAP_SCALE = 0.05
  MAXIMUM_LATITUDE = 3.4431
  MINIMUM_LATITUDE = -0.390587
  POSITIVE_LONGITUDE_DIRECTION = EAST
  REFERENCE_LATITUDE = "N/A"
  REFERENCE_LONGITUDE = "N/A"
  SAMPLE_FIRST_PIXEL = 1
  SAMPLE_LAST_PIXEL = 2088
  SAMPLE_PROJECTION_OFFSET = 1157.375
  SECOND_STANDARD_PARALLEL = "N/A"
  WESTERNMOST_LONGITUDE = 83.02030000000001
END_OBJECT = IMAGE_MAP_PROJECTION
END
