PDS_VERSION_ID = PDS3
/* FILE DATA ELEMENTS */
RECORD_TYPE = UNDEFINED
/* POINTERS TO DATA OBJECTS */
^IMAGE = ("HG728_0001_S24.TIF")
/* IDENTIFICATION DATA ELEMENTS */
DATA_SET_ID = "MEX-M-HRSC-4-REFDR-MAPPROJECT-EXT6-V4.0"
DATA_SET_NAME = "MARS EXPRESS HRSC MAP PROJECTED REFDR EXTENSION6 V4.0"
DETECTOR_ID = MEX_HRSC_S2
EVENT_TYPE = "MARS-REGIONAL-MAPPING-Vo-Im-Fl"
INSTRUMENT_HOST_ID = MEX
INSTRUMENT_HOST_NAME = "MARS EXPRESS"
INSTRUMENT_ID = HRSC
INSTRUMENT_NAME = "HIGH RESOLUTION STEREO CAMERA"
MISSION_NAME = "MARS EXPRESS"
MISSION_PHASE_NAME = ME_Phase_36
PROCESSING_LEVEL_ID = 4
PRODUCT_CREATION_TIME = 2023-01-26T14:39:22.000Z
PRODUCT_ID = "HG728_0001_S24.TIF"
RELEASE_ID = 0001
REVISION_ID = 0000
/* QUALITY DATA ELEMENTS */
DATA_QUALITY_ID = 1
DATA_QUALITY_DESC = "Data calculated based on original SPICE kernels"
/* TIME DATA ELEMENTS */
SPACECRAFT_CLOCK_START_COUNT = "1/0437832866.09037"
SPACECRAFT_CLOCK_STOP_COUNT = "1/0437833024.06728"
START_TIME = 2017-03-17T12:14:34.127Z
STOP_TIME = 2017-03-17T12:15:32.757Z
/* ORBITAL DATA ELEMENTS */
ASCENDING_NODE_LONGITUDE = 259.72
MAXIMUM_RESOLUTION = 0.0361
FOOTPRINT_POINT_LATITUDE = (-0.33169,-0.338166,-0.346678,-0.355054 ,-0.363279,-0.37136,-0.379284,-0.387059 ,-0.394654,-0.402107,-0.409434,-0.41665 ,-0.423737,-0.430708,-0.431573, -0.444771,-0.293677,-0.145886,0.0405353 ,0.261471,0.450714,0.568313,0.718519, 0.830341,1.05321,1.20245,1.32574, 1.40621,1.56127,1.71548,1.82912,1.98226 ,2.10067,2.17995,2.25866,2.33718, 2.41542,2.49348,2.57133,2.72536,2.803, 2.92075,3.04394,3.12749,3.20861,3.28922 ,3.36967,3.40961,3.4108,3.42226,3.42768 ,3.4356,3.44726,3.45348,3.45892,3.46856 ,3.47608,3.4845,3.4892,3.49388,3.50852, 3.51874,3.52099,3.52212,3.52193,3.4017, 3.32153,3.1999,3.11894,3.03958,2.96038, 2.88084,2.80166,2.72147,2.60196,2.52242 ,2.36655,2.28806,2.20948,2.13085,2.0533 ,1.97421,1.8539,1.74102,1.58886,1.43594 ,1.24135,1.16289,1.04709,0.896284, 0.746968,0.597715,0.40989,0.257685, 0.0660556,-0.085564,-0.199318,-0.309573 ,-0.346163,-0.33169)
FOOTPRINT_POINT_LONGITUDE = (84.7204,84.6285,84.5067,84.3855, 84.2649,84.145,84.0257,83.907,83.7891, 83.6718,83.555,83.4387,83.3229,83.2076, 83.1932,83.1877,83.184,83.1799,83.1746, 83.168,83.1628,83.16,83.1557,83.1525, 83.1456,83.1409,83.1381,83.136,83.1316, 83.1271,83.1236,83.1191,83.1157,83.1133 ,83.111,83.1086,83.1062,83.1038,83.1014 ,83.0965,83.0941,83.0905,83.0871, 83.0847,83.0823,83.0798,83.0773,83.076, 83.076,83.2172,83.3592,83.5177,83.6146, 83.6951,83.7755,83.921,84.0349,84.1655, 84.2472,84.3449,84.4962,84.63,84.7275, 84.7442,84.7503,84.7494,84.7488,84.7471 ,84.7457,84.7445,84.7435,84.7423, 84.7413,84.7396,84.7377,84.7365,84.7363 ,84.7358,84.7353,84.7347,84.7338, 84.7318,84.7278,84.7286,84.7286,84.7282 ,84.7256,84.7242,84.7231,84.7219, 84.7216,84.7215,84.7206,84.7186,84.7154 ,84.7139,84.711,84.7104,84.7103, 84.7204)
ORBIT_NUMBER = 16728
ORBITAL_ECCENTRICITY = 0.579
ORBITAL_INCLINATION = 86.95
ORBITAL_SEMIMAJOR_AXIS = 8846.8
PERIAPSIS_ALTITUDE = 332.04
PERIAPSIS_ARGUMENT_ANGLE = 335.63
PERIAPSIS_TIME = 2017-03-17T12:09:02.000Z
SPACECRAFT_ORIENTATION = (0.0,1.0,0.0)
^MEX_ORIENTATION_DESC = "MEX_ORIENTATION_DESC.TXT"
SPACECRAFT_POINTING_MODE = ACROSSTRACK
^MEX_POINTING_DESC = "MEX_POINTING_DESC.TXT"
RIGHT_ASCENSION = -1e+32
DECLINATION = -1e+32
OFFSET_ANGLE = -0.95
SPACECRAFT_SOLAR_DISTANCE = 2.23536e+08
TARGET_NAME = MARS
/* CAMERA DATA ELEMENTS */
DETECTOR_TEMPERATURE = 20.6134
FOCAL_PLANE_TEMPERATURE = 8.7872
INST_CMPRS_NAME = "DISCRETE COSINE TRANSFORMATION (DCT)"
INST_CMPRS_RATIO = 12.0761
INST_CMPRS_QUALITY = 0
INST_CMPRS_QUANTZ_TBL_ID = 0
INSTRUMENT_TEMPERATURE = 13.4769
LENS_TEMPERATURE = 9.6028
MACROPIXEL_SIZE = 2
MISSING_FRAMES = 0
PIXEL_SUBSAMPLING_FLAG = N
SIGNAL_CHAIN_ID = 1
/* RADIOMETRIC DATA ELEMENTS */
BANDWIDTH = 178.0
CENTER_FILTER_WAVELENGTH = 679.0
RADIANCE_OFFSET = 3.96451
RADIANCE_SCALING_FACTOR = 0.0118547
REFLECTANCE_SCALING_FACTOR = 0.0003137
MEX:REFLECTANCE_OFFSET = 0.10491
/* IMAGE OBJECT DEFINITIONS */
OBJECT = IMAGE
  INTERCHANGE_FORMAT = BINARY
  LINES = 9144
  LINE_SAMPLES = 4176
  SAMPLE_TYPE = UNSIGNED_INTEGER
  SAMPLE_BITS = 8
  BANDS = 1
  BAND_STORAGE_TYPE = BAND_SEQUENTIAL
  MAXIMUM = 255
  MEAN = 125.077
  MINIMUM = 1
  STANDARD_DEVIATION = 23.2878
END_OBJECT = IMAGE
/* MAP OBJECT DEFINITIONS */
OBJECT = IMAGE_MAP_PROJECTION
  ^DATA_SET_MAP_PROJECTION_CATALOG= "DSMAP.CAT"
  A_AXIS_RADIUS = 3396.0
  B_AXIS_RADIUS = 3396.0
  C_AXIS_RADIUS = 3396.0
  CENTER_LATITUDE = 0.0
  CENTER_LONGITUDE = 84.0
  COORDINATE_SYSTEM_NAME = PLANETOGRAPHIC
  COORDINATE_SYSTEM_TYPE = "BODY-FIXED ROTATING"
  EASTERNMOST_LONGITUDE = 84.7503
  FIRST_STANDARD_PARALLEL = "N/A"
  LINE_FIRST_PIXEL = 1
  LINE_LAST_PIXEL = 9144
  LINE_PROJECTION_OFFSET = 8189.75
  MAP_PROJECTION_ROTATION = 0.0
  MAP_PROJECTION_TYPE = SINUSOIDAL
  MAP_RESOLUTION = 2370.85521546667
  MAP_SCALE = 0.025
  MAXIMUM_LATITUDE = 3.52212
  MINIMUM_LATITUDE = -0.444771
  POSITIVE_LONGITUDE_DIRECTION = EAST
  REFERENCE_LATITUDE = "N/A"
  REFERENCE_LONGITUDE = "N/A"
  SAMPLE_FIRST_PIXEL = 1
  SAMPLE_LAST_PIXEL = 4176
  SAMPLE_PROJECTION_OFFSET = 2315.25
  SECOND_STANDARD_PARALLEL = "N/A"
  WESTERNMOST_LONGITUDE = 83.07599999999999
END_OBJECT = IMAGE_MAP_PROJECTION
END
