PDS_VERSION_ID = PDS3
/* FILE DATA ELEMENTS */
RECORD_TYPE = UNDEFINED
/* POINTERS TO DATA OBJECTS */
^IMAGE = ("HG733_0000_S14.TIF")
/* IDENTIFICATION DATA ELEMENTS */
DATA_SET_ID = "MEX-M-HRSC-4-REFDR-MAPPROJECT-EXT6-V4.0"
DATA_SET_NAME = "MARS EXPRESS HRSC MAP PROJECTED REFDR EXTENSION6 V4.0"
DETECTOR_ID = MEX_HRSC_S1
EVENT_TYPE = "MARS-REGIONAL-STEREO-Vo-Te-La"
INSTRUMENT_HOST_ID = MEX
INSTRUMENT_HOST_NAME = "MARS EXPRESS"
INSTRUMENT_ID = HRSC
INSTRUMENT_NAME = "HIGH RESOLUTION STEREO CAMERA"
MISSION_NAME = "MARS EXPRESS"
MISSION_PHASE_NAME = ME_Phase_36
PROCESSING_LEVEL_ID = 4
PRODUCT_CREATION_TIME = 2023-01-26T14:39:22.000Z
PRODUCT_ID = "HG733_0000_S14.TIF"
RELEASE_ID = 0001
REVISION_ID = 0000
/* QUALITY DATA ELEMENTS */
DATA_QUALITY_ID = 1
DATA_QUALITY_DESC = "Data calculated based on original SPICE kernels"
/* TIME DATA ELEMENTS */
SPACECRAFT_CLOCK_START_COUNT = "1/0437958578.09028"
SPACECRAFT_CLOCK_STOP_COUNT = "1/0437958756.30850"
START_TIME = 2017-03-18T23:10:49.746Z
STOP_TIME = 2017-03-18T23:12:42.459Z
/* ORBITAL DATA ELEMENTS */
ASCENDING_NODE_LONGITUDE = 259.63
MAXIMUM_RESOLUTION = 0.0302
FOOTPRINT_POINT_LATITUDE = (-15.2835,-15.2902,-15.2968,-15.3036, -15.3104,-15.3174,-15.3271,-15.3275, -15.3118,-15.188,-15.064,-14.9401, -14.8165,-14.6312,-14.4461,-14.1995, -14.0152,-13.7701,-13.5431,-13.415, -13.2041,-13.0612,-12.914,-12.7637, -12.6175,-12.4075,-12.1925,-12.0493, -11.9051,-11.7599,-11.5423,-11.325, -11.1802,-11.0349,-10.8186,-10.6738, -10.5303,-10.3083,-10.1604,-10.0067, -9.77215,-9.62705,-9.47017,-9.32717, -9.18477,-9.04226,-8.89959,-8.75667, -8.5424,-8.47014,-8.39918,-8.38447, -8.37611,-8.36804,-8.36299,-8.35191, -8.34434,-8.34386,-8.34417,-8.55747, -8.69968,-8.84406,-9.0591,-9.20046, -9.34334,-9.48727,-9.63054,-9.84665, -9.99068,-10.1442,-10.3035,-10.4443, -10.5966,-10.8284,-10.98,-11.1256, -11.2715,-11.4891,-11.6341,-11.8532, -11.9958,-12.1404,-12.2655,-12.4137, -12.6398,-12.7898,-13.0122,-13.1569, -13.2957,-13.5011,-13.7222,-13.9689, -14.0924,-14.2772,-14.4624,-14.7096, -14.9581,-15.144,-15.206,-15.2835)
FOOTPRINT_POINT_LONGITUDE = (291.679,291.479,291.278,291.076, 290.872,290.667,290.383,290.37,290.375, 290.373,290.372,290.371,290.37,290.368, 290.366,290.363,290.361,290.357,290.344 ,290.336,290.328,290.325,290.323, 290.324,290.322,290.314,290.31,290.306, 290.304,290.302,290.298,290.295,290.293 ,290.291,290.288,290.286,290.283, 290.283,290.282,290.285,290.292,290.29, 290.295,290.292,290.289,290.286,290.284 ,290.281,290.277,290.276,290.275, 290.572,290.795,291.016,291.154,291.47, 291.688,291.701,291.706,291.705,291.704 ,291.704,291.703,291.702,291.701, 291.701,291.7,291.699,291.698,291.699, 291.699,291.698,291.699,291.699,291.699 ,291.698,291.698,291.697,291.696, 291.695,291.694,291.694,291.691,291.691 ,291.691,291.69,291.69,291.689,291.688, 291.686,291.684,291.683,291.682,291.681 ,291.681,291.68,291.679,291.678,291.678 ,291.679)
ORBIT_NUMBER = 16733
ORBITAL_ECCENTRICITY = 0.579
ORBITAL_INCLINATION = 86.93
ORBITAL_SEMIMAJOR_AXIS = 8844.47
PERIAPSIS_ALTITUDE = 332.55
PERIAPSIS_ARGUMENT_ANGLE = 334.81
PERIAPSIS_TIME = 2017-03-18T23:07:47.000Z
SPACECRAFT_ORIENTATION = (0.0,1.0,0.0)
^MEX_ORIENTATION_DESC = "MEX_ORIENTATION_DESC.TXT"
SPACECRAFT_POINTING_MODE = ACROSSTRACK
^MEX_POINTING_DESC = "MEX_POINTING_DESC.TXT"
RIGHT_ASCENSION = -1e+32
DECLINATION = -1e+32
OFFSET_ANGLE = 0.5
SPACECRAFT_SOLAR_DISTANCE = 2.23819e+08
TARGET_NAME = MARS
/* CAMERA DATA ELEMENTS */
DETECTOR_TEMPERATURE = 17.7588
FOCAL_PLANE_TEMPERATURE = 8.7872
INST_CMPRS_NAME = "DISCRETE COSINE TRANSFORMATION (DCT)"
INST_CMPRS_RATIO = 12.1259
INST_CMPRS_QUALITY = 0
INST_CMPRS_QUANTZ_TBL_ID = 0
INSTRUMENT_TEMPERATURE = 11.4379
LENS_TEMPERATURE = 9.8067
MACROPIXEL_SIZE = 2
MISSING_FRAMES = 0
PIXEL_SUBSAMPLING_FLAG = N
SIGNAL_CHAIN_ID = 1
/* RADIOMETRIC DATA ELEMENTS */
BANDWIDTH = 180.0
CENTER_FILTER_WAVELENGTH = 677.0
RADIANCE_OFFSET = 3.18601
RADIANCE_SCALING_FACTOR = 0.0278379
REFLECTANCE_SCALING_FACTOR = 0.000727571
MEX:REFLECTANCE_OFFSET = 0.0832696
/* IMAGE OBJECT DEFINITIONS */
OBJECT = IMAGE
  INTERCHANGE_FORMAT = BINARY
  LINES = 16441
  LINE_SAMPLES = 3201
  SAMPLE_TYPE = UNSIGNED_INTEGER
  SAMPLE_BITS = 8
  BANDS = 1
  BAND_STORAGE_TYPE = BAND_SEQUENTIAL
  MAXIMUM = 255
  MEAN = 94.1701
  MINIMUM = 1
  STANDARD_DEVIATION = 31.4929
END_OBJECT = IMAGE
/* MAP OBJECT DEFINITIONS */
OBJECT = IMAGE_MAP_PROJECTION
  ^DATA_SET_MAP_PROJECTION_CATALOG= "DSMAP.CAT"
  A_AXIS_RADIUS = 3396.0
  B_AXIS_RADIUS = 3396.0
  C_AXIS_RADIUS = 3396.0
  CENTER_LATITUDE = 0.0
  CENTER_LONGITUDE = 291.0
  COORDINATE_SYSTEM_NAME = PLANETOGRAPHIC
  COORDINATE_SYSTEM_TYPE = "BODY-FIXED ROTATING"
  EASTERNMOST_LONGITUDE = 291.706
  FIRST_STANDARD_PARALLEL = "N/A"
  LINE_FIRST_PIXEL = 1
  LINE_LAST_PIXEL = 16441
  LINE_PROJECTION_OFFSET = -19889.25
  MAP_PROJECTION_ROTATION = 0.0
  MAP_PROJECTION_TYPE = SINUSOIDAL
  MAP_RESOLUTION = 2370.85521546667
  MAP_SCALE = 0.025
  MAXIMUM_LATITUDE = -8.343859999999999
  MINIMUM_LATITUDE = -15.3275
  POSITIVE_LONGITUDE_DIRECTION = EAST
  REFERENCE_LATITUDE = "N/A"
  REFERENCE_LONGITUDE = "N/A"
  SAMPLE_FIRST_PIXEL = 1
  SAMPLE_LAST_PIXEL = 3201
  SAMPLE_PROJECTION_OFFSET = 1619.25
  SECOND_STANDARD_PARALLEL = "N/A"
  WESTERNMOST_LONGITUDE = 290.275
END_OBJECT = IMAGE_MAP_PROJECTION
END
