PDS_VERSION_ID = PDS3
/* FILE DATA ELEMENTS */
RECORD_TYPE = UNDEFINED
/* POINTERS TO DATA OBJECTS */
^IMAGE = ("HG748_0000_P14.TIF")
/* IDENTIFICATION DATA ELEMENTS */
DATA_SET_ID = "MEX-M-HRSC-4-REFDR-MAPPROJECT-EXT6-V4.0"
DATA_SET_NAME = "MARS EXPRESS HRSC MAP PROJECTED REFDR EXTENSION6 V4.0"
DETECTOR_ID = MEX_HRSC_P1
EVENT_TYPE = "MARS-REGIONAL-MAPPING-Im-Fl"
INSTRUMENT_HOST_ID = MEX
INSTRUMENT_HOST_NAME = "MARS EXPRESS"
INSTRUMENT_ID = HRSC
INSTRUMENT_NAME = "HIGH RESOLUTION STEREO CAMERA"
MISSION_NAME = "MARS EXPRESS"
MISSION_PHASE_NAME = ME_Phase_36
PROCESSING_LEVEL_ID = 4
PRODUCT_CREATION_TIME = 2023-01-26T14:39:22.000Z
PRODUCT_ID = "HG748_0000_P14.TIF"
RELEASE_ID = 0001
REVISION_ID = 0000
/* QUALITY DATA ELEMENTS */
DATA_QUALITY_ID = 1
DATA_QUALITY_DESC = "Data calculated based on original SPICE kernels"
/* TIME DATA ELEMENTS */
SPACECRAFT_CLOCK_START_COUNT = "1/0438336333.07323"
SPACECRAFT_CLOCK_STOP_COUNT = "1/0438336511.13496"
START_TIME = 2017-03-23T08:06:32.491Z
STOP_TIME = 2017-03-23T08:08:24.462Z
/* ORBITAL DATA ELEMENTS */
ASCENDING_NODE_LONGITUDE = 259.35
MAXIMUM_RESOLUTION = 0.029
FOOTPRINT_POINT_LATITUDE = (-18.6251,-18.6268,-18.6275,-18.628, -18.6286,-18.6292,-18.6296,-18.6296, -18.6434,-18.513,-18.3827,-18.2524, -18.1222,-17.9269,-17.7968,-17.6664, -17.5345,-17.3382,-17.2074,-16.9487, -16.8192,-16.6899,-16.4313,-16.1728, -15.9146,-15.6565,-15.4004,-15.0779, -14.9364,-14.7843,-14.5556,-14.3272, -14.1746,-14.0224,-13.8704,-13.7181, -13.5662,-13.4142,-13.1863,-13.0345, -12.8829,-12.6554,-12.504,-12.3526, -12.2018,-11.9757,-11.7494,-11.6744, -11.6304,-11.6306,-11.6268,-11.6257, -11.6245,-11.6232,-11.6212,-11.6201, -11.62,-11.6204,-11.7705,-11.921, -12.0713,-12.2979,-12.4491,-12.6779, -12.8306,-12.9799,-13.2076,-13.36, -13.5122,-13.6644,-13.8165,-14.0448, -14.1973,-14.35,-14.5023,-14.6537, -14.8064,-14.9594,-15.0959,-15.3528, -15.611,-15.8698,-16.1285,-16.2582, -16.5171,-16.6466,-16.7762,-16.9058, -17.1647,-17.2947,-17.4897,-17.6849, -17.815,-17.9453,-18.0756,-18.206, -18.4016,-18.5321,-18.5973,-18.6251)
FOOTPRINT_POINT_LONGITUDE = (197.574,197.186,196.999,196.861, 196.661,196.461,196.298,196.286,196.274 ,196.274,196.273,196.272,196.271, 196.269,196.268,196.267,196.267,196.266 ,196.265,196.262,196.261,196.26,196.257 ,196.254,196.251,196.248,196.244, 196.241,196.239,196.236,196.233,196.229 ,196.227,196.224,196.222,196.219, 196.217,196.214,196.211,196.208,196.206 ,196.202,196.199,196.197,196.194,196.19 ,196.186,196.184,196.184,196.374, 196.565,196.715,196.879,197.18,197.412, 197.576,197.589,197.594,197.594,197.593 ,197.592,197.592,197.591,197.591, 197.592,197.59,197.589,197.589,197.589, 197.588,197.588,197.587,197.587,197.586 ,197.586,197.585,197.584,197.584, 197.583,197.583,197.583,197.583,197.583 ,197.582,197.582,197.582,197.582, 197.582,197.581,197.581,197.581,197.581 ,197.58,197.58,197.58,197.58,197.58, 197.58,197.58,197.574)
ORBIT_NUMBER = 16748
ORBITAL_ECCENTRICITY = 0.579
ORBITAL_INCLINATION = 86.95
ORBITAL_SEMIMAJOR_AXIS = 8835.3
PERIAPSIS_ALTITUDE = 331.92
PERIAPSIS_ARGUMENT_ANGLE = 332.23
PERIAPSIS_TIME = 2017-03-23T08:03:53.000Z
SPACECRAFT_ORIENTATION = (0.0,1.0,0.0)
^MEX_ORIENTATION_DESC = "MEX_ORIENTATION_DESC.TXT"
SPACECRAFT_POINTING_MODE = NADIR
^MEX_POINTING_DESC = "MEX_POINTING_DESC.TXT"
RIGHT_ASCENSION = -1e+32
DECLINATION = -1e+32
OFFSET_ANGLE = -1e+32
SPACECRAFT_SOLAR_DISTANCE = 2.24673e+08
TARGET_NAME = MARS
/* CAMERA DATA ELEMENTS */
DETECTOR_TEMPERATURE = 17.7588
FOCAL_PLANE_TEMPERATURE = 8.3794
INST_CMPRS_NAME = "DISCRETE COSINE TRANSFORMATION (DCT)"
INST_CMPRS_RATIO = 11.071
INST_CMPRS_QUALITY = 0
INST_CMPRS_QUANTZ_TBL_ID = 0
INSTRUMENT_TEMPERATURE = 11.4379
LENS_TEMPERATURE = 10.0106
MACROPIXEL_SIZE = 2
MISSING_FRAMES = 0
PIXEL_SUBSAMPLING_FLAG = N
SIGNAL_CHAIN_ID = 3
/* RADIOMETRIC DATA ELEMENTS */
BANDWIDTH = 174.0
CENTER_FILTER_WAVELENGTH = 675.0
RADIANCE_OFFSET = 5.28664
RADIANCE_SCALING_FACTOR = 0.0150259
REFLECTANCE_SCALING_FACTOR = 0.000407968
MEX:REFLECTANCE_OFFSET = 0.143538
/* IMAGE OBJECT DEFINITIONS */
OBJECT = IMAGE
  INTERCHANGE_FORMAT = BINARY
  LINES = 16641
  LINE_SAMPLES = 3186
  SAMPLE_TYPE = UNSIGNED_INTEGER
  SAMPLE_BITS = 8
  BANDS = 1
  BAND_STORAGE_TYPE = BAND_SEQUENTIAL
  MAXIMUM = 255
  MEAN = 129.965
  MINIMUM = 1
  STANDARD_DEVIATION = 22.5943
END_OBJECT = IMAGE
/* MAP OBJECT DEFINITIONS */
OBJECT = IMAGE_MAP_PROJECTION
  ^DATA_SET_MAP_PROJECTION_CATALOG= "DSMAP.CAT"
  A_AXIS_RADIUS = 3396.0
  B_AXIS_RADIUS = 3396.0
  C_AXIS_RADIUS = 3396.0
  CENTER_LATITUDE = 0.0
  CENTER_LONGITUDE = 197.0
  COORDINATE_SYSTEM_NAME = PLANETOGRAPHIC
  COORDINATE_SYSTEM_TYPE = "BODY-FIXED ROTATING"
  EASTERNMOST_LONGITUDE = 197.594
  FIRST_STANDARD_PARALLEL = "N/A"
  LINE_FIRST_PIXEL = 1
  LINE_LAST_PIXEL = 16641
  LINE_PROJECTION_OFFSET = -27539.25
  MAP_PROJECTION_ROTATION = 0.0
  MAP_PROJECTION_TYPE = SINUSOIDAL
  MAP_RESOLUTION = 2370.85521546667
  MAP_SCALE = 0.025
  MAXIMUM_LATITUDE = -11.62
  MINIMUM_LATITUDE = -18.6434
  POSITIVE_LONGITUDE_DIRECTION = EAST
  REFERENCE_LATITUDE = "N/A"
  REFERENCE_LONGITUDE = "N/A"
  SAMPLE_FIRST_PIXEL = 1
  SAMPLE_LAST_PIXEL = 3186
  SAMPLE_PROJECTION_OFFSET = 1855.75
  SECOND_STANDARD_PARALLEL = "N/A"
  WESTERNMOST_LONGITUDE = 196.184
END_OBJECT = IMAGE_MAP_PROJECTION
END
