PDS_VERSION_ID = PDS3
/* FILE DATA ELEMENTS */
RECORD_TYPE = UNDEFINED
/* POINTERS TO DATA OBJECTS */
^IMAGE = ("HG753_0000_BL4.TIF")
/* IDENTIFICATION DATA ELEMENTS */
DATA_SET_ID = "MEX-M-HRSC-4-REFDR-MAPPROJECT-EXT6-V4.0"
DATA_SET_NAME = "MARS EXPRESS HRSC MAP PROJECTED REFDR EXTENSION6 V4.0"
DETECTOR_ID = MEX_HRSC_BLUE
EVENT_TYPE = "MARS-REGIONAL-MAPPING-Im-Fl-Gl"
INSTRUMENT_HOST_ID = MEX
INSTRUMENT_HOST_NAME = "MARS EXPRESS"
INSTRUMENT_ID = HRSC
INSTRUMENT_NAME = "HIGH RESOLUTION STEREO CAMERA"
MISSION_NAME = "MARS EXPRESS"
MISSION_PHASE_NAME = ME_Phase_36
PROCESSING_LEVEL_ID = 4
PRODUCT_CREATION_TIME = 2023-01-26T14:39:22.000Z
PRODUCT_ID = "HG753_0000_BL4.TIF"
RELEASE_ID = 0001
REVISION_ID = 0000
/* QUALITY DATA ELEMENTS */
DATA_QUALITY_ID = 1
DATA_QUALITY_DESC = "Data calculated based on original SPICE kernels"
/* TIME DATA ELEMENTS */
SPACECRAFT_CLOCK_START_COUNT = "1/0438461766.09039"
SPACECRAFT_CLOCK_STOP_COUNT = "1/0438462019.39436"
START_TIME = 2017-03-24T18:56:52.244Z
STOP_TIME = 2017-03-24T18:59:47.878Z
/* ORBITAL DATA ELEMENTS */
ASCENDING_NODE_LONGITUDE = 259.26
MAXIMUM_RESOLUTION = 0.0585
FOOTPRINT_POINT_LATITUDE = (-50.3738,-50.3754,-50.3748,-50.373, -50.37,-50.366,-50.3609,-50.3606, -50.3441,-49.9938,-49.7602,-49.5272, -49.2946,-49.0657,-48.8365,-48.6072, -48.2635,-48.039,-47.8143,-47.5894, -47.3636,-47.1384,-46.9184,-46.6982, -46.4777,-46.2572,-45.9264,-45.2803, -44.8482,-44.6309,-44.4143,-43.981, -43.7637,-43.4364,-43.2181,-43.0001, -42.7811,-42.5629,-42.3446,-42.126, -41.9077,-41.5786,-41.3591,-41.1395, -40.8105,-40.5908,-40.3709,-40.1507, -39.7151,-39.4371,-39.345,-39.3162, -39.3153,-39.3127,-39.3104,-39.3037, -39.3035,-39.3043,-39.6755,-39.9942, -40.3248,-40.5452,-40.8758,-41.0958, -41.3157,-41.5349,-41.7545,-42.0832, -42.3023,-42.5215,-42.7403,-43.0682, -43.2863,-43.5043,-43.831,-44.0488, -44.2662,-44.7,-45.1342,-45.4593, -45.8919,-46.1129,-46.3333,-46.5549, -46.8871,-47.1091,-47.3362,-47.562, -47.8988,-48.1244,-48.349,-48.5786, -48.8083,-49.1525,-49.5004,-49.7348, -49.9693,-50.2034,-50.3204,-50.3738)
FOOTPRINT_POINT_LONGITUDE = (47.6553,47.0512,46.6851,46.3231, 45.9655,45.6116,45.2612,45.2394,45.2534 ,45.2816,45.2996,45.3161,45.3338, 45.3504,45.3668,45.3827,45.406,45.421, 45.4357,45.4499,45.4649,45.4791,45.4924 ,45.5055,45.5183,45.5307,45.5488, 45.5819,45.6032,45.615,45.6253,45.6444, 45.6541,45.6699,45.6801,45.6892,45.6993 ,45.708,45.716,45.7243,45.7315,45.7441, 45.7521,45.7598,45.7699,45.7766,45.7833 ,45.7899,45.805,45.814,45.816,45.8166, 46.1703,46.7374,47.0733,47.5087,47.5254 ,47.531,47.534,47.5425,47.5508,47.5551, 47.5602,47.5645,47.569,47.5764,47.5804, 47.5883,47.5927,47.5954,47.5998,47.6062 ,47.6114,47.6169,47.6242,47.6282, 47.6331,47.6448,47.6504,47.6544,47.6611 ,47.661,47.6712,47.6732,47.6749,47.6712 ,47.6618,47.6673,47.6845,47.6872, 47.7014,47.7123,47.7207,47.7321,47.7353 ,47.7435,47.7495,47.7555,47.7584, 47.6553)
ORBIT_NUMBER = 16753
ORBITAL_ECCENTRICITY = 0.579
ORBITAL_INCLINATION = 86.94
ORBITAL_SEMIMAJOR_AXIS = 8840.39
PERIAPSIS_ALTITUDE = 331.67
PERIAPSIS_ARGUMENT_ANGLE = 331.39
PERIAPSIS_TIME = 2017-03-24T19:02:39.000Z
SPACECRAFT_ORIENTATION = (0.0,1.0,0.0)
^MEX_ORIENTATION_DESC = "MEX_ORIENTATION_DESC.TXT"
SPACECRAFT_POINTING_MODE = ACROSSTRACK
^MEX_POINTING_DESC = "MEX_POINTING_DESC.TXT"
RIGHT_ASCENSION = -1e+32
DECLINATION = -1e+32
OFFSET_ANGLE = -1.1
SPACECRAFT_SOLAR_DISTANCE = 2.24958e+08
TARGET_NAME = MARS
/* CAMERA DATA ELEMENTS */
DETECTOR_TEMPERATURE = 18.3705
FOCAL_PLANE_TEMPERATURE = 8.5833
INST_CMPRS_NAME = "DISCRETE COSINE TRANSFORMATION (DCT)"
INST_CMPRS_RATIO = 8.56336
INST_CMPRS_QUALITY = 0
INST_CMPRS_QUANTZ_TBL_ID = 0
INSTRUMENT_TEMPERATURE = 11.234
LENS_TEMPERATURE = 8.7872
MACROPIXEL_SIZE = 4
MISSING_FRAMES = 0
PIXEL_SUBSAMPLING_FLAG = N
SIGNAL_CHAIN_ID = 2
/* RADIOMETRIC DATA ELEMENTS */
BANDWIDTH = 76.0
CENTER_FILTER_WAVELENGTH = 444.0
RADIANCE_OFFSET = 0.606071
RADIANCE_SCALING_FACTOR = 0.000959421
REFLECTANCE_SCALING_FACTOR = 4.98843e-05
MEX:REFLECTANCE_OFFSET = 0.0315121
/* IMAGE OBJECT DEFINITIONS */
OBJECT = IMAGE
  INTERCHANGE_FORMAT = BINARY
  LINES = 13097
  LINE_SAMPLES = 1889
  SAMPLE_TYPE = UNSIGNED_INTEGER
  SAMPLE_BITS = 8
  BANDS = 1
  BAND_STORAGE_TYPE = BAND_SEQUENTIAL
  MAXIMUM = 252
  MEAN = 158.991
  MINIMUM = 1
  STANDARD_DEVIATION = 26.1507
END_OBJECT = IMAGE
/* MAP OBJECT DEFINITIONS */
OBJECT = IMAGE_MAP_PROJECTION
  ^DATA_SET_MAP_PROJECTION_CATALOG= "DSMAP.CAT"
  A_AXIS_RADIUS = 3396.0
  B_AXIS_RADIUS = 3396.0
  C_AXIS_RADIUS = 3396.0
  CENTER_LATITUDE = 0.0
  CENTER_LONGITUDE = 47.0
  COORDINATE_SYSTEM_NAME = PLANETOGRAPHIC
  COORDINATE_SYSTEM_TYPE = "BODY-FIXED ROTATING"
  EASTERNMOST_LONGITUDE = 47.7584
  FIRST_STANDARD_PARALLEL = "N/A"
  LINE_FIRST_PIXEL = 1
  LINE_LAST_PIXEL = 13097
  LINE_PROJECTION_OFFSET = -46612.375
  MAP_PROJECTION_ROTATION = 0.0
  MAP_PROJECTION_TYPE = SINUSOIDAL
  MAP_RESOLUTION = 1185.42760773333
  MAP_SCALE = 0.05
  MAXIMUM_LATITUDE = -39.3035
  MINIMUM_LATITUDE = -50.3754
  POSITIVE_LONGITUDE_DIRECTION = EAST
  REFERENCE_LATITUDE = "N/A"
  REFERENCE_LONGITUDE = "N/A"
  SAMPLE_FIRST_PIXEL = 1
  SAMPLE_LAST_PIXEL = 1889
  SAMPLE_PROJECTION_OFFSET = 1323.875
  SECOND_STANDARD_PARALLEL = "N/A"
  WESTERNMOST_LONGITUDE = 45.2394
END_OBJECT = IMAGE_MAP_PROJECTION
END
