PDS_VERSION_ID = PDS3
/* FILE DATA ELEMENTS */
RECORD_TYPE = UNDEFINED
/* POINTERS TO DATA OBJECTS */
^IMAGE = ("HG754_0000_S14.TIF")
/* IDENTIFICATION DATA ELEMENTS */
DATA_SET_ID = "MEX-M-HRSC-4-REFDR-MAPPROJECT-EXT6-V4.0"
DATA_SET_NAME = "MARS EXPRESS HRSC MAP PROJECTED REFDR EXTENSION6 V4.0"
DETECTOR_ID = MEX_HRSC_S1
EVENT_TYPE = "MARS-REGIONAL-STEREO-Te-Lc"
INSTRUMENT_HOST_ID = MEX
INSTRUMENT_HOST_NAME = "MARS EXPRESS"
INSTRUMENT_ID = HRSC
INSTRUMENT_NAME = "HIGH RESOLUTION STEREO CAMERA"
MISSION_NAME = "MARS EXPRESS"
MISSION_PHASE_NAME = ME_Phase_36
PROCESSING_LEVEL_ID = 4
PRODUCT_CREATION_TIME = 2023-01-26T14:39:22.000Z
PRODUCT_ID = "HG754_0000_S14.TIF"
RELEASE_ID = 0001
REVISION_ID = 0000
/* QUALITY DATA ELEMENTS */
DATA_QUALITY_ID = 1
DATA_QUALITY_DESC = "Data calculated based on original SPICE kernels"
/* TIME DATA ELEMENTS */
SPACECRAFT_CLOCK_START_COUNT = "1/0438487478.09052"
SPACECRAFT_CLOCK_STOP_COUNT = "1/0438487626.50846"
START_TIME = 2017-03-25T02:05:50.870Z
STOP_TIME = 2017-03-25T02:07:12.739Z
/* ORBITAL DATA ELEMENTS */
ASCENDING_NODE_LONGITUDE = 259.24
MAXIMUM_RESOLUTION = 0.0155
FOOTPRINT_POINT_LATITUDE = (-17.4756,-17.4702,-17.4666,-17.463, -17.4594,-17.4558,-17.4523,-17.4488, -17.4453,-17.4418,-17.4383,-17.4349, -17.4314,-17.431,-17.43,-17.3011, -17.1182,-16.9647,-16.8102,-16.7074, -16.5537,-16.3993,-16.2967,-16.1943, -16.0927,-15.9488,-15.7555,-15.6123, -15.4989,-15.3372,-15.1999,-14.9702, -14.8229,-14.7207,-14.5673,-14.3682, -14.2188,-14.0484,-13.9392,-13.8341, -13.7291,-13.6211,-13.5204,-13.4201, -13.1702,-12.9705,-12.87,-12.6704, -12.4711,-12.4213,-12.4132,-12.4161, -12.4205,-12.4236,-12.4267,-12.43, -12.4332,-12.4364,-12.4396,-12.4429, -12.4474,-12.4537,-12.4541,-12.4546, -12.7535,-12.9536,-13.1037,-13.2539, -13.354,-13.5041,-13.6042,-13.7046, -13.8051,-13.9796,-14.0937,-14.2529, -14.3828,-14.5238,-14.7352,-14.8511, -15.0101,-15.1626,-15.3133,-15.5123, -15.6585,-15.835,-15.937,-16.0839, -16.237,-16.339,-16.4921,-16.5942, -16.7473,-16.8496,-16.9519,-17.0544, -17.2553,-17.4274,-17.4703,-17.4756)
FOOTPRINT_POINT_LONGITUDE = (304.474,304.309,304.199,304.09,303.981 ,303.873,303.765,303.658,303.551, 303.445,303.339,303.234,303.129,303.116 ,303.11,303.108,303.105,303.103,303.1, 303.098,303.096,303.093,303.092,303.09, 303.088,303.086,303.083,303.08,303.078, 303.075,303.073,303.069,303.066,303.064 ,303.061,303.057,303.054,303.05,303.048 ,303.046,303.044,303.042,303.04,303.038 ,303.032,303.028,303.026,303.021, 303.017,303.016,303.016,303.127,303.282 ,303.395,303.508,303.622,303.736, 303.851,303.966,304.082,304.228,304.447 ,304.462,304.469,304.469,304.469, 304.469,304.469,304.469,304.469,304.469 ,304.469,304.469,304.485,304.494,304.5, 304.486,304.479,304.486,304.496,304.501 ,304.501,304.501,304.498,304.494, 304.477,304.477,304.473,304.473,304.474 ,304.474,304.474,304.474,304.474, 304.474,304.474,304.475,304.475,304.475 ,304.474)
ORBIT_NUMBER = 16754
ORBITAL_ECCENTRICITY = 0.579
ORBITAL_INCLINATION = 86.94
ORBITAL_SEMIMAJOR_AXIS = 8836.45
PERIAPSIS_ALTITUDE = 331.79
PERIAPSIS_ARGUMENT_ANGLE = 331.22
PERIAPSIS_TIME = 2017-03-25T02:02:25.000Z
SPACECRAFT_ORIENTATION = (0.0,1.0,0.0)
^MEX_ORIENTATION_DESC = "MEX_ORIENTATION_DESC.TXT"
SPACECRAFT_POINTING_MODE = ACROSSTRACK
^MEX_POINTING_DESC = "MEX_POINTING_DESC.TXT"
RIGHT_ASCENSION = -1e+32
DECLINATION = -1e+32
OFFSET_ANGLE = -0.7
SPACECRAFT_SOLAR_DISTANCE = 2.25015e+08
TARGET_NAME = MARS
/* CAMERA DATA ELEMENTS */
DETECTOR_TEMPERATURE = 16.5354
FOCAL_PLANE_TEMPERATURE = 8.5833
INST_CMPRS_NAME = "DISCRETE COSINE TRANSFORMATION (DCT)"
INST_CMPRS_RATIO = 8.57897
INST_CMPRS_QUALITY = 0
INST_CMPRS_QUANTZ_TBL_ID = 0
INSTRUMENT_TEMPERATURE = 11.6418
LENS_TEMPERATURE = 8.9911
MACROPIXEL_SIZE = 1
MISSING_FRAMES = 0
PIXEL_SUBSAMPLING_FLAG = N
SIGNAL_CHAIN_ID = 2
/* RADIOMETRIC DATA ELEMENTS */
BANDWIDTH = 180.0
CENTER_FILTER_WAVELENGTH = 677.0
RADIANCE_OFFSET = 3.30898
RADIANCE_SCALING_FACTOR = 0.013268
REFLECTANCE_SCALING_FACTOR = 0.000350486
MEX:REFLECTANCE_OFFSET = 0.0874096
/* IMAGE OBJECT DEFINITIONS */
OBJECT = IMAGE
  INTERCHANGE_FORMAT = BINARY
  LINES = 23801
  LINE_SAMPLES = 6556
  SAMPLE_TYPE = UNSIGNED_INTEGER
  SAMPLE_BITS = 8
  BANDS = 1
  BAND_STORAGE_TYPE = BAND_SEQUENTIAL
  MAXIMUM = 255
  MEAN = 103.963
  MINIMUM = 1
  STANDARD_DEVIATION = 26.9124
END_OBJECT = IMAGE
/* MAP OBJECT DEFINITIONS */
OBJECT = IMAGE_MAP_PROJECTION
  ^DATA_SET_MAP_PROJECTION_CATALOG= "DSMAP.CAT"
  A_AXIS_RADIUS = 3396.0
  B_AXIS_RADIUS = 3396.0
  C_AXIS_RADIUS = 3396.0
  CENTER_LATITUDE = 0.0
  CENTER_LONGITUDE = 304.0
  COORDINATE_SYSTEM_NAME = PLANETOGRAPHIC
  COORDINATE_SYSTEM_TYPE = "BODY-FIXED ROTATING"
  EASTERNMOST_LONGITUDE = 304.501
  FIRST_STANDARD_PARALLEL = "N/A"
  LINE_FIRST_PIXEL = 1
  LINE_LAST_PIXEL = 23801
  LINE_PROJECTION_OFFSET = -59011.0
  MAP_PROJECTION_ROTATION = 0.0
  MAP_PROJECTION_TYPE = SINUSOIDAL
  MAP_RESOLUTION = 4741.71043093333
  MAP_SCALE = 0.0125
  MAXIMUM_LATITUDE = -12.4132
  MINIMUM_LATITUDE = -17.4756
  POSITIVE_LONGITUDE_DIRECTION = EAST
  REFERENCE_LATITUDE = "N/A"
  REFERENCE_LONGITUDE = "N/A"
  SAMPLE_FIRST_PIXEL = 1
  SAMPLE_LAST_PIXEL = 6556
  SAMPLE_PROJECTION_OFFSET = 4423.0
  SECOND_STANDARD_PARALLEL = "N/A"
  WESTERNMOST_LONGITUDE = 303.016
END_OBJECT = IMAGE_MAP_PROJECTION
END
