PDS_VERSION_ID = PDS3
/* FILE DATA ELEMENTS */
RECORD_TYPE = UNDEFINED
/* POINTERS TO DATA OBJECTS */
^IMAGE = ("HG756_0000_ND4.TIF")
/* IDENTIFICATION DATA ELEMENTS */
DATA_SET_ID = "MEX-M-HRSC-4-REFDR-MAPPROJECT-EXT6-V4.0"
DATA_SET_NAME = "MARS EXPRESS HRSC MAP PROJECTED REFDR EXTENSION6 V4.0"
DETECTOR_ID = MEX_HRSC_NADIR
EVENT_TYPE = "MARS-REGIONAL-MAPPING-Vo-Im-Fl"
INSTRUMENT_HOST_ID = MEX
INSTRUMENT_HOST_NAME = "MARS EXPRESS"
INSTRUMENT_ID = HRSC
INSTRUMENT_NAME = "HIGH RESOLUTION STEREO CAMERA"
MISSION_NAME = "MARS EXPRESS"
MISSION_PHASE_NAME = ME_Phase_36
PROCESSING_LEVEL_ID = 4
PRODUCT_CREATION_TIME = 2023-01-26T14:39:22.000Z
PRODUCT_ID = "HG756_0000_ND4.TIF"
RELEASE_ID = 0001
REVISION_ID = 0000
/* QUALITY DATA ELEMENTS */
DATA_QUALITY_ID = 1
DATA_QUALITY_DESC = "Data calculated based on original SPICE kernels"
/* TIME DATA ELEMENTS */
SPACECRAFT_CLOCK_START_COUNT = "1/0438537550.09062"
SPACECRAFT_CLOCK_STOP_COUNT = "1/0438537793.06740"
START_TIME = 2017-03-25T15:59:50.121Z
STOP_TIME = 2017-03-25T16:02:49.117Z
/* ORBITAL DATA ELEMENTS */
ASCENDING_NODE_LONGITUDE = 259.2
MAXIMUM_RESOLUTION = 0.0131
FOOTPRINT_POINT_LATITUDE = (-36.9083,-36.9037,-36.8987,-36.8884, -36.8881,-36.8864,-36.6481,-36.4097, -36.1711,-35.9326,-35.6939,-35.4551, -35.2162,-34.9772,-34.7381,-34.4999, -34.0368,-33.5735,-33.1098,-32.646, -32.1819,-31.7177,-31.4855,-31.2533, -31.021,-30.6726,-30.2082,-29.9759, -29.7433,-29.5108,-29.2784,-29.046, -28.8135,-28.5811,-28.3486,-28.116, -27.8836,-27.6513,-27.4188,-27.1864, -26.954,-26.7217,-26.3732,-26.1409, -25.9086,-25.6764,-25.3282,-25.2122, -25.1984,-25.2009,-25.2018,-25.2018, -25.2018,-25.202,-25.4344,-25.6669, -25.8994,-26.132,-26.3646,-26.5973, -26.9463,-27.1789,-27.528,-27.7608, -28.1097,-28.3424,-28.5752,-28.8079, -29.0407,-29.2734,-29.5061,-29.7388, -30.0879,-30.3206,-30.5532,-30.7858, -31.0185,-31.251,-31.4836,-31.7161, -31.9486,-32.1811,-32.4135,-32.6458, -32.8781,-33.1104,-33.5748,-34.0389, -34.5028,-34.8608,-35.1002,-35.3396, -35.5788,-35.818,-36.0571,-36.2962, -36.5351,-36.774,-36.8934,-36.9083)
FOOTPRINT_POINT_LONGITUDE = (99.0448,98.563,98.1835,97.585,97.5704, 97.5439,97.5529,97.5618,97.5704,97.5791 ,97.5876,97.5959,97.6041,97.612,97.6197 ,97.6274,97.6417,97.6555,97.6682, 97.6805,97.692,97.7028,97.7078,97.713, 97.7177,97.7251,97.7389,97.743,97.744, 97.7478,97.752,97.7556,97.7588,97.7619, 97.7652,97.7658,97.7687,97.7748,97.7763 ,97.7791,97.7815,97.7848,97.7885, 97.7909,97.7929,97.7947,97.7993,97.8016 ,97.8017,98.2658,98.656,99.0595,99.0721 ,99.0783,99.0782,99.0784,99.0782, 99.0781,99.0778,99.076,99.0759,99.0756, 99.0752,99.0736,99.0769,99.0773,99.0771 ,99.077,99.0769,99.0766,99.0765,99.0766 ,99.0765,99.0765,99.0765,99.0766, 99.0766,99.0767,99.0764,99.0761,99.0759 ,99.0755,99.0752,99.0748,99.0745, 99.0743,99.0732,99.0727,99.072,99.071, 99.0701,99.0697,99.0692,99.0684,99.0678 ,99.067,99.0653,99.0631,99.0607, 99.0448)
ORBIT_NUMBER = 16756
ORBITAL_ECCENTRICITY = 0.579
ORBITAL_INCLINATION = 86.94
ORBITAL_SEMIMAJOR_AXIS = 8840.46
PERIAPSIS_ALTITUDE = 330.82
PERIAPSIS_ARGUMENT_ANGLE = 330.84
PERIAPSIS_TIME = 2017-03-25T16:01:50.000Z
SPACECRAFT_ORIENTATION = (0.0,1.0,0.0)
^MEX_ORIENTATION_DESC = "MEX_ORIENTATION_DESC.TXT"
SPACECRAFT_POINTING_MODE = NADIR
^MEX_POINTING_DESC = "MEX_POINTING_DESC.TXT"
RIGHT_ASCENSION = -1e+32
DECLINATION = -1e+32
OFFSET_ANGLE = -1e+32
SPACECRAFT_SOLAR_DISTANCE = 2.25129e+08
TARGET_NAME = MARS
/* CAMERA DATA ELEMENTS */
DETECTOR_TEMPERATURE = 18.1666
FOCAL_PLANE_TEMPERATURE = 8.3794
INST_CMPRS_NAME = "DISCRETE COSINE TRANSFORMATION (DCT)"
INST_CMPRS_RATIO = 6.37444
INST_CMPRS_QUALITY = 0
INST_CMPRS_QUANTZ_TBL_ID = 0
INSTRUMENT_TEMPERATURE = 11.6418
LENS_TEMPERATURE = 8.5833
MACROPIXEL_SIZE = 1
MISSING_FRAMES = 0
PIXEL_SUBSAMPLING_FLAG = N
SIGNAL_CHAIN_ID = 0
/* RADIOMETRIC DATA ELEMENTS */
BANDWIDTH = 177.0
CENTER_FILTER_WAVELENGTH = 677.5
RADIANCE_OFFSET = 3.6747
RADIANCE_SCALING_FACTOR = 0.0109975
REFLECTANCE_SCALING_FACTOR = 0.0002961
MEX:REFLECTANCE_OFFSET = 0.0989383
/* IMAGE OBJECT DEFINITIONS */
OBJECT = IMAGE
  INTERCHANGE_FORMAT = BINARY
  LINES = 55522
  LINE_SAMPLES = 6356
  SAMPLE_TYPE = UNSIGNED_INTEGER
  SAMPLE_BITS = 8
  BANDS = 1
  BAND_STORAGE_TYPE = BAND_SEQUENTIAL
  MAXIMUM = 255
  MEAN = 143.246
  MINIMUM = 1
  STANDARD_DEVIATION = 37.5002
END_OBJECT = IMAGE
/* MAP OBJECT DEFINITIONS */
OBJECT = IMAGE_MAP_PROJECTION
  ^DATA_SET_MAP_PROJECTION_CATALOG= "DSMAP.CAT"
  A_AXIS_RADIUS = 3396.0
  B_AXIS_RADIUS = 3396.0
  C_AXIS_RADIUS = 3396.0
  CENTER_LATITUDE = 0.0
  CENTER_LONGITUDE = 98.0
  COORDINATE_SYSTEM_NAME = PLANETOGRAPHIC
  COORDINATE_SYSTEM_TYPE = "BODY-FIXED ROTATING"
  EASTERNMOST_LONGITUDE = 99.0784
  FIRST_STANDARD_PARALLEL = "N/A"
  LINE_FIRST_PIXEL = 1
  LINE_LAST_PIXEL = 55522
  LINE_PROJECTION_OFFSET = -119485.0
  MAP_PROJECTION_ROTATION = 0.0
  MAP_PROJECTION_TYPE = SINUSOIDAL
  MAP_RESOLUTION = 4741.71043093333
  MAP_SCALE = 0.0125
  MAXIMUM_LATITUDE = -25.1984
  MINIMUM_LATITUDE = -36.9083
  POSITIVE_LONGITUDE_DIRECTION = EAST
  REFERENCE_LATITUDE = "N/A"
  REFERENCE_LONGITUDE = "N/A"
  SAMPLE_FIRST_PIXEL = 1
  SAMPLE_LAST_PIXEL = 6356
  SAMPLE_PROJECTION_OFFSET = 1728.0
  SECOND_STANDARD_PARALLEL = "N/A"
  WESTERNMOST_LONGITUDE = 97.54389999999999
END_OBJECT = IMAGE_MAP_PROJECTION
END
