PDS_VERSION_ID = PDS3
/* FILE DATA ELEMENTS */
RECORD_TYPE = UNDEFINED
/* POINTERS TO DATA OBJECTS */
^IMAGE = ("HG756_0000_P24.TIF")
/* IDENTIFICATION DATA ELEMENTS */
DATA_SET_ID = "MEX-M-HRSC-4-REFDR-MAPPROJECT-EXT6-V4.0"
DATA_SET_NAME = "MARS EXPRESS HRSC MAP PROJECTED REFDR EXTENSION6 V4.0"
DETECTOR_ID = MEX_HRSC_P2
EVENT_TYPE = "MARS-REGIONAL-MAPPING-Vo-Im-Fl"
INSTRUMENT_HOST_ID = MEX
INSTRUMENT_HOST_NAME = "MARS EXPRESS"
INSTRUMENT_ID = HRSC
INSTRUMENT_NAME = "HIGH RESOLUTION STEREO CAMERA"
MISSION_NAME = "MARS EXPRESS"
MISSION_PHASE_NAME = ME_Phase_36
PROCESSING_LEVEL_ID = 4
PRODUCT_CREATION_TIME = 2023-01-26T14:39:22.000Z
PRODUCT_ID = "HG756_0000_P24.TIF"
RELEASE_ID = 0001
REVISION_ID = 0000
/* QUALITY DATA ELEMENTS */
DATA_QUALITY_ID = 1
DATA_QUALITY_DESC = "Data calculated based on original SPICE kernels"
/* TIME DATA ELEMENTS */
SPACECRAFT_CLOCK_START_COUNT = "1/0438537550.09062"
SPACECRAFT_CLOCK_STOP_COUNT = "1/0438537793.06740"
START_TIME = 2017-03-25T15:59:29.378Z
STOP_TIME = 2017-03-25T16:02:29.655Z
/* ORBITAL DATA ELEMENTS */
ASCENDING_NODE_LONGITUDE = 259.2
MAXIMUM_RESOLUTION = 0.0269
FOOTPRINT_POINT_LATITUDE = (-36.9364,-36.9326,-36.9233,-36.9144, -36.9141,-36.8775,-36.5255,-36.2903, -35.938,-35.7031,-35.4678,-35.2324, -34.9967,-34.7609,-34.407,-34.1709, -33.8168,-33.4616,-33.2246,-32.9952, -32.7658,-32.5359,-32.3062,-32.0757, -31.7301,-31.4995,-31.1538,-30.8076, -30.4623,-30.2401,-30.0079,-29.7706, -29.5382,-29.3074,-29.0756,-28.843, -28.6103,-28.26,-28.0246,-27.7931, -27.5656,-27.331,-27.0986,-26.7514, -26.4026,-26.1704,-25.9377,-25.5887, -25.3598,-25.2454,-25.2135,-25.2121, -25.212,-25.2116,-25.2116,-25.212, -25.4456,-25.6787,-25.9122,-26.2622, -26.4973,-26.7367,-26.9661,-27.2001, -27.4303,-27.6657,-27.9028,-28.1258, -28.4738,-28.7061,-29.0544,-29.2865, -29.6341,-29.8654,-30.2128,-30.5593, -30.9052,-31.1357,-31.3666,-31.7127, -32.0585,-32.4043,-32.7496,-32.9792, -33.209,-33.4457,-33.8008,-34.0377, -34.2744,-34.5107,-34.8655,-35.1022, -35.3377,-35.5733,-35.9267,-36.1622, -36.5174,-36.7548,-36.8737,-36.9364)
FOOTPRINT_POINT_LONGITUDE = (99.0583,98.6201,97.9926,97.569,97.5544 ,97.531,97.5449,97.5538,97.5672,97.576, 97.5845,97.5929,97.601,97.609,97.6207, 97.6284,97.6397,97.6503,97.6571,97.6636 ,97.6701,97.6762,97.6823,97.688,97.6964 ,97.7018,97.7098,97.7174,97.7252, 97.7343,97.7384,97.7399,97.7437,97.7483 ,97.7522,97.7557,97.759,97.7633,97.765, 97.7687,97.7742,97.7761,97.7791,97.784, 97.7879,97.7906,97.793,97.7964,97.8003, 97.8023,97.803,98.4176,98.6525,99.0607, 99.0731,99.0775,99.0777,99.078,99.0781, 99.0783,99.0775,99.0746,99.0766,99.0762 ,99.0776,99.0765,99.0744,99.0794, 99.0799,99.08,99.0802,99.0803,99.0806, 99.0809,99.0811,99.0815,99.0822,99.0825 ,99.0826,99.0827,99.0827,99.0826, 99.0826,99.0827,99.0827,99.0824,99.0825 ,99.0824,99.0823,99.0824,99.0819, 99.0814,99.0814,99.0812,99.0808,99.0803 ,99.0784,99.0765,99.0754,99.0583)
ORBIT_NUMBER = 16756
ORBITAL_ECCENTRICITY = 0.579
ORBITAL_INCLINATION = 86.94
ORBITAL_SEMIMAJOR_AXIS = 8840.46
PERIAPSIS_ALTITUDE = 330.82
PERIAPSIS_ARGUMENT_ANGLE = 330.84
PERIAPSIS_TIME = 2017-03-25T16:01:50.000Z
SPACECRAFT_ORIENTATION = (0.0,1.0,0.0)
^MEX_ORIENTATION_DESC = "MEX_ORIENTATION_DESC.TXT"
SPACECRAFT_POINTING_MODE = NADIR
^MEX_POINTING_DESC = "MEX_POINTING_DESC.TXT"
RIGHT_ASCENSION = -1e+32
DECLINATION = -1e+32
OFFSET_ANGLE = -1e+32
SPACECRAFT_SOLAR_DISTANCE = 2.25129e+08
TARGET_NAME = MARS
/* CAMERA DATA ELEMENTS */
DETECTOR_TEMPERATURE = 18.5744
FOCAL_PLANE_TEMPERATURE = 8.3794
INST_CMPRS_NAME = "DISCRETE COSINE TRANSFORMATION (DCT)"
INST_CMPRS_RATIO = 8.10111
INST_CMPRS_QUALITY = 0
INST_CMPRS_QUANTZ_TBL_ID = 0
INSTRUMENT_TEMPERATURE = 11.6418
LENS_TEMPERATURE = 8.5833
MACROPIXEL_SIZE = 2
MISSING_FRAMES = 0
PIXEL_SUBSAMPLING_FLAG = N
SIGNAL_CHAIN_ID = 3
/* RADIOMETRIC DATA ELEMENTS */
BANDWIDTH = 177.0
CENTER_FILTER_WAVELENGTH = 676.5
RADIANCE_OFFSET = 4.04363
RADIANCE_SCALING_FACTOR = 0.0113043
REFLECTANCE_SCALING_FACTOR = 0.000303781
MEX:REFLECTANCE_OFFSET = 0.108665
/* IMAGE OBJECT DEFINITIONS */
OBJECT = IMAGE
  INTERCHANGE_FORMAT = BINARY
  LINES = 27761
  LINE_SAMPLES = 3178
  SAMPLE_TYPE = UNSIGNED_INTEGER
  SAMPLE_BITS = 8
  BANDS = 1
  BAND_STORAGE_TYPE = BAND_SEQUENTIAL
  MAXIMUM = 254
  MEAN = 142.464
  MINIMUM = 1
  STANDARD_DEVIATION = 38.4729
END_OBJECT = IMAGE
/* MAP OBJECT DEFINITIONS */
OBJECT = IMAGE_MAP_PROJECTION
  ^DATA_SET_MAP_PROJECTION_CATALOG= "DSMAP.CAT"
  A_AXIS_RADIUS = 3396.0
  B_AXIS_RADIUS = 3396.0
  C_AXIS_RADIUS = 3396.0
  CENTER_LATITUDE = 0.0
  CENTER_LONGITUDE = 98.0
  COORDINATE_SYSTEM_NAME = PLANETOGRAPHIC
  COORDINATE_SYSTEM_TYPE = "BODY-FIXED ROTATING"
  EASTERNMOST_LONGITUDE = 99.0827
  FIRST_STANDARD_PARALLEL = "N/A"
  LINE_FIRST_PIXEL = 1
  LINE_LAST_PIXEL = 27761
  LINE_PROJECTION_OFFSET = -59742.75
  MAP_PROJECTION_ROTATION = 0.0
  MAP_PROJECTION_TYPE = SINUSOIDAL
  MAP_RESOLUTION = 2370.85521546667
  MAP_SCALE = 0.025
  MAXIMUM_LATITUDE = -25.2116
  MINIMUM_LATITUDE = -36.9364
  POSITIVE_LONGITUDE_DIRECTION = EAST
  REFERENCE_LATITUDE = "N/A"
  REFERENCE_LONGITUDE = "N/A"
  SAMPLE_FIRST_PIXEL = 1
  SAMPLE_LAST_PIXEL = 3178
  SAMPLE_PROJECTION_OFFSET = 863.75
  SECOND_STANDARD_PARALLEL = "N/A"
  WESTERNMOST_LONGITUDE = 97.53100000000001
END_OBJECT = IMAGE_MAP_PROJECTION
END
