PDS_VERSION_ID = PDS3
/* FILE DATA ELEMENTS */
RECORD_TYPE = UNDEFINED
/* POINTERS TO DATA OBJECTS */
^IMAGE = ("HG756_0000_RE4.TIF")
/* IDENTIFICATION DATA ELEMENTS */
DATA_SET_ID = "MEX-M-HRSC-4-REFDR-MAPPROJECT-EXT6-V4.0"
DATA_SET_NAME = "MARS EXPRESS HRSC MAP PROJECTED REFDR EXTENSION6 V4.0"
DETECTOR_ID = MEX_HRSC_RED
EVENT_TYPE = "MARS-REGIONAL-MAPPING-Vo-Im-Fl"
INSTRUMENT_HOST_ID = MEX
INSTRUMENT_HOST_NAME = "MARS EXPRESS"
INSTRUMENT_ID = HRSC
INSTRUMENT_NAME = "HIGH RESOLUTION STEREO CAMERA"
MISSION_NAME = "MARS EXPRESS"
MISSION_PHASE_NAME = ME_Phase_36
PROCESSING_LEVEL_ID = 4
PRODUCT_CREATION_TIME = 2023-01-26T14:39:22.000Z
PRODUCT_ID = "HG756_0000_RE4.TIF"
RELEASE_ID = 0001
REVISION_ID = 0000
/* QUALITY DATA ELEMENTS */
DATA_QUALITY_ID = 1
DATA_QUALITY_DESC = "Data calculated based on original SPICE kernels"
/* TIME DATA ELEMENTS */
SPACECRAFT_CLOCK_START_COUNT = "1/0438537550.09062"
SPACECRAFT_CLOCK_STOP_COUNT = "1/0438537793.06740"
START_TIME = 2017-03-25T15:59:23.767Z
STOP_TIME = 2017-03-25T16:02:24.576Z
/* ORBITAL DATA ELEMENTS */
ASCENDING_NODE_LONGITUDE = 259.2
MAXIMUM_RESOLUTION = 0.0548
FOOTPRINT_POINT_LATITUDE = (-36.9495,-36.9462,-36.9389,-36.9266, -36.9262,-36.8803,-36.5299,-36.296, -36.0624,-35.8291,-35.478,-35.1265, -34.892,-34.5401,-34.3049,-34.0705, -33.7172,-33.3633,-33.1273,-32.7765, -32.5478,-32.319,-32.0892,-31.8598, -31.6302,-31.3997,-31.17,-30.9399, -30.71,-30.4797,-30.0305,-29.7918, -29.5596,-29.3293,-29.098,-28.8658, -28.6334,-28.2831,-28.0472,-27.5904, -27.3563,-27.124,-26.6606,-26.3123, -26.0801,-25.8475,-25.6142,-25.3857, -25.2726,-25.2182,-25.2228,-25.2166, -25.2165,-25.2165,-25.2173,-25.5672, -25.8005,-26.1505,-26.3849,-26.6248, -26.9715,-27.2059,-27.4352,-27.671, -27.9054,-28.3604,-28.5923,-28.8242, -29.0559,-29.2877,-29.5189,-29.8652, -30.0961,-30.4417,-30.7866,-31.0163, -31.2463,-31.4768,-31.7066,-31.9363, -32.1662,-32.3959,-32.6252,-32.854, -33.0889,-33.3256,-33.5621,-33.9158, -34.1515,-34.3867,-34.6218,-34.8574, -35.2103,-35.4445,-35.7963,-36.1474, -36.4991,-36.7361,-36.855,-36.9495)
FOOTPRINT_POINT_LONGITUDE = (99.062,98.6811,98.1595,97.5672,97.553, 97.5313,97.5451,97.5541,97.563,97.572, 97.5849,97.5974,97.6055,97.6175,97.6251 ,97.633,97.6439,97.6544,97.6613,97.6711 ,97.6774,97.6836,97.6893,97.6951, 97.7006,97.7058,97.7112,97.7163,97.7215 ,97.7264,97.7404,97.7418,97.7457, 97.7501,97.7542,97.7578,97.7612,97.7655 ,97.7674,97.7767,97.779,97.7819,97.788, 97.792,97.7946,97.797,97.7989,97.8027, 97.805,97.8058,98.2545,98.6218,99.0613, 99.0732,99.0772,99.0777,99.0779,99.0782 ,99.078,99.0755,99.0768,99.0764,99.0779 ,99.0768,99.0762,99.0804,99.0807, 99.0808,99.0811,99.0811,99.0814,99.082, 99.0822,99.0828,99.0834,99.0839,99.0842 ,99.0842,99.0844,99.0845,99.0845, 99.0845,99.0846,99.0848,99.0849,99.0849 ,99.0848,99.0849,99.0849,99.085,99.0851 ,99.0848,99.0844,99.0845,99.0841, 99.0839,99.083,99.0812,99.08,99.062)
ORBIT_NUMBER = 16756
ORBITAL_ECCENTRICITY = 0.579
ORBITAL_INCLINATION = 86.94
ORBITAL_SEMIMAJOR_AXIS = 8840.46
PERIAPSIS_ALTITUDE = 330.82
PERIAPSIS_ARGUMENT_ANGLE = 330.84
PERIAPSIS_TIME = 2017-03-25T16:01:50.000Z
SPACECRAFT_ORIENTATION = (0.0,1.0,0.0)
^MEX_ORIENTATION_DESC = "MEX_ORIENTATION_DESC.TXT"
SPACECRAFT_POINTING_MODE = NADIR
^MEX_POINTING_DESC = "MEX_POINTING_DESC.TXT"
RIGHT_ASCENSION = -1e+32
DECLINATION = -1e+32
OFFSET_ANGLE = -1e+32
SPACECRAFT_SOLAR_DISTANCE = 2.25129e+08
TARGET_NAME = MARS
/* CAMERA DATA ELEMENTS */
DETECTOR_TEMPERATURE = 18.5744
FOCAL_PLANE_TEMPERATURE = 8.3794
INST_CMPRS_NAME = "DISCRETE COSINE TRANSFORMATION (DCT)"
INST_CMPRS_RATIO = 26.5629
INST_CMPRS_QUALITY = 0
INST_CMPRS_QUANTZ_TBL_ID = 0
INSTRUMENT_TEMPERATURE = 11.6418
LENS_TEMPERATURE = 8.5833
MACROPIXEL_SIZE = 4
MISSING_FRAMES = 0
PIXEL_SUBSAMPLING_FLAG = N
SIGNAL_CHAIN_ID = 2
/* RADIOMETRIC DATA ELEMENTS */
BANDWIDTH = 48.0
CENTER_FILTER_WAVELENGTH = 748.0
RADIANCE_OFFSET = 1.11296
RADIANCE_SCALING_FACTOR = 0.00314035
REFLECTANCE_SCALING_FACTOR = 0.000363216
MEX:REFLECTANCE_OFFSET = 0.128726
/* IMAGE OBJECT DEFINITIONS */
OBJECT = IMAGE
  INTERCHANGE_FORMAT = BINARY
  LINES = 13881
  LINE_SAMPLES = 1589
  SAMPLE_TYPE = UNSIGNED_INTEGER
  SAMPLE_BITS = 8
  BANDS = 1
  BAND_STORAGE_TYPE = BAND_SEQUENTIAL
  MAXIMUM = 255
  MEAN = 140.92
  MINIMUM = 1
  STANDARD_DEVIATION = 41.7667
END_OBJECT = IMAGE
/* MAP OBJECT DEFINITIONS */
OBJECT = IMAGE_MAP_PROJECTION
  ^DATA_SET_MAP_PROJECTION_CATALOG= "DSMAP.CAT"
  A_AXIS_RADIUS = 3396.0
  B_AXIS_RADIUS = 3396.0
  C_AXIS_RADIUS = 3396.0
  CENTER_LATITUDE = 0.0
  CENTER_LONGITUDE = 98.0
  COORDINATE_SYSTEM_NAME = PLANETOGRAPHIC
  COORDINATE_SYSTEM_TYPE = "BODY-FIXED ROTATING"
  EASTERNMOST_LONGITUDE = 99.0851
  FIRST_STANDARD_PARALLEL = "N/A"
  LINE_FIRST_PIXEL = 1
  LINE_LAST_PIXEL = 13881
  LINE_PROJECTION_OFFSET = -29871.625
  MAP_PROJECTION_ROTATION = 0.0
  MAP_PROJECTION_TYPE = SINUSOIDAL
  MAP_RESOLUTION = 1185.42760773333
  MAP_SCALE = 0.05
  MAXIMUM_LATITUDE = -25.2165
  MINIMUM_LATITUDE = -36.9495
  POSITIVE_LONGITUDE_DIRECTION = EAST
  REFERENCE_LATITUDE = "N/A"
  REFERENCE_LONGITUDE = "N/A"
  SAMPLE_FIRST_PIXEL = 1
  SAMPLE_LAST_PIXEL = 1589
  SAMPLE_PROJECTION_OFFSET = 431.625
  SECOND_STANDARD_PARALLEL = "N/A"
  WESTERNMOST_LONGITUDE = 97.5313
END_OBJECT = IMAGE_MAP_PROJECTION
END
