PDS_VERSION_ID = PDS3
/* FILE DATA ELEMENTS */
RECORD_TYPE = UNDEFINED
/* POINTERS TO DATA OBJECTS */
^IMAGE = ("HG760_0000_ND4.TIF")
/* IDENTIFICATION DATA ELEMENTS */
DATA_SET_ID = "MEX-M-HRSC-4-REFDR-MAPPROJECT-EXT6-V4.0"
DATA_SET_NAME = "MARS EXPRESS HRSC MAP PROJECTED REFDR EXTENSION6 V4.0"
DETECTOR_ID = MEX_HRSC_NADIR
EVENT_TYPE = "MARS-REGIONAL-MAPPING-Im-Fl-Gl"
INSTRUMENT_HOST_ID = MEX
INSTRUMENT_HOST_NAME = "MARS EXPRESS"
INSTRUMENT_ID = HRSC
INSTRUMENT_NAME = "HIGH RESOLUTION STEREO CAMERA"
MISSION_NAME = "MARS EXPRESS"
MISSION_PHASE_NAME = ME_Phase_36
PROCESSING_LEVEL_ID = 4
PRODUCT_CREATION_TIME = 2023-01-26T14:39:22.000Z
PRODUCT_ID = "HG760_0000_ND4.TIF"
RELEASE_ID = 0001
REVISION_ID = 0000
/* QUALITY DATA ELEMENTS */
DATA_QUALITY_ID = 1
DATA_QUALITY_DESC = "Data calculated based on original SPICE kernels"
/* TIME DATA ELEMENTS */
SPACECRAFT_CLOCK_START_COUNT = "1/0438638132.08300"
SPACECRAFT_CLOCK_STOP_COUNT = "1/0438638405.55199"
START_TIME = 2017-03-26T19:56:19.757Z
STOP_TIME = 2017-03-26T19:59:41.734Z
/* ORBITAL DATA ELEMENTS */
ASCENDING_NODE_LONGITUDE = 259.12
MAXIMUM_RESOLUTION = 0.0135
FOOTPRINT_POINT_LATITUDE = (-47.0848,-47.0685,-47.0484,-47.0212, -47.0204,-47.0155,-46.7315,-46.4471, -46.1622,-45.8771,-45.5919,-45.3065, -44.8765,-44.5898,-44.303,-44.0158, -43.7283,-43.4406,-43.1526,-42.8643, -42.5758,-42.2869,-42.0134,-41.5284, -41.0427,-40.5562,-40.0693,-39.5817, -39.0933,-38.6044,-38.3599,-38.115, -37.87,-37.625,-37.38,-37.1347,-36.8893 ,-36.6438,-36.3982,-36.1527,-35.907, -35.6611,-35.4152,-35.1691,-34.923, -34.6769,-34.4307,-34.1842,-34.0641, -34.0444,-34.057,-34.0693,-34.0695, -34.0697,-34.4364,-34.6833,-34.9301, -35.1767,-35.4234,-35.67,-35.9163, -36.1629,-36.4091,-36.6553,-36.9015, -37.1474,-37.3932,-37.639,-37.8847, -38.1302,-38.3757,-38.6211,-38.8662, -39.1113,-39.3563,-39.6011,-40.0902, -40.5788,-41.0668,-41.5542,-42.0409, -42.3115,-42.6014,-42.8911,-43.1805, -43.4696,-43.7584,-44.047,-44.3353, -44.6234,-44.9111,-45.1987,-45.4858, -45.7726,-46.0592,-46.3454,-46.6314, -46.917,-47.0597,-47.0848)
FOOTPRINT_POINT_LONGITUDE = (48.8315,48.2042,47.5687,46.8429, 46.8226,46.7462,46.7776,46.8078,46.8337 ,46.8628,46.8935,46.9272,46.9535, 46.9778,47.0031,47.0284,47.0522,47.0762 ,47.1005,47.1243,47.1471,47.1691, 47.1894,47.2249,47.2597,47.2927,47.3266 ,47.3594,47.3882,47.4168,47.4328, 47.4447,47.4555,47.4693,47.4846,47.4968 ,47.5093,47.5217,47.5351,47.55,47.5638, 47.5763,47.59,47.6001,47.6137,47.6271, 47.641,47.6499,47.6547,47.6554,48.2573, 49.0708,49.0847,49.0915,49.0868,49.0836 ,49.0804,49.0771,49.0738,49.0704, 49.0669,49.0635,49.06,49.0564,49.0528, 49.049,49.0453,49.0415,49.0376,49.0337, 49.0297,49.0257,49.0216,49.0174,49.0132 ,49.0089,49.0001,48.991,48.9817,48.972, 48.962,48.9563,48.9501,48.9438,48.9373, 48.9308,48.9241,48.9173,48.9103,48.9032 ,48.896,48.8884,48.881,48.8734,48.8656, 48.8576,48.8495,48.8413,48.8371, 48.8315)
ORBIT_NUMBER = 16760
ORBITAL_ECCENTRICITY = 0.579
ORBITAL_INCLINATION = 86.94
ORBITAL_SEMIMAJOR_AXIS = 8838.3
PERIAPSIS_ALTITUDE = 331.23
PERIAPSIS_ARGUMENT_ANGLE = 330.19
PERIAPSIS_TIME = 2017-03-26T20:00:48.000Z
SPACECRAFT_ORIENTATION = (0.0,1.0,0.0)
^MEX_ORIENTATION_DESC = "MEX_ORIENTATION_DESC.TXT"
SPACECRAFT_POINTING_MODE = ACROSSTRACK
^MEX_POINTING_DESC = "MEX_POINTING_DESC.TXT"
RIGHT_ASCENSION = -1e+32
DECLINATION = -1e+32
OFFSET_ANGLE = 0.6
SPACECRAFT_SOLAR_DISTANCE = 2.25357e+08
TARGET_NAME = MARS
/* CAMERA DATA ELEMENTS */
DETECTOR_TEMPERATURE = 18.3705
FOCAL_PLANE_TEMPERATURE = 8.3794
INST_CMPRS_NAME = "DISCRETE COSINE TRANSFORMATION (DCT)"
INST_CMPRS_RATIO = 6.94124
INST_CMPRS_QUALITY = 0
INST_CMPRS_QUANTZ_TBL_ID = 0
INSTRUMENT_TEMPERATURE = 10.2145
LENS_TEMPERATURE = 8.7872
MACROPIXEL_SIZE = 1
MISSING_FRAMES = 0
PIXEL_SUBSAMPLING_FLAG = N
SIGNAL_CHAIN_ID = 0
/* RADIOMETRIC DATA ELEMENTS */
BANDWIDTH = 177.0
CENTER_FILTER_WAVELENGTH = 677.5
RADIANCE_OFFSET = 4.41573
RADIANCE_SCALING_FACTOR = 0.0088966
REFLECTANCE_SCALING_FACTOR = 0.00024002
MEX:REFLECTANCE_OFFSET = 0.119132
/* IMAGE OBJECT DEFINITIONS */
OBJECT = IMAGE
  INTERCHANGE_FORMAT = BINARY
  LINES = 61826
  LINE_SAMPLES = 8342
  SAMPLE_TYPE = UNSIGNED_INTEGER
  SAMPLE_BITS = 8
  BANDS = 1
  BAND_STORAGE_TYPE = BAND_SEQUENTIAL
  MAXIMUM = 255
  MEAN = 141.033
  MINIMUM = 1
  STANDARD_DEVIATION = 29.103
END_OBJECT = IMAGE
/* MAP OBJECT DEFINITIONS */
OBJECT = IMAGE_MAP_PROJECTION
  ^DATA_SET_MAP_PROJECTION_CATALOG= "DSMAP.CAT"
  A_AXIS_RADIUS = 3396.0
  B_AXIS_RADIUS = 3396.0
  C_AXIS_RADIUS = 3396.0
  CENTER_LATITUDE = 0.0
  CENTER_LONGITUDE = 48.0
  COORDINATE_SYSTEM_NAME = PLANETOGRAPHIC
  COORDINATE_SYSTEM_TYPE = "BODY-FIXED ROTATING"
  EASTERNMOST_LONGITUDE = 49.0915
  FIRST_STANDARD_PARALLEL = "N/A"
  LINE_FIRST_PIXEL = 1
  LINE_LAST_PIXEL = 61826
  LINE_PROJECTION_OFFSET = -161430.0
  MAP_PROJECTION_ROTATION = 0.0
  MAP_PROJECTION_TYPE = SINUSOIDAL
  MAP_RESOLUTION = 4741.71043093333
  MAP_SCALE = 0.0125
  MAXIMUM_LATITUDE = -34.0444
  MINIMUM_LATITUDE = -47.0848
  POSITIVE_LONGITUDE_DIRECTION = EAST
  REFERENCE_LATITUDE = "N/A"
  REFERENCE_LONGITUDE = "N/A"
  SAMPLE_FIRST_PIXEL = 1
  SAMPLE_LAST_PIXEL = 8342
  SAMPLE_PROJECTION_OFFSET = 4053.0
  SECOND_STANDARD_PARALLEL = "N/A"
  WESTERNMOST_LONGITUDE = 46.7462
END_OBJECT = IMAGE_MAP_PROJECTION
END
