PDS_VERSION_ID = PDS3
/* FILE DATA ELEMENTS */
RECORD_TYPE = UNDEFINED
/* POINTERS TO DATA OBJECTS */
^IMAGE = ("HG760_0000_S24.TIF")
/* IDENTIFICATION DATA ELEMENTS */
DATA_SET_ID = "MEX-M-HRSC-4-REFDR-MAPPROJECT-EXT6-V4.0"
DATA_SET_NAME = "MARS EXPRESS HRSC MAP PROJECTED REFDR EXTENSION6 V4.0"
DETECTOR_ID = MEX_HRSC_S2
EVENT_TYPE = "MARS-REGIONAL-MAPPING-Im-Fl-Gl"
INSTRUMENT_HOST_ID = MEX
INSTRUMENT_HOST_NAME = "MARS EXPRESS"
INSTRUMENT_ID = HRSC
INSTRUMENT_NAME = "HIGH RESOLUTION STEREO CAMERA"
MISSION_NAME = "MARS EXPRESS"
MISSION_PHASE_NAME = ME_Phase_36
PROCESSING_LEVEL_ID = 4
PRODUCT_CREATION_TIME = 2023-01-26T14:39:22.000Z
PRODUCT_ID = "HG760_0000_S24.TIF"
RELEASE_ID = 0001
REVISION_ID = 0000
/* QUALITY DATA ELEMENTS */
DATA_QUALITY_ID = 1
DATA_QUALITY_DESC = "Data calculated based on original SPICE kernels"
/* TIME DATA ELEMENTS */
SPACECRAFT_CLOCK_START_COUNT = "1/0438638132.08300"
SPACECRAFT_CLOCK_STOP_COUNT = "1/0438638405.55199"
START_TIME = 2017-03-26T19:55:40.165Z
STOP_TIME = 2017-03-26T19:59:10.861Z
/* ORBITAL DATA ELEMENTS */
ASCENDING_NODE_LONGITUDE = 259.12
MAXIMUM_RESOLUTION = 0.0291
FOOTPRINT_POINT_LATITUDE = (-47.1911,-47.1588,-47.121,-47.0683, -47.0668,-46.9799,-46.6973,-46.42, -46.0012,-45.7251,-45.4543,-45.0479, -44.7588,-44.4847,-44.2121,-43.9366, -43.5237,-43.2488,-42.9738,-42.6978, -42.4207,-42.0036,-41.5862,-41.307, -41.0284,-40.7481,-40.3301,-40.0483, -39.7884,-39.3163,-38.8417,-38.3684, -38.1268,-37.8851,-37.4113,-37.0524, -36.813,-36.4551,-35.9807,-35.7399, -35.5022,-35.265,-35.0218,-34.7843, -34.5481,-34.1852,-34.0634,-34.0276, -34.0446,-34.0646,-34.077,-34.0962, -34.0955,-34.0962,-34.3395,-34.5768, -34.819,-35.057,-35.4185,-35.6604, -36.0178,-36.2621,-36.5004,-36.7412, -37.0975,-37.3353,-37.5752,-37.8137, -38.1713,-38.4108,-38.6513,-39.1252, -39.3651,-39.6028,-39.9571,-40.2359, -40.6574,-40.938,-41.2213,-41.5019, -41.7823,-42.0595,-42.3403,-42.6168, -42.8964,-43.1744,-43.4497,-43.8629, -44.1391,-44.4144,-44.688,-44.9623, -45.2403,-45.5122,-45.9299,-46.2088, -46.4896,-46.9073,-47.0504,-47.1911)
FOOTPRINT_POINT_LONGITUDE = (48.8842,48.2311,47.5704,46.7749, 46.7538,46.6889,46.7208,46.7511,46.7932 ,46.8232,46.8553,46.8967,46.9117,46.937 ,46.9631,46.9871,47.0232,47.0475, 47.0715,47.0948,47.1173,47.15,47.1822, 47.2029,47.2241,47.2439,47.2753,47.294, 47.3133,47.3445,47.3738,47.4039,47.4155 ,47.427,47.4563,47.4759,47.4888,47.5088 ,47.5374,47.5492,47.5629,47.5771, 47.5871,47.6009,47.6156,47.6316,47.6365 ,47.6382,47.927,48.3122,48.6087,49.0843 ,49.0982,49.1032,49.1007,49.0982, 49.0957,49.0931,49.0891,49.0864,49.0824 ,49.0795,49.0768,49.0739,49.0696, 49.0667,49.0636,49.0606,49.056,49.0528, 49.0495,49.043,49.0396,49.0361,49.031, 49.0268,49.0205,49.0161,49.0115,49.0069 ,49.0023,48.9977,48.9928,48.9881,48.983 ,48.978,48.973,48.9653,48.96,48.9545, 48.9492,48.9436,48.9375,48.9319,48.9228 ,48.9166,48.9101,48.9007,48.8973, 48.8842)
ORBIT_NUMBER = 16760
ORBITAL_ECCENTRICITY = 0.579
ORBITAL_INCLINATION = 86.94
ORBITAL_SEMIMAJOR_AXIS = 8838.3
PERIAPSIS_ALTITUDE = 331.23
PERIAPSIS_ARGUMENT_ANGLE = 330.19
PERIAPSIS_TIME = 2017-03-26T20:00:48.000Z
SPACECRAFT_ORIENTATION = (0.0,1.0,0.0)
^MEX_ORIENTATION_DESC = "MEX_ORIENTATION_DESC.TXT"
SPACECRAFT_POINTING_MODE = ACROSSTRACK
^MEX_POINTING_DESC = "MEX_POINTING_DESC.TXT"
RIGHT_ASCENSION = -1e+32
DECLINATION = -1e+32
OFFSET_ANGLE = 0.6
SPACECRAFT_SOLAR_DISTANCE = 2.25357e+08
TARGET_NAME = MARS
/* CAMERA DATA ELEMENTS */
DETECTOR_TEMPERATURE = 18.7783
FOCAL_PLANE_TEMPERATURE = 8.3794
INST_CMPRS_NAME = "DISCRETE COSINE TRANSFORMATION (DCT)"
INST_CMPRS_RATIO = 13.7828
INST_CMPRS_QUALITY = 0
INST_CMPRS_QUANTZ_TBL_ID = 0
INSTRUMENT_TEMPERATURE = 10.2145
LENS_TEMPERATURE = 8.7872
MACROPIXEL_SIZE = 2
MISSING_FRAMES = 0
PIXEL_SUBSAMPLING_FLAG = N
SIGNAL_CHAIN_ID = 1
/* RADIOMETRIC DATA ELEMENTS */
BANDWIDTH = 178.0
CENTER_FILTER_WAVELENGTH = 679.0
RADIANCE_OFFSET = 5.2886
RADIANCE_SCALING_FACTOR = 0.00829584
REFLECTANCE_SCALING_FACTOR = 0.000223115
MEX:REFLECTANCE_OFFSET = 0.142236
/* IMAGE OBJECT DEFINITIONS */
OBJECT = IMAGE
  INTERCHANGE_FORMAT = BINARY
  LINES = 30913
  LINE_SAMPLES = 4171
  SAMPLE_TYPE = UNSIGNED_INTEGER
  SAMPLE_BITS = 8
  BANDS = 1
  BAND_STORAGE_TYPE = BAND_SEQUENTIAL
  MAXIMUM = 255
  MEAN = 147.937
  MINIMUM = 1
  STANDARD_DEVIATION = 32.1359
END_OBJECT = IMAGE
/* MAP OBJECT DEFINITIONS */
OBJECT = IMAGE_MAP_PROJECTION
  ^DATA_SET_MAP_PROJECTION_CATALOG= "DSMAP.CAT"
  A_AXIS_RADIUS = 3396.0
  B_AXIS_RADIUS = 3396.0
  C_AXIS_RADIUS = 3396.0
  CENTER_LATITUDE = 0.0
  CENTER_LONGITUDE = 48.0
  COORDINATE_SYSTEM_NAME = PLANETOGRAPHIC
  COORDINATE_SYSTEM_TYPE = "BODY-FIXED ROTATING"
  EASTERNMOST_LONGITUDE = 49.1032
  FIRST_STANDARD_PARALLEL = "N/A"
  LINE_FIRST_PIXEL = 1
  LINE_LAST_PIXEL = 30913
  LINE_PROJECTION_OFFSET = -80715.25
  MAP_PROJECTION_ROTATION = 0.0
  MAP_PROJECTION_TYPE = SINUSOIDAL
  MAP_RESOLUTION = 2370.85521546667
  MAP_SCALE = 0.025
  MAXIMUM_LATITUDE = -34.0276
  MINIMUM_LATITUDE = -47.1911
  POSITIVE_LONGITUDE_DIRECTION = EAST
  REFERENCE_LATITUDE = "N/A"
  REFERENCE_LONGITUDE = "N/A"
  SAMPLE_FIRST_PIXEL = 1
  SAMPLE_LAST_PIXEL = 4171
  SAMPLE_PROJECTION_OFFSET = 2026.25
  SECOND_STANDARD_PARALLEL = "N/A"
  WESTERNMOST_LONGITUDE = 46.6889
END_OBJECT = IMAGE_MAP_PROJECTION
END
