PDS_VERSION_ID = PDS3
/* FILE DATA ELEMENTS */
RECORD_TYPE = UNDEFINED
/* POINTERS TO DATA OBJECTS */
^IMAGE = ("HG761_0000_ND4.TIF")
/* IDENTIFICATION DATA ELEMENTS */
DATA_SET_ID = "MEX-M-HRSC-4-REFDR-MAPPROJECT-EXT6-V4.0"
DATA_SET_NAME = "MARS EXPRESS HRSC MAP PROJECTED REFDR EXTENSION6 V4.0"
DETECTOR_ID = MEX_HRSC_NADIR
EVENT_TYPE = "MARS-REGIONAL-STEREO-Eb-La-Tc"
INSTRUMENT_HOST_ID = MEX
INSTRUMENT_HOST_NAME = "MARS EXPRESS"
INSTRUMENT_ID = HRSC
INSTRUMENT_NAME = "HIGH RESOLUTION STEREO CAMERA"
MISSION_NAME = "MARS EXPRESS"
MISSION_PHASE_NAME = ME_Phase_36
PROCESSING_LEVEL_ID = 4
PRODUCT_CREATION_TIME = 2023-01-26T14:39:22.000Z
PRODUCT_ID = "HG761_0000_ND4.TIF"
RELEASE_ID = 0001
REVISION_ID = 0000
/* QUALITY DATA ELEMENTS */
DATA_QUALITY_ID = 1
DATA_QUALITY_DESC = "Data calculated based on original SPICE kernels"
/* TIME DATA ELEMENTS */
SPACECRAFT_CLOCK_START_COUNT = "1/0438663782.09064"
SPACECRAFT_CLOCK_STOP_COUNT = "1/0438663943.25630"
START_TIME = 2017-03-27T03:03:42.503Z
STOP_TIME = 2017-03-27T03:05:10.509Z
/* ORBITAL DATA ELEMENTS */
ASCENDING_NODE_LONGITUDE = 259.1
MAXIMUM_RESOLUTION = 0.0144
FOOTPRINT_POINT_LATITUDE = (-17.5257,-17.5295,-17.5321,-17.5345, -17.5367,-17.5385,-17.5402,-17.5403, -17.5401,-17.3449,-17.1499,-16.9549, -16.7601,-16.5365,-16.4204,-16.2462, -16.0721,-15.8981,-15.7237,-15.6075, -15.4917,-15.318,-15.2023,-15.0869, -14.9713,-14.8556,-14.7399,-14.6244, -14.4515,-14.2789,-14.1638,-14.0485, -13.9333,-13.8181,-13.703,-13.5879, -13.4729,-13.3579,-13.2429,-13.128, -13.0132,-12.8984,-12.7837,-12.669, -12.4398,-12.2108,-11.982,-11.9248, -11.9183,-11.9162,-11.9147,-11.9131, -11.9104,-11.9072,-11.9054,-11.9021, -11.8996,-11.8994,-11.8996,-12.1285, -12.3576,-12.587,-12.7592,-12.8739, -12.9884,-13.1026,-13.275,-13.4476, -13.5627,-13.6778,-13.793,-13.9083, -14.0236,-14.1389,-14.2544,-14.3698, -14.4853,-14.6009,-14.7167,-14.8322, -14.9481,-15.0639,-15.2371,-15.3529, -15.4687,-15.5847,-15.7011,-15.8177, -15.9338,-16.0499,-16.2242,-16.3403, -16.5147,-16.7395,-16.9345,-17.1296, -17.3248,-17.4713,-17.5201,-17.5257)
FOOTPRINT_POINT_LONGITUDE = (308.719,308.441,308.222,308.006, 307.793,307.583,307.375,307.362,307.356 ,307.353,307.349,307.346,307.342, 307.339,307.336,307.334,307.331,307.328 ,307.33,307.331,307.329,307.326,307.323 ,307.318,307.316,307.315,307.314, 307.312,307.306,307.298,307.294,307.291 ,307.289,307.287,307.284,307.282,307.28 ,307.277,307.275,307.272,307.27,307.267 ,307.264,307.262,307.257,307.251, 307.246,307.245,307.245,307.438,307.564 ,307.704,307.916,308.16,308.291,308.51, 308.673,308.688,308.696,308.696,308.697 ,308.698,308.698,308.7,308.71,308.732, 308.733,308.733,308.735,308.736,308.737 ,308.738,308.739,308.739,308.738,308.74 ,308.741,308.74,308.734,308.736,308.732 ,308.731,308.744,308.744,308.746, 308.744,308.732,308.717,308.716,308.716 ,308.714,308.715,308.715,308.716, 308.717,308.718,308.72,308.721,308.721, 308.719)
ORBIT_NUMBER = 16761
ORBITAL_ECCENTRICITY = 0.579
ORBITAL_INCLINATION = 86.94
ORBITAL_SEMIMAJOR_AXIS = 8833.67
PERIAPSIS_ALTITUDE = 331.45
PERIAPSIS_ARGUMENT_ANGLE = 330.02
PERIAPSIS_TIME = 2017-03-27T03:00:33.000Z
SPACECRAFT_ORIENTATION = (0.0,1.0,0.0)
^MEX_ORIENTATION_DESC = "MEX_ORIENTATION_DESC.TXT"
SPACECRAFT_POINTING_MODE = ACROSSTRACK
^MEX_POINTING_DESC = "MEX_POINTING_DESC.TXT"
RIGHT_ASCENSION = -1e+32
DECLINATION = -1e+32
OFFSET_ANGLE = -1.078
SPACECRAFT_SOLAR_DISTANCE = 2.25414e+08
TARGET_NAME = MARS
/* CAMERA DATA ELEMENTS */
DETECTOR_TEMPERATURE = 17.351
FOCAL_PLANE_TEMPERATURE = 8.3794
INST_CMPRS_NAME = "DISCRETE COSINE TRANSFORMATION (DCT)"
INST_CMPRS_RATIO = 7.27887
INST_CMPRS_QUALITY = 0
INST_CMPRS_QUANTZ_TBL_ID = 0
INSTRUMENT_TEMPERATURE = 11.8457
LENS_TEMPERATURE = 8.5833
MACROPIXEL_SIZE = 1
MISSING_FRAMES = 0
PIXEL_SUBSAMPLING_FLAG = N
SIGNAL_CHAIN_ID = 0
/* RADIOMETRIC DATA ELEMENTS */
BANDWIDTH = 177.0
CENTER_FILTER_WAVELENGTH = 677.5
RADIANCE_OFFSET = 2.87631
RADIANCE_SCALING_FACTOR = 0.0111208
REFLECTANCE_SCALING_FACTOR = 0.000300179
MEX:REFLECTANCE_OFFSET = 0.0776392
/* IMAGE OBJECT DEFINITIONS */
OBJECT = IMAGE
  INTERCHANGE_FORMAT = BINARY
  LINES = 26748
  LINE_SAMPLES = 6915
  SAMPLE_TYPE = UNSIGNED_INTEGER
  SAMPLE_BITS = 8
  BANDS = 1
  BAND_STORAGE_TYPE = BAND_SEQUENTIAL
  MAXIMUM = 255
  MEAN = 143.692
  MINIMUM = 1
  STANDARD_DEVIATION = 34.2727
END_OBJECT = IMAGE
/* MAP OBJECT DEFINITIONS */
OBJECT = IMAGE_MAP_PROJECTION
  ^DATA_SET_MAP_PROJECTION_CATALOG= "DSMAP.CAT"
  A_AXIS_RADIUS = 3396.0
  B_AXIS_RADIUS = 3396.0
  C_AXIS_RADIUS = 3396.0
  CENTER_LATITUDE = 0.0
  CENTER_LONGITUDE = 308.0
  COORDINATE_SYSTEM_NAME = PLANETOGRAPHIC
  COORDINATE_SYSTEM_TYPE = "BODY-FIXED ROTATING"
  EASTERNMOST_LONGITUDE = 308.746
  FIRST_STANDARD_PARALLEL = "N/A"
  LINE_FIRST_PIXEL = 1
  LINE_LAST_PIXEL = 26748
  LINE_PROJECTION_OFFSET = -56425.0
  MAP_PROJECTION_ROTATION = 0.0
  MAP_PROJECTION_TYPE = SINUSOIDAL
  MAP_RESOLUTION = 4741.71043093333
  MAP_SCALE = 0.0125
  MAXIMUM_LATITUDE = -11.8994
  MINIMUM_LATITUDE = -17.5403
  POSITIVE_LONGITUDE_DIRECTION = EAST
  REFERENCE_LATITUDE = "N/A"
  REFERENCE_LONGITUDE = "N/A"
  SAMPLE_FIRST_PIXEL = 1
  SAMPLE_LAST_PIXEL = 6915
  SAMPLE_PROJECTION_OFFSET = 3504.0
  SECOND_STANDARD_PARALLEL = "N/A"
  WESTERNMOST_LONGITUDE = 307.245
END_OBJECT = IMAGE_MAP_PROJECTION
END
