PDS_VERSION_ID = PDS3
/* FILE DATA ELEMENTS */
RECORD_TYPE = UNDEFINED
/* POINTERS TO DATA OBJECTS */
^IMAGE = ("HG761_0000_S24.TIF")
/* IDENTIFICATION DATA ELEMENTS */
DATA_SET_ID = "MEX-M-HRSC-4-REFDR-MAPPROJECT-EXT6-V4.0"
DATA_SET_NAME = "MARS EXPRESS HRSC MAP PROJECTED REFDR EXTENSION6 V4.0"
DETECTOR_ID = MEX_HRSC_S2
EVENT_TYPE = "MARS-REGIONAL-STEREO-Eb-La-Tc"
INSTRUMENT_HOST_ID = MEX
INSTRUMENT_HOST_NAME = "MARS EXPRESS"
INSTRUMENT_ID = HRSC
INSTRUMENT_NAME = "HIGH RESOLUTION STEREO CAMERA"
MISSION_NAME = "MARS EXPRESS"
MISSION_PHASE_NAME = ME_Phase_36
PROCESSING_LEVEL_ID = 4
PRODUCT_CREATION_TIME = 2023-01-26T14:39:22.000Z
PRODUCT_ID = "HG761_0000_S24.TIF"
RELEASE_ID = 0001
REVISION_ID = 0000
/* QUALITY DATA ELEMENTS */
DATA_QUALITY_ID = 1
DATA_QUALITY_DESC = "Data calculated based on original SPICE kernels"
/* TIME DATA ELEMENTS */
SPACECRAFT_CLOCK_START_COUNT = "1/0438663782.09064"
SPACECRAFT_CLOCK_STOP_COUNT = "1/0438663943.25630"
START_TIME = 2017-03-27T03:03:10.149Z
STOP_TIME = 2017-03-27T03:04:35.019Z
/* ORBITAL DATA ELEMENTS */
ASCENDING_NODE_LONGITUDE = 259.1
MAXIMUM_RESOLUTION = 0.0149
FOOTPRINT_POINT_LATITUDE = (-17.4976,-17.5112,-17.5201,-17.5372, -17.5536,-17.5691,-17.584,-17.5982, -17.5991,-17.5987,-17.3915,-17.1323, -16.9768,-16.8211,-16.6651,-16.5092, -16.3511,-16.2457,-16.0911,-15.9345, -15.7443,-15.633,-15.4765,-15.3719, -15.1735,-14.9614,-14.8016,-14.6462, -14.4298,-14.265,-14.1467,-13.9611, -13.8371,-13.7131,-13.5884,-13.4643, -13.3407,-13.2168,-13.0927,-12.9689, -12.8456,-12.7216,-12.5978,-12.4739, -12.3502,-12.1651,-12.0413,-11.9796, -11.9749,-11.9638,-11.951,-11.9409, -11.9278,-11.92,-11.9087,-11.8905, -11.8814,-11.8682,-11.8668,-11.8665, -11.9905,-12.1145,-12.3003,-12.4243, -12.5484,-12.6725,-12.8572,-12.9668, -13.1247,-13.2486,-13.3736,-13.5577, -13.6819,-13.8665,-14.0523,-14.1766, -14.3623,-14.4815,-14.5886,-14.7471, -14.9041,-15.1183,-15.3131,-15.5227, -15.6354,-15.7618,-15.8728,-15.9776, -16.0825,-16.1886,-16.2935,-16.4501, -16.5549,-16.7121,-16.92,-17.0242, -17.1802,-17.4396,-17.4916,-17.4976)
FOOTPRINT_POINT_LONGITUDE = (308.716,308.551,308.442,308.227, 308.014,307.805,307.598,307.394,307.381 ,307.375,307.372,307.368,307.366, 307.363,307.361,307.358,307.356,307.355 ,307.352,307.35,307.354,307.354,307.351 ,307.35,307.344,307.341,307.339,307.336 ,307.329,307.321,307.318,307.314, 307.312,307.309,307.307,307.305,307.302 ,307.3,307.297,307.295,307.292,307.29, 307.287,307.285,307.282,307.278,307.275 ,307.274,307.274,307.421,307.597, 307.733,307.912,308.022,308.162,308.389 ,308.503,308.661,308.676,308.683, 308.684,308.684,308.685,308.686,308.686 ,308.687,308.689,308.7,308.723,308.724, 308.724,308.727,308.727,308.73,308.731, 308.732,308.733,308.733,308.732,308.731 ,308.731,308.727,308.74,308.74,308.734, 308.716,308.711,308.711,308.711,308.711 ,308.711,308.711,308.711,308.712, 308.713,308.714,308.715,308.718,308.718 ,308.716)
ORBIT_NUMBER = 16761
ORBITAL_ECCENTRICITY = 0.579
ORBITAL_INCLINATION = 86.94
ORBITAL_SEMIMAJOR_AXIS = 8833.67
PERIAPSIS_ALTITUDE = 331.45
PERIAPSIS_ARGUMENT_ANGLE = 330.02
PERIAPSIS_TIME = 2017-03-27T03:00:33.000Z
SPACECRAFT_ORIENTATION = (0.0,1.0,0.0)
^MEX_ORIENTATION_DESC = "MEX_ORIENTATION_DESC.TXT"
SPACECRAFT_POINTING_MODE = ACROSSTRACK
^MEX_POINTING_DESC = "MEX_POINTING_DESC.TXT"
RIGHT_ASCENSION = -1e+32
DECLINATION = -1e+32
OFFSET_ANGLE = -1.078
SPACECRAFT_SOLAR_DISTANCE = 2.25414e+08
TARGET_NAME = MARS
/* CAMERA DATA ELEMENTS */
DETECTOR_TEMPERATURE = 18.5744
FOCAL_PLANE_TEMPERATURE = 8.3794
INST_CMPRS_NAME = "DISCRETE COSINE TRANSFORMATION (DCT)"
INST_CMPRS_RATIO = 7.36089
INST_CMPRS_QUALITY = 0
INST_CMPRS_QUANTZ_TBL_ID = 0
INSTRUMENT_TEMPERATURE = 11.8457
LENS_TEMPERATURE = 8.5833
MACROPIXEL_SIZE = 1
MISSING_FRAMES = 0
PIXEL_SUBSAMPLING_FLAG = N
SIGNAL_CHAIN_ID = 1
/* RADIOMETRIC DATA ELEMENTS */
BANDWIDTH = 178.0
CENTER_FILTER_WAVELENGTH = 679.0
RADIANCE_OFFSET = 3.45249
RADIANCE_SCALING_FACTOR = 0.0113351
REFLECTANCE_SCALING_FACTOR = 0.000305012
MEX:REFLECTANCE_OFFSET = 0.0929015
/* IMAGE OBJECT DEFINITIONS */
OBJECT = IMAGE
  INTERCHANGE_FORMAT = BINARY
  LINES = 26748
  LINE_SAMPLES = 6915
  SAMPLE_TYPE = UNSIGNED_INTEGER
  SAMPLE_BITS = 8
  BANDS = 1
  BAND_STORAGE_TYPE = BAND_SEQUENTIAL
  MAXIMUM = 255
  MEAN = 147.766
  MINIMUM = 1
  STANDARD_DEVIATION = 35.9276
END_OBJECT = IMAGE
/* MAP OBJECT DEFINITIONS */
OBJECT = IMAGE_MAP_PROJECTION
  ^DATA_SET_MAP_PROJECTION_CATALOG= "DSMAP.CAT"
  A_AXIS_RADIUS = 3396.0
  B_AXIS_RADIUS = 3396.0
  C_AXIS_RADIUS = 3396.0
  CENTER_LATITUDE = 0.0
  CENTER_LONGITUDE = 308.0
  COORDINATE_SYSTEM_NAME = PLANETOGRAPHIC
  COORDINATE_SYSTEM_TYPE = "BODY-FIXED ROTATING"
  EASTERNMOST_LONGITUDE = 308.74
  FIRST_STANDARD_PARALLEL = "N/A"
  LINE_FIRST_PIXEL = 1
  LINE_LAST_PIXEL = 26748
  LINE_PROJECTION_OFFSET = -56425.0
  MAP_PROJECTION_ROTATION = 0.0
  MAP_PROJECTION_TYPE = SINUSOIDAL
  MAP_RESOLUTION = 4741.71043093333
  MAP_SCALE = 0.0125
  MAXIMUM_LATITUDE = -11.8665
  MINIMUM_LATITUDE = -17.5991
  POSITIVE_LONGITUDE_DIRECTION = EAST
  REFERENCE_LATITUDE = "N/A"
  REFERENCE_LONGITUDE = "N/A"
  SAMPLE_FIRST_PIXEL = 1
  SAMPLE_LAST_PIXEL = 6915
  SAMPLE_PROJECTION_OFFSET = 3504.0
  SECOND_STANDARD_PARALLEL = "N/A"
  WESTERNMOST_LONGITUDE = 307.274
END_OBJECT = IMAGE_MAP_PROJECTION
END
