PDS_VERSION_ID = PDS3
/* FILE DATA ELEMENTS */
RECORD_TYPE = UNDEFINED
/* POINTERS TO DATA OBJECTS */
^IMAGE = ("HG762_0000_P14.TIF")
/* IDENTIFICATION DATA ELEMENTS */
DATA_SET_ID = "MEX-M-HRSC-4-REFDR-MAPPROJECT-EXT6-V4.0"
DATA_SET_NAME = "MARS EXPRESS HRSC MAP PROJECTED REFDR EXTENSION6 V4.0"
DETECTOR_ID = MEX_HRSC_P1
EVENT_TYPE = "MARS-REGIONAL-MAPPING-Te"
INSTRUMENT_HOST_ID = MEX
INSTRUMENT_HOST_NAME = "MARS EXPRESS"
INSTRUMENT_ID = HRSC
INSTRUMENT_NAME = "HIGH RESOLUTION STEREO CAMERA"
MISSION_NAME = "MARS EXPRESS"
MISSION_PHASE_NAME = ME_Phase_36
PROCESSING_LEVEL_ID = 4
PRODUCT_CREATION_TIME = 2023-01-26T14:39:22.000Z
PRODUCT_ID = "HG762_0000_P14.TIF"
RELEASE_ID = 0001
REVISION_ID = 0000
/* QUALITY DATA ELEMENTS */
DATA_QUALITY_ID = 1
DATA_QUALITY_DESC = "Data calculated based on original SPICE kernels"
/* TIME DATA ELEMENTS */
SPACECRAFT_CLOCK_START_COUNT = "1/0438688810.09038"
SPACECRAFT_CLOCK_STOP_COUNT = "1/0438688970.15351"
START_TIME = 2017-03-27T10:01:07.137Z
STOP_TIME = 2017-03-27T10:02:45.254Z
/* ORBITAL DATA ELEMENTS */
ASCENDING_NODE_LONGITUDE = 259.09
MAXIMUM_RESOLUTION = 0.0273
FOOTPRINT_POINT_LATITUDE = (-27.6865,-27.6879,-27.6891,-27.6899, -27.6908,-27.6915,-27.6923,-27.6923, -27.7006,-27.5759,-27.3269,-27.1435, -26.9574,-26.8329,-26.6461,-26.5216, -26.3972,-26.2727,-26.1483,-25.9619, -25.8368,-25.7122,-25.5261,-25.2781, -25.0302,-24.8444,-24.5947,-24.4668, -24.339,-24.2111,-24.0189,-23.8279, -23.6367,-23.5093,-23.3817,-23.2541, -23.1268,-22.9997,-22.809,-22.6183, -22.4913,-22.3642,-22.1739,-22.0471, -21.9205,-21.7937,-21.6671,-21.4771, -21.4138,-21.3843,-21.3829,-21.3816, -21.3792,-21.3774,-21.375,-21.3724, -21.3703,-21.3702,-21.3706,-21.5605, -21.7507,-21.8776,-22.0041,-22.1311, -22.2579,-22.3851,-22.5773,-22.7051, -22.8972,-23.0248,-23.1523,-23.3435, -23.471,-23.5987,-23.7899,-23.9161, -24.1058,-24.2334,-24.3616,-24.4896, -24.6174,-24.7435,-24.9918,-25.1177, -25.3649,-25.6136,-25.8001,-25.9244, -26.1725,-26.3592,-26.4838,-26.6083, -26.7329,-26.9816,-27.1688,-27.2938, -27.4185,-27.6059,-27.6684,-27.6865)
FOOTPRINT_POINT_LONGITUDE = (204.942,204.742,204.542,204.378, 204.176,203.974,203.656,203.643,203.632 ,203.634,203.636,203.635,203.637, 203.638,203.64,203.641,203.642,203.644, 203.645,203.646,203.648,203.649,203.651 ,203.652,203.654,203.655,203.656, 203.656,203.657,203.657,203.659,203.659 ,203.66,203.66,203.66,203.661,203.661, 203.661,203.661,203.662,203.662,203.662 ,203.662,203.662,203.661,203.661, 203.661,203.661,203.661,203.661,203.828 ,203.994,204.224,204.39,204.606,204.808 ,204.96,204.972,204.977,204.976,204.975 ,204.975,204.974,204.973,204.973, 204.972,204.972,204.971,204.971,204.97, 204.97,204.969,204.968,204.967,204.966, 204.965,204.964,204.963,204.963,204.962 ,204.961,204.961,204.96,204.96,204.958, 204.957,204.956,204.955,204.954,204.953 ,204.952,204.951,204.951,204.949, 204.948,204.947,204.947,204.946,204.945 ,204.942)
ORBIT_NUMBER = 16762
ORBITAL_ECCENTRICITY = 0.579
ORBITAL_INCLINATION = 86.95
ORBITAL_SEMIMAJOR_AXIS = 8832.24
PERIAPSIS_ALTITUDE = 331.16
PERIAPSIS_ARGUMENT_ANGLE = 329.83
PERIAPSIS_TIME = 2017-03-27T10:00:11.000Z
SPACECRAFT_ORIENTATION = (0.0,1.0,0.0)
^MEX_ORIENTATION_DESC = "MEX_ORIENTATION_DESC.TXT"
SPACECRAFT_POINTING_MODE = ACROSSTRACK
^MEX_POINTING_DESC = "MEX_POINTING_DESC.TXT"
RIGHT_ASCENSION = -1e+32
DECLINATION = -1e+32
OFFSET_ANGLE = 0.269
SPACECRAFT_SOLAR_DISTANCE = 2.25471e+08
TARGET_NAME = MARS
/* CAMERA DATA ELEMENTS */
DETECTOR_TEMPERATURE = 17.351
FOCAL_PLANE_TEMPERATURE = 7.9716
INST_CMPRS_NAME = "DISCRETE COSINE TRANSFORMATION (DCT)"
INST_CMPRS_RATIO = 11.883
INST_CMPRS_QUALITY = 0
INST_CMPRS_QUANTZ_TBL_ID = 0
INSTRUMENT_TEMPERATURE = 11.0301
LENS_TEMPERATURE = 8.5833
MACROPIXEL_SIZE = 2
MISSING_FRAMES = 0
PIXEL_SUBSAMPLING_FLAG = N
SIGNAL_CHAIN_ID = 3
/* RADIOMETRIC DATA ELEMENTS */
BANDWIDTH = 174.0
CENTER_FILTER_WAVELENGTH = 675.0
RADIANCE_OFFSET = 3.76268
RADIANCE_SCALING_FACTOR = 0.0170257
REFLECTANCE_SCALING_FACTOR = 0.000465556
MEX:REFLECTANCE_OFFSET = 0.102888
/* IMAGE OBJECT DEFINITIONS */
OBJECT = IMAGE
  INTERCHANGE_FORMAT = BINARY
  LINES = 15016
  LINE_SAMPLES = 2899
  SAMPLE_TYPE = UNSIGNED_INTEGER
  SAMPLE_BITS = 8
  BANDS = 1
  BAND_STORAGE_TYPE = BAND_SEQUENTIAL
  MAXIMUM = 255
  MEAN = 124.681
  MINIMUM = 1
  STANDARD_DEVIATION = 41.3828
END_OBJECT = IMAGE
/* MAP OBJECT DEFINITIONS */
OBJECT = IMAGE_MAP_PROJECTION
  ^DATA_SET_MAP_PROJECTION_CATALOG= "DSMAP.CAT"
  A_AXIS_RADIUS = 3396.0
  B_AXIS_RADIUS = 3396.0
  C_AXIS_RADIUS = 3396.0
  CENTER_LATITUDE = 0.0
  CENTER_LONGITUDE = 204.0
  COORDINATE_SYSTEM_NAME = PLANETOGRAPHIC
  COORDINATE_SYSTEM_TYPE = "BODY-FIXED ROTATING"
  EASTERNMOST_LONGITUDE = 204.977
  FIRST_STANDARD_PARALLEL = "N/A"
  LINE_FIRST_PIXEL = 1
  LINE_LAST_PIXEL = 15016
  LINE_PROJECTION_OFFSET = -50680.25
  MAP_PROJECTION_ROTATION = 0.0
  MAP_PROJECTION_TYPE = SINUSOIDAL
  MAP_RESOLUTION = 2370.85521546667
  MAP_SCALE = 0.025
  MAXIMUM_LATITUDE = -21.3702
  MINIMUM_LATITUDE = -27.7006
  POSITIVE_LONGITUDE_DIRECTION = EAST
  REFERENCE_LATITUDE = "N/A"
  REFERENCE_LONGITUDE = "N/A"
  SAMPLE_FIRST_PIXEL = 1
  SAMPLE_LAST_PIXEL = 2899
  SAMPLE_PROJECTION_OFFSET = 766.25
  SECOND_STANDARD_PARALLEL = "N/A"
  WESTERNMOST_LONGITUDE = 203.632
END_OBJECT = IMAGE_MAP_PROJECTION
END
