PDS_VERSION_ID = PDS3
/* FILE DATA ELEMENTS */
RECORD_TYPE = UNDEFINED
/* POINTERS TO DATA OBJECTS */
^IMAGE = ("HG764_0000_P14.TIF")
/* IDENTIFICATION DATA ELEMENTS */
DATA_SET_ID = "MEX-M-HRSC-4-REFDR-MAPPROJECT-EXT6-V4.0"
DATA_SET_NAME = "MARS EXPRESS HRSC MAP PROJECTED REFDR EXTENSION6 V4.0"
DETECTOR_ID = MEX_HRSC_P1
EVENT_TYPE = "MARS-LOCAL-CARTOGRAPHY-Im-Tc-Ts"
INSTRUMENT_HOST_ID = MEX
INSTRUMENT_HOST_NAME = "MARS EXPRESS"
INSTRUMENT_ID = HRSC
INSTRUMENT_NAME = "HIGH RESOLUTION STEREO CAMERA"
MISSION_NAME = "MARS EXPRESS"
MISSION_PHASE_NAME = ME_Phase_36
PROCESSING_LEVEL_ID = 4
PRODUCT_CREATION_TIME = 2023-01-26T14:39:22.000Z
PRODUCT_ID = "HG764_0000_P14.TIF"
RELEASE_ID = 0001
REVISION_ID = 0000
/* QUALITY DATA ELEMENTS */
DATA_QUALITY_ID = 1
DATA_QUALITY_DESC = "Data calculated based on original SPICE kernels"
/* TIME DATA ELEMENTS */
SPACECRAFT_CLOCK_START_COUNT = "1/0438739506.09104"
SPACECRAFT_CLOCK_STOP_COUNT = "1/0438739636.41618"
START_TIME = 2017-03-28T00:06:23.684Z
STOP_TIME = 2017-03-28T00:07:04.791Z
/* ORBITAL DATA ELEMENTS */
ASCENDING_NODE_LONGITUDE = 259.05
MAXIMUM_RESOLUTION = 0.0368
FOOTPRINT_POINT_LATITUDE = (-6.34125,-6.342,-6.3425,-6.34302, -6.34354,-6.34407,-6.34461,-6.34515, -6.34568,-6.34623,-6.34694,-6.3475, -6.34807,-6.34866,-6.35033,-6.35159, -6.35305,-6.35472,-6.35626,-6.35643, -6.36488,-6.29498,-6.22483,-6.13107, -6.03753,-5.94406,-5.87407,-5.78063, -5.71046,-5.61687,-5.52343,-5.43027, -5.33553,-5.24013,-5.14505,-5.05019, -4.97925,-4.837,-4.71829,-4.6234, -4.5264,-4.42936,-4.35673,-4.23567, -4.16309,-4.0912,-4.0227,-4.00023, -3.99979,-3.99628,-3.99374,-3.98963, -3.98952,-3.9899,-3.98846,-3.98715, -3.98644,-3.9856,-3.98446,-3.88531, -3.9828,-3.98192,-3.98117,-3.9805, -3.97939,-3.97831,-3.97767,-3.9779, -3.97669,-3.97496,-3.97482,-3.97514, -4.04754,-4.16812,-4.31299,-4.43424, -4.50692,-4.60388,-4.69885,-4.77013, -4.86518,-4.93643,-5.0315,-5.12682, -5.22216,-5.31757,-5.38875,-5.45889, -5.52905,-5.64576,-5.71631,-5.78792, -5.85855,-5.95279,-6.04438,-6.13885, -6.25534,-6.32432,-6.34731,-6.34125)
FOOTPRINT_POINT_LONGITUDE = (360.835,360.739,360.675,360.611, 360.547,360.483,360.419,360.355,360.291 ,360.227,360.147,360.083,360.019, 359.955,359.78,359.652,359.509,359.349, 359.206,359.19,359.181,359.179,359.178, 359.175,359.172,359.169,359.167,359.164 ,359.161,359.158,359.155,359.152, 359.149,359.146,359.143,359.14,359.137, 359.132,359.128,359.125,359.122,359.119 ,359.116,359.112,359.11,359.107,359.103 ,359.102,359.101,359.203,359.272, 359.341,359.442,359.51,359.577,359.662, 359.781,359.849,359.95,360.009,360.035, 360.103,360.171,360.256,360.375,360.494 ,360.562,360.63,360.749,360.834,360.851 ,360.857,360.857,360.855,360.854, 360.853,360.853,360.852,360.851,360.851 ,360.85,360.849,360.848,360.848,360.847 ,360.846,360.846,360.845,360.845, 360.844,360.843,360.844,360.843,360.843 ,360.841,360.84,360.84,360.839,360.839, 360.835)
ORBIT_NUMBER = 16764
ORBITAL_ECCENTRICITY = 0.579
ORBITAL_INCLINATION = 86.94
ORBITAL_SEMIMAJOR_AXIS = 8833.88
PERIAPSIS_ALTITUDE = 331.38
PERIAPSIS_ARGUMENT_ANGLE = 329.48
PERIAPSIS_TIME = 2017-03-27T23:59:39.000Z
SPACECRAFT_ORIENTATION = (0.0,1.0,0.0)
^MEX_ORIENTATION_DESC = "MEX_ORIENTATION_DESC.TXT"
SPACECRAFT_POINTING_MODE = ACROSSTRACK
^MEX_POINTING_DESC = "MEX_POINTING_DESC.TXT"
RIGHT_ASCENSION = -1e+32
DECLINATION = -1e+32
OFFSET_ANGLE = -0.108
SPACECRAFT_SOLAR_DISTANCE = 2.25585e+08
TARGET_NAME = MARS
/* CAMERA DATA ELEMENTS */
DETECTOR_TEMPERATURE = 17.7588
FOCAL_PLANE_TEMPERATURE = 8.9911
INST_CMPRS_NAME = "DISCRETE COSINE TRANSFORMATION (DCT)"
INST_CMPRS_RATIO = 11.5404
INST_CMPRS_QUALITY = 0
INST_CMPRS_QUANTZ_TBL_ID = 0
INSTRUMENT_TEMPERATURE = 11.8457
LENS_TEMPERATURE = 9.3989
MACROPIXEL_SIZE = 2
MISSING_FRAMES = 0
PIXEL_SUBSAMPLING_FLAG = N
SIGNAL_CHAIN_ID = 3
/* RADIOMETRIC DATA ELEMENTS */
BANDWIDTH = 174.0
CENTER_FILTER_WAVELENGTH = 675.0
RADIANCE_OFFSET = 4.09633
RADIANCE_SCALING_FACTOR = 0.0119333
REFLECTANCE_SCALING_FACTOR = 0.00032664
MEX:REFLECTANCE_OFFSET = 0.112125
/* IMAGE OBJECT DEFINITIONS */
OBJECT = IMAGE
  INTERCHANGE_FORMAT = BINARY
  LINES = 5695
  LINE_SAMPLES = 3954
  SAMPLE_TYPE = UNSIGNED_INTEGER
  SAMPLE_BITS = 8
  BANDS = 1
  BAND_STORAGE_TYPE = BAND_SEQUENTIAL
  MAXIMUM = 255
  MEAN = 79.3248
  MINIMUM = 1
  STANDARD_DEVIATION = 24.3207
END_OBJECT = IMAGE
/* MAP OBJECT DEFINITIONS */
OBJECT = IMAGE_MAP_PROJECTION
  ^DATA_SET_MAP_PROJECTION_CATALOG= "DSMAP.CAT"
  A_AXIS_RADIUS = 3396.0
  B_AXIS_RADIUS = 3396.0
  C_AXIS_RADIUS = 3396.0
  CENTER_LATITUDE = 0.0
  CENTER_LONGITUDE = 360.0
  COORDINATE_SYSTEM_NAME = PLANETOGRAPHIC
  COORDINATE_SYSTEM_TYPE = "BODY-FIXED ROTATING"
  EASTERNMOST_LONGITUDE = 0.857
  FIRST_STANDARD_PARALLEL = "N/A"
  LINE_FIRST_PIXEL = 1
  LINE_LAST_PIXEL = 5695
  LINE_PROJECTION_OFFSET = -9391.75
  MAP_PROJECTION_ROTATION = 0.0
  MAP_PROJECTION_TYPE = SINUSOIDAL
  MAP_RESOLUTION = 2370.85521546667
  MAP_SCALE = 0.025
  MAXIMUM_LATITUDE = -3.88531
  MINIMUM_LATITUDE = -6.36488
  POSITIVE_LONGITUDE_DIRECTION = EAST
  REFERENCE_LATITUDE = "N/A"
  REFERENCE_LONGITUDE = "N/A"
  SAMPLE_FIRST_PIXEL = 1
  SAMPLE_LAST_PIXEL = 3954
  SAMPLE_PROJECTION_OFFSET = 2029.75
  SECOND_STANDARD_PARALLEL = "N/A"
  WESTERNMOST_LONGITUDE = -0.899
END_OBJECT = IMAGE_MAP_PROJECTION
END
