PDS_VERSION_ID = PDS3
/* FILE DATA ELEMENTS */
RECORD_TYPE = UNDEFINED
/* POINTERS TO DATA OBJECTS */
^IMAGE = ("HG764_0000_P24.TIF")
/* IDENTIFICATION DATA ELEMENTS */
DATA_SET_ID = "MEX-M-HRSC-4-REFDR-MAPPROJECT-EXT6-V4.0"
DATA_SET_NAME = "MARS EXPRESS HRSC MAP PROJECTED REFDR EXTENSION6 V4.0"
DETECTOR_ID = MEX_HRSC_P2
EVENT_TYPE = "MARS-LOCAL-CARTOGRAPHY-Im-Tc-Ts"
INSTRUMENT_HOST_ID = MEX
INSTRUMENT_HOST_NAME = "MARS EXPRESS"
INSTRUMENT_ID = HRSC
INSTRUMENT_NAME = "HIGH RESOLUTION STEREO CAMERA"
MISSION_NAME = "MARS EXPRESS"
MISSION_PHASE_NAME = ME_Phase_36
PROCESSING_LEVEL_ID = 4
PRODUCT_CREATION_TIME = 2023-01-26T14:39:22.000Z
PRODUCT_ID = "HG764_0000_P24.TIF"
RELEASE_ID = 0001
REVISION_ID = 0000
/* QUALITY DATA ELEMENTS */
DATA_QUALITY_ID = 1
DATA_QUALITY_DESC = "Data calculated based on original SPICE kernels"
/* TIME DATA ELEMENTS */
SPACECRAFT_CLOCK_START_COUNT = "1/0438739506.09104"
SPACECRAFT_CLOCK_STOP_COUNT = "1/0438739636.41618"
START_TIME = 2017-03-28T00:05:27.528Z
STOP_TIME = 2017-03-28T00:06:04.685Z
/* ORBITAL DATA ELEMENTS */
ASCENDING_NODE_LONGITUDE = 259.05
MAXIMUM_RESOLUTION = 0.0339
FOOTPRINT_POINT_LATITUDE = (-6.3332,-6.33468,-6.33583,-6.33696, -6.33807,-6.33916,-6.3405,-6.34153, -6.34254,-6.34352,-6.34473,-6.34566, -6.34658,-6.3483,-6.34993,-6.35148, -6.35293,-6.35397,-6.35513,-6.35605, -6.3562,-6.34905,-6.23399,-6.16477, -6.0726,-5.98039,-5.91112,-5.84195, -5.7731,-5.68124,-5.58932,-5.52053, -5.42676,-5.30919,-5.21501,-5.14432, -5.04999,-4.97912,-4.88479,-4.7912, -4.72087,-4.62702,-4.55691,-4.46231, -4.34277,-4.24689,-4.12657,-4.00115, -3.97716,-3.96574,-3.96772,-3.97034, -3.96835,-3.96608,-3.96527,-3.96452, -3.96295,-3.96189,-3.96095,-3.95951, -4.06248,-4.00058,-4.06152,-3.95844, -3.95711,-3.9551,-3.95396,-3.9528, -3.95181,-3.9506,-3.94702,-3.9449, -3.94516,-3.94562,-4.04132,-4.13802, -4.21049,-4.33076,-4.40281,-4.49842, -4.59233,-4.66278,-4.75678,-4.85084, -4.9686,-5.08634,-5.18048,-5.29824, -5.39257,-5.50969,-5.60169,-5.71686, -5.85522,-5.92343,-5.99248,-6.06184, -6.15369,-6.29172,-6.31493,-6.3332)
FOOTPRINT_POINT_LONGITUDE = (360.772,360.697,360.638,360.578, 360.519,360.46,360.386,360.327,360.268, 360.208,360.134,360.075,360.016,359.898 ,359.78,359.662,359.544,359.455,359.352 ,359.263,359.248,359.241,359.238, 359.236,359.233,359.231,359.229,359.227 ,359.225,359.222,359.22,359.218,359.215 ,359.212,359.209,359.207,359.204, 359.202,359.199,359.197,359.195,359.192 ,359.19,359.187,359.184,359.181,359.177 ,359.171,359.171,359.17,359.265,359.328 ,359.39,359.467,359.576,359.654,359.716 ,359.794,359.857,359.95,359.961,359.994 ,360.02,360.043,360.153,360.262,360.324 ,360.387,360.464,360.527,360.637, 360.762,360.777,360.783,360.783,360.782 ,360.782,360.781,360.781,360.781, 360.781,360.78,360.78,360.78,360.779, 360.779,360.778,360.778,360.778,360.777 ,360.777,360.777,360.776,360.776, 360.776,360.776,360.776,360.775,360.775 ,360.772)
ORBIT_NUMBER = 16764
ORBITAL_ECCENTRICITY = 0.579
ORBITAL_INCLINATION = 86.94
ORBITAL_SEMIMAJOR_AXIS = 8833.88
PERIAPSIS_ALTITUDE = 331.38
PERIAPSIS_ARGUMENT_ANGLE = 329.48
PERIAPSIS_TIME = 2017-03-27T23:59:39.000Z
SPACECRAFT_ORIENTATION = (0.0,1.0,0.0)
^MEX_ORIENTATION_DESC = "MEX_ORIENTATION_DESC.TXT"
SPACECRAFT_POINTING_MODE = ACROSSTRACK
^MEX_POINTING_DESC = "MEX_POINTING_DESC.TXT"
RIGHT_ASCENSION = -1e+32
DECLINATION = -1e+32
OFFSET_ANGLE = -0.108
SPACECRAFT_SOLAR_DISTANCE = 2.25585e+08
TARGET_NAME = MARS
/* CAMERA DATA ELEMENTS */
DETECTOR_TEMPERATURE = 19.1861
FOCAL_PLANE_TEMPERATURE = 8.9911
INST_CMPRS_NAME = "DISCRETE COSINE TRANSFORMATION (DCT)"
INST_CMPRS_RATIO = 7.21771
INST_CMPRS_QUALITY = 0
INST_CMPRS_QUANTZ_TBL_ID = 0
INSTRUMENT_TEMPERATURE = 11.8457
LENS_TEMPERATURE = 9.3989
MACROPIXEL_SIZE = 2
MISSING_FRAMES = 0
PIXEL_SUBSAMPLING_FLAG = N
SIGNAL_CHAIN_ID = 3
/* RADIOMETRIC DATA ELEMENTS */
BANDWIDTH = 177.0
CENTER_FILTER_WAVELENGTH = 676.5
RADIANCE_OFFSET = 4.108
RADIANCE_SCALING_FACTOR = 0.0116714
REFLECTANCE_SCALING_FACTOR = 0.000314923
MEX:REFLECTANCE_OFFSET = 0.110844
/* IMAGE OBJECT DEFINITIONS */
OBJECT = IMAGE
  INTERCHANGE_FORMAT = BINARY
  LINES = 5695
  LINE_SAMPLES = 3954
  SAMPLE_TYPE = UNSIGNED_INTEGER
  SAMPLE_BITS = 8
  BANDS = 1
  BAND_STORAGE_TYPE = BAND_SEQUENTIAL
  MAXIMUM = 255
  MEAN = 82.4058
  MINIMUM = 1
  STANDARD_DEVIATION = 25.4366
END_OBJECT = IMAGE
/* MAP OBJECT DEFINITIONS */
OBJECT = IMAGE_MAP_PROJECTION
  ^DATA_SET_MAP_PROJECTION_CATALOG= "DSMAP.CAT"
  A_AXIS_RADIUS = 3396.0
  B_AXIS_RADIUS = 3396.0
  C_AXIS_RADIUS = 3396.0
  CENTER_LATITUDE = 0.0
  CENTER_LONGITUDE = 360.0
  COORDINATE_SYSTEM_NAME = PLANETOGRAPHIC
  COORDINATE_SYSTEM_TYPE = "BODY-FIXED ROTATING"
  EASTERNMOST_LONGITUDE = 0.783
  FIRST_STANDARD_PARALLEL = "N/A"
  LINE_FIRST_PIXEL = 1
  LINE_LAST_PIXEL = 5695
  LINE_PROJECTION_OFFSET = -9391.75
  MAP_PROJECTION_ROTATION = 0.0
  MAP_PROJECTION_TYPE = SINUSOIDAL
  MAP_RESOLUTION = 2370.85521546667
  MAP_SCALE = 0.025
  MAXIMUM_LATITUDE = -3.9449
  MINIMUM_LATITUDE = -6.3562
  POSITIVE_LONGITUDE_DIRECTION = EAST
  REFERENCE_LATITUDE = "N/A"
  REFERENCE_LONGITUDE = "N/A"
  SAMPLE_FIRST_PIXEL = 1
  SAMPLE_LAST_PIXEL = 3954
  SAMPLE_PROJECTION_OFFSET = 2029.75
  SECOND_STANDARD_PARALLEL = "N/A"
  WESTERNMOST_LONGITUDE = -0.83
END_OBJECT = IMAGE_MAP_PROJECTION
END
