PDS_VERSION_ID = PDS3
/* FILE DATA ELEMENTS */
RECORD_TYPE = UNDEFINED
/* POINTERS TO DATA OBJECTS */
^IMAGE = ("HG764_0000_S24.TIF")
/* IDENTIFICATION DATA ELEMENTS */
DATA_SET_ID = "MEX-M-HRSC-4-REFDR-MAPPROJECT-EXT6-V4.0"
DATA_SET_NAME = "MARS EXPRESS HRSC MAP PROJECTED REFDR EXTENSION6 V4.0"
DETECTOR_ID = MEX_HRSC_S2
EVENT_TYPE = "MARS-LOCAL-CARTOGRAPHY-Im-Tc-Ts"
INSTRUMENT_HOST_ID = MEX
INSTRUMENT_HOST_NAME = "MARS EXPRESS"
INSTRUMENT_ID = HRSC
INSTRUMENT_NAME = "HIGH RESOLUTION STEREO CAMERA"
MISSION_NAME = "MARS EXPRESS"
MISSION_PHASE_NAME = ME_Phase_36
PROCESSING_LEVEL_ID = 4
PRODUCT_CREATION_TIME = 2023-01-26T14:39:22.000Z
PRODUCT_ID = "HG764_0000_S24.TIF"
RELEASE_ID = 0001
REVISION_ID = 0000
/* QUALITY DATA ELEMENTS */
DATA_QUALITY_ID = 1
DATA_QUALITY_DESC = "Data calculated based on original SPICE kernels"
/* TIME DATA ELEMENTS */
SPACECRAFT_CLOCK_START_COUNT = "1/0438739506.09104"
SPACECRAFT_CLOCK_STOP_COUNT = "1/0438739636.41618"
START_TIME = 2017-03-28T00:05:14.131Z
STOP_TIME = 2017-03-28T00:05:50.638Z
/* ORBITAL DATA ELEMENTS */
ASCENDING_NODE_LONGITUDE = 259.05
MAXIMUM_RESOLUTION = 0.0172
FOOTPRINT_POINT_LATITUDE = (-6.33986,-6.34154,-6.34285,-6.34414, -6.3454,-6.34693,-6.34812,-6.34927, -6.3504,-6.35149,-6.35357,-6.35552, -6.3573,-6.35895,-6.36031,-6.36123, -6.36243,-6.36413,-6.36428,-6.35218, -6.28438,-6.19172,-6.09873,-6.029, -5.936,-5.84289,-5.7731,-5.68003, -5.56137,-5.46655,-5.34795,-5.25278, -5.18141,-5.08628,-4.96668,-4.8719, -4.75374,-4.68251,-4.61151,-4.53883, -4.41788,-4.34548,-4.24876,-4.17633, -4.07873,-4.00291,-3.97248,-3.95578, -3.96538,-3.96279,-3.96201,-3.9591, -3.95903,-3.95864,-3.95671,-3.95517, -3.9542,-3.95316,-4.10918,-4.01568, -4.10815,-3.9522,-3.95159,-3.95055, -3.94782,-3.94612,-3.94552,-3.94304, -3.94057,-3.93803,-3.9366,-3.93712, -3.93722,-4.03396,-4.15757,-4.25473, -4.32746,-4.42459,-4.49738,-4.61808, -4.71271,-4.83187,-4.927,-4.99836, -5.0932,-5.21186,-5.30685,-5.37823, -5.47345,-5.59242,-5.68755,-5.75754, -5.8498,-5.94155,-6.01186,-6.10439, -6.19675,-6.28968,-6.3129,-6.33986)
FOOTPRINT_POINT_LONGITUDE = (360.763,360.688,360.628,360.569, 360.509,360.435,360.375,360.315,360.256 ,360.196,360.077,359.958,359.839, 359.721,359.617,359.542,359.438,359.275 ,359.26,359.25,359.249,359.246,359.244, 359.242,359.239,359.237,359.235,359.232 ,359.229,359.226,359.223,359.22,359.218 ,359.216,359.212,359.209,359.206, 359.204,359.202,359.2,359.197,359.195, 359.192,359.19,359.187,359.184,359.182, 359.181,359.309,359.371,359.433,359.511 ,359.59,359.652,359.715,359.824,359.887 ,359.949,359.961,359.994,360.02,360.043 ,360.121,360.184,360.309,360.388, 360.451,360.529,360.592,360.687,360.749 ,360.765,360.773,360.772,360.771, 360.771,360.771,360.771,360.771,360.77, 360.77,360.77,360.769,360.769,360.769, 360.769,360.768,360.768,360.768,360.768 ,360.767,360.767,360.767,360.767, 360.767,360.767,360.767,360.767,360.766 ,360.763)
ORBIT_NUMBER = 16764
ORBITAL_ECCENTRICITY = 0.579
ORBITAL_INCLINATION = 86.94
ORBITAL_SEMIMAJOR_AXIS = 8833.88
PERIAPSIS_ALTITUDE = 331.38
PERIAPSIS_ARGUMENT_ANGLE = 329.48
PERIAPSIS_TIME = 2017-03-27T23:59:39.000Z
SPACECRAFT_ORIENTATION = (0.0,1.0,0.0)
^MEX_ORIENTATION_DESC = "MEX_ORIENTATION_DESC.TXT"
SPACECRAFT_POINTING_MODE = ACROSSTRACK
^MEX_POINTING_DESC = "MEX_POINTING_DESC.TXT"
RIGHT_ASCENSION = -1e+32
DECLINATION = -1e+32
OFFSET_ANGLE = -0.108
SPACECRAFT_SOLAR_DISTANCE = 2.25585e+08
TARGET_NAME = MARS
/* CAMERA DATA ELEMENTS */
DETECTOR_TEMPERATURE = 19.1861
FOCAL_PLANE_TEMPERATURE = 8.9911
INST_CMPRS_NAME = "DISCRETE COSINE TRANSFORMATION (DCT)"
INST_CMPRS_RATIO = 8.56939
INST_CMPRS_QUALITY = 0
INST_CMPRS_QUANTZ_TBL_ID = 0
INSTRUMENT_TEMPERATURE = 11.8457
LENS_TEMPERATURE = 9.3989
MACROPIXEL_SIZE = 1
MISSING_FRAMES = 0
PIXEL_SUBSAMPLING_FLAG = N
SIGNAL_CHAIN_ID = 1
/* RADIOMETRIC DATA ELEMENTS */
BANDWIDTH = 178.0
CENTER_FILTER_WAVELENGTH = 679.0
RADIANCE_OFFSET = 4.39074
RADIANCE_SCALING_FACTOR = 0.0117492
REFLECTANCE_SCALING_FACTOR = 0.000316637
MEX:REFLECTANCE_OFFSET = 0.118329
/* IMAGE OBJECT DEFINITIONS */
OBJECT = IMAGE
  INTERCHANGE_FORMAT = BINARY
  LINES = 11389
  LINE_SAMPLES = 7908
  SAMPLE_TYPE = UNSIGNED_INTEGER
  SAMPLE_BITS = 8
  BANDS = 1
  BAND_STORAGE_TYPE = BAND_SEQUENTIAL
  MAXIMUM = 255
  MEAN = 79.5049
  MINIMUM = 1
  STANDARD_DEVIATION = 25.8349
END_OBJECT = IMAGE
/* MAP OBJECT DEFINITIONS */
OBJECT = IMAGE_MAP_PROJECTION
  ^DATA_SET_MAP_PROJECTION_CATALOG= "DSMAP.CAT"
  A_AXIS_RADIUS = 3396.0
  B_AXIS_RADIUS = 3396.0
  C_AXIS_RADIUS = 3396.0
  CENTER_LATITUDE = 0.0
  CENTER_LONGITUDE = 360.0
  COORDINATE_SYSTEM_NAME = PLANETOGRAPHIC
  COORDINATE_SYSTEM_TYPE = "BODY-FIXED ROTATING"
  EASTERNMOST_LONGITUDE = 0.773
  FIRST_STANDARD_PARALLEL = "N/A"
  LINE_FIRST_PIXEL = 1
  LINE_LAST_PIXEL = 11389
  LINE_PROJECTION_OFFSET = -18783.0
  MAP_PROJECTION_ROTATION = 0.0
  MAP_PROJECTION_TYPE = SINUSOIDAL
  MAP_RESOLUTION = 4741.71043093333
  MAP_SCALE = 0.0125
  MAXIMUM_LATITUDE = -3.9366
  MINIMUM_LATITUDE = -6.36428
  POSITIVE_LONGITUDE_DIRECTION = EAST
  REFERENCE_LATITUDE = "N/A"
  REFERENCE_LONGITUDE = "N/A"
  SAMPLE_FIRST_PIXEL = 1
  SAMPLE_LAST_PIXEL = 7908
  SAMPLE_PROJECTION_OFFSET = 4060.0
  SECOND_STANDARD_PARALLEL = "N/A"
  WESTERNMOST_LONGITUDE = -0.819
END_OBJECT = IMAGE_MAP_PROJECTION
END
