PDS_VERSION_ID = PDS3
/* FILE DATA ELEMENTS */
RECORD_TYPE = UNDEFINED
/* POINTERS TO DATA OBJECTS */
^IMAGE = ("HG764_0004_SR4.TIF")
/* IDENTIFICATION DATA ELEMENTS */
DATA_SET_ID = "MEX-M-HRSC-4-REFDR-MAPPROJECT-EXT6-V4.0"
DATA_SET_NAME = "MARS EXPRESS HRSC MAP PROJECTED REFDR EXTENSION6 V4.0"
DETECTOR_ID = MEX_HRSC_SRC
EVENT_TYPE = "MARS-LOCAL-CARTOGRAPHY-Im-Tc-Ts"
INSTRUMENT_HOST_ID = MEX
INSTRUMENT_HOST_NAME = "MARS EXPRESS"
INSTRUMENT_ID = HRSC
INSTRUMENT_NAME = "HIGH RESOLUTION STEREO CAMERA"
MISSION_NAME = "MARS EXPRESS"
MISSION_PHASE_NAME = ME_Phase_36
PROCESSING_LEVEL_ID = 4
PRODUCT_CREATION_TIME = 2023-01-26T14:39:22.000Z
PRODUCT_ID = "HG764_0004_SR4.TIF"
RELEASE_ID = 0001
REVISION_ID = 0000
/* QUALITY DATA ELEMENTS */
DATA_QUALITY_ID = 1
DATA_QUALITY_DESC = "Data calculated based on original SPICE kernels"
/* TIME DATA ELEMENTS */
SPACECRAFT_CLOCK_START_COUNT = "1/0438739506.09104"
SPACECRAFT_CLOCK_STOP_COUNT = "1/0438739636.41618"
IMAGE_TIME = 2017-03-28T00:06:16.521Z
START_TIME = 2017-03-28T00:06:16.519Z
STOP_TIME = 2017-03-28T00:06:16.524Z
/* ORBITAL DATA ELEMENTS */
ASCENDING_NODE_LONGITUDE = 259.05
MAXIMUM_RESOLUTION = 0.004252
FOOTPRINT_POINT_LATITUDE = (-5.06171,-5.06156,-5.05618,-5.00228, -4.98986,-4.9899,-4.98988,-4.98978, -4.98976,-4.98974,-4.98972,-4.9897, -4.98968,-4.98966,-4.98964,-4.98962, -4.9896,-4.98959,-4.98957,-4.98955, -4.98953,-4.98951,-4.98949,-4.98947, -4.98945,-4.98943,-4.98941,-4.98939, -4.98937,-4.98936,-4.98936,-4.99208, -4.99359,-4.99603,-4.99818,-4.99998, -5.00177,-5.00414,-5.00629,-5.00888, -5.01053,-5.01175,-5.01376,-5.01541, -5.01663,-5.01785,-5.01979,-5.02122, -5.02352,-5.0251,-5.02625,-5.02768, -5.02962,-5.03084,-5.03227,-5.03414, -5.03572,-5.03679,-5.03794,-5.03959, -5.04074,-5.04268,-5.0449,-5.04691, -5.04864,-5.04971,-5.05115,-5.05359, -5.05481,-5.05689,-5.05947,-5.06148, -5.06155,-5.06155,-5.06157,-5.06159, -5.06161,-5.06163,-5.06165,-5.06167, -5.06169,-5.06171,-5.06173,-5.06175, -5.06176,-5.06178,-5.0618,-5.06182, -5.06184,-5.06186,-5.06188,-5.0619, -5.06192,-5.06194,-5.06195,-5.06184, -5.06193,-5.06202,-5.06198,-5.06171)
FOOTPRINT_POINT_LONGITUDE = (359.994,359.994,359.994,359.994, 359.994,359.996,359.998,360.0,360.001, 360.003,360.004,360.006,360.007,360.009 ,360.01,360.012,360.013,360.014,360.016 ,360.017,360.019,360.02,360.022,360.023 ,360.025,360.026,360.027,360.029,360.03 ,360.031,360.031,360.031,360.031, 360.032,360.032,360.032,360.032,360.032 ,360.032,360.032,360.032,360.032, 360.032,360.032,360.032,360.032,360.032 ,360.032,360.032,360.032,360.032, 360.032,360.032,360.032,360.032,360.032 ,360.032,360.032,360.032,360.032, 360.032,360.032,360.032,360.032,360.032 ,360.032,360.032,360.032,360.032, 360.032,360.032,360.032,360.032,360.032 ,360.031,360.029,360.028,360.027, 360.025,360.024,360.022,360.021,360.019 ,360.018,360.016,360.015,360.014, 360.012,360.011,360.009,360.008,360.006 ,360.005,360.004,360.002,360.0,359.998, 359.997,359.995,359.994)
ORBIT_NUMBER = 16764
ORBITAL_ECCENTRICITY = 0.579
ORBITAL_INCLINATION = 86.94
ORBITAL_SEMIMAJOR_AXIS = 8833.88
PERIAPSIS_ALTITUDE = 331.38
PERIAPSIS_ARGUMENT_ANGLE = 329.48
PERIAPSIS_TIME = 2017-03-27T23:59:39.000Z
SPACECRAFT_ORIENTATION = (0.0,1.0,0.0)
^MEX_ORIENTATION_DESC = "MEX_ORIENTATION_DESC.TXT"
SPACECRAFT_POINTING_MODE = ACROSSTRACK
^MEX_POINTING_DESC = "MEX_POINTING_DESC.TXT"
RIGHT_ASCENSION = -1e+32
DECLINATION = -1e+32
OFFSET_ANGLE = -0.108
SPACECRAFT_SOLAR_DISTANCE = 2.25585e+08
TARGET_NAME = MARS
/* CAMERA DATA ELEMENTS */
BUFFER_MODE_ID = BUFFER_8
EXPOSURE_DURATION = 5.04
INST_CMPRS_NAME = NONE
INST_CMPRS_RATIO = 1.0
INST_CMPRS_QUALITY = -2147483648
INST_CMPRS_QUANTZ_TBL_ID = -2147483648
INSTRUMENT_TEMPERATURE = 8.18182
MISSING_FRAMES = 0
START_BIT = 0
/* RADIOMETRIC DATA ELEMENTS */
BANDWIDTH = 250.0
CENTER_FILTER_WAVELENGTH = 600.0
RADIANCE_OFFSET = -9.99e+31
RADIANCE_SCALING_FACTOR = -9.99e+31
REFLECTANCE_SCALING_FACTOR = -9.99e+31
MEX:REFLECTANCE_OFFSET = -9.99e+31
/* IMAGE OBJECT DEFINITIONS */
OBJECT = IMAGE
  INTERCHANGE_FORMAT = BINARY
  LINES = 908
  LINE_SAMPLES = 918
  SAMPLE_TYPE = UNSIGNED_INTEGER
  SAMPLE_BITS = 8
  BANDS = 1
  BAND_STORAGE_TYPE = BAND_SEQUENTIAL
  MAXIMUM = 250
  MEAN = 226.217
  MINIMUM = 1
  STANDARD_DEVIATION = 9.67124
END_OBJECT = IMAGE
/* MAP OBJECT DEFINITIONS */
OBJECT = IMAGE_MAP_PROJECTION
  ^DATA_SET_MAP_PROJECTION_CATALOG= "DSMAP.CAT"
  A_AXIS_RADIUS = 3396.19
  B_AXIS_RADIUS = 3396.19
  C_AXIS_RADIUS = 3396.19
  CENTER_LATITUDE = 0.0
  CENTER_LONGITUDE = 0.0
  COORDINATE_SYSTEM_NAME = PLANETOGRAPHIC
  COORDINATE_SYSTEM_TYPE = "BODY-FIXED ROTATING"
  EASTERNMOST_LONGITUDE = 0.032
  FIRST_STANDARD_PARALLEL = "N/A"
  LINE_FIRST_PIXEL = 1
  LINE_LAST_PIXEL = 908
  LINE_PROJECTION_OFFSET = -59128.0
  MAP_PROJECTION_ROTATION = 0.0
  MAP_PROJECTION_TYPE = SINUSOIDAL
  MAP_RESOLUTION = 11854.9393024378
  MAP_SCALE = 0.005
  MAXIMUM_LATITUDE = -4.98936
  MINIMUM_LATITUDE = -5.06202
  POSITIVE_LONGITUDE_DIRECTION = EAST
  REFERENCE_LATITUDE = "N/A"
  REFERENCE_LONGITUDE = "N/A"
  SAMPLE_FIRST_PIXEL = 1
  SAMPLE_LAST_PIXEL = 918
  SAMPLE_PROJECTION_OFFSET = 514.0
  SECOND_STANDARD_PARALLEL = "N/A"
  WESTERNMOST_LONGITUDE = -0.006
END_OBJECT = IMAGE_MAP_PROJECTION
END
