PDS_VERSION_ID = PDS3
/* FILE DATA ELEMENTS */
RECORD_TYPE = UNDEFINED
/* POINTERS TO DATA OBJECTS */
^IMAGE = ("HG772_0000_GR4.TIF")
/* IDENTIFICATION DATA ELEMENTS */
DATA_SET_ID = "MEX-M-HRSC-4-REFDR-MAPPROJECT-EXT6-V4.0"
DATA_SET_NAME = "MARS EXPRESS HRSC MAP PROJECTED REFDR EXTENSION6 V4.0"
DETECTOR_ID = MEX_HRSC_GREEN
EVENT_TYPE = "MARS-REGIONAL-MAPPING-Te-Fl-Gl"
INSTRUMENT_HOST_ID = MEX
INSTRUMENT_HOST_NAME = "MARS EXPRESS"
INSTRUMENT_ID = HRSC
INSTRUMENT_NAME = "HIGH RESOLUTION STEREO CAMERA"
MISSION_NAME = "MARS EXPRESS"
MISSION_PHASE_NAME = ME_Phase_36
PROCESSING_LEVEL_ID = 4
PRODUCT_CREATION_TIME = 2023-01-26T14:39:22.000Z
PRODUCT_ID = "HG772_0000_GR4.TIF"
RELEASE_ID = 0001
REVISION_ID = 0000
/* QUALITY DATA ELEMENTS */
DATA_QUALITY_ID = 1
DATA_QUALITY_DESC = "Data calculated based on original SPICE kernels"
/* TIME DATA ELEMENTS */
SPACECRAFT_CLOCK_START_COUNT = "1/0438940410.09060"
SPACECRAFT_CLOCK_STOP_COUNT = "1/0438940608.34303"
START_TIME = 2017-03-30T07:54:07.316Z
STOP_TIME = 2017-03-30T07:56:19.939Z
/* ORBITAL DATA ELEMENTS */
ASCENDING_NODE_LONGITUDE = 258.9
MAXIMUM_RESOLUTION = 0.0528
FOOTPRINT_POINT_LATITUDE = (-44.994,-44.9865,-44.9799,-44.9743, -44.9665,-44.955,-44.9546,-44.9594, -44.7889,-44.6183,-44.4477,-44.277, -44.1062,-43.9353,-43.7643,-43.5933, -43.4222,-43.2509,-43.0795,-42.8222, -42.6507,-42.4789,-42.2213,-41.9633, -41.7914,-41.6193,-41.4473,-41.189, -41.0168,-40.8449,-40.673,-40.5016, -40.3294,-40.1571,-39.9848,-39.7264, -39.4682,-39.2089,-38.95,-38.691, -38.4319,-38.259,-38.0861,-37.9131, -37.5713,-37.2364,-36.7344,-36.4832, -36.3995,-36.3342,-36.3386,-36.3437, -36.3469,-36.3502,-36.3538,-36.3539, -36.3548,-36.8577,-37.3596,-37.696, -37.8685,-38.0418,-38.3013,-38.474, -38.6472,-38.8202,-39.0799,-39.3393, -39.5123,-39.6852,-39.858,-40.0301, -40.2025,-40.4612,-40.6335,-40.8061, -40.9801,-41.1528,-41.3251,-41.4973, -41.7556,-41.9278,-42.1002,-42.2722, -42.5307,-42.703,-42.8754,-43.0477, -43.2197,-43.4775,-43.6491,-43.8206, -43.9921,-44.1635,-44.3348,-44.506, -44.6771,-44.8482,-44.9337,-44.994)
FOOTPRINT_POINT_LONGITUDE = (262.044,261.6,261.27,261.024,260.711, 260.299,260.283,260.261,260.273,260.286 ,260.298,260.31,260.321,260.333,260.344 ,260.356,260.367,260.378,260.39,260.406 ,260.417,260.429,260.445,260.461, 260.471,260.482,260.492,260.507,260.517 ,260.526,260.534,260.541,260.549, 260.558,260.566,260.578,260.589,260.603 ,260.614,260.626,260.637,260.645, 260.653,260.66,260.674,260.688,260.706, 260.715,260.718,260.72,260.958,261.289, 261.501,261.766,262.125,262.138,262.142 ,262.138,262.131,262.132,262.131,262.13 ,262.127,262.125,262.124,262.122, 262.121,262.119,262.118,262.116,262.115 ,262.111,262.109,262.106,262.104, 262.102,262.104,262.103,262.101,262.099 ,262.096,262.094,262.093,262.091, 262.089,262.088,262.087,262.086,262.085 ,262.082,262.08,262.078,262.076,262.074 ,262.071,262.069,262.066,262.064, 262.063,262.044)
ORBIT_NUMBER = 16772
ORBITAL_ECCENTRICITY = 0.579
ORBITAL_INCLINATION = 86.94
ORBITAL_SEMIMAJOR_AXIS = 8838.6
PERIAPSIS_ALTITUDE = 330.44
PERIAPSIS_ARGUMENT_ANGLE = 328.1
PERIAPSIS_TIME = 2017-03-30T07:57:24.000Z
SPACECRAFT_ORIENTATION = (0.0,1.0,0.0)
^MEX_ORIENTATION_DESC = "MEX_ORIENTATION_DESC.TXT"
SPACECRAFT_POINTING_MODE = NADIR
^MEX_POINTING_DESC = "MEX_POINTING_DESC.TXT"
RIGHT_ASCENSION = -1e+32
DECLINATION = -1e+32
OFFSET_ANGLE = -1e+32
SPACECRAFT_SOLAR_DISTANCE = 2.26042e+08
TARGET_NAME = MARS
/* CAMERA DATA ELEMENTS */
DETECTOR_TEMPERATURE = 18.5744
FOCAL_PLANE_TEMPERATURE = 9.8067
INST_CMPRS_NAME = "DISCRETE COSINE TRANSFORMATION (DCT)"
INST_CMPRS_RATIO = 13.4524
INST_CMPRS_QUALITY = 0
INST_CMPRS_QUANTZ_TBL_ID = 0
INSTRUMENT_TEMPERATURE = 12.4574
LENS_TEMPERATURE = 9.8067
MACROPIXEL_SIZE = 4
MISSING_FRAMES = 0
PIXEL_SUBSAMPLING_FLAG = N
SIGNAL_CHAIN_ID = 2
/* RADIOMETRIC DATA ELEMENTS */
BANDWIDTH = 88.0
CENTER_FILTER_WAVELENGTH = 538.0
RADIANCE_OFFSET = 1.13859
RADIANCE_SCALING_FACTOR = 0.00337741
REFLECTANCE_SCALING_FACTOR = 0.000148576
MEX:REFLECTANCE_OFFSET = 0.0500877
/* IMAGE OBJECT DEFINITIONS */
OBJECT = IMAGE
  INTERCHANGE_FORMAT = BINARY
  LINES = 10187
  LINE_SAMPLES = 1703
  SAMPLE_TYPE = UNSIGNED_INTEGER
  SAMPLE_BITS = 8
  BANDS = 1
  BAND_STORAGE_TYPE = BAND_SEQUENTIAL
  MAXIMUM = 255
  MEAN = 145.482
  MINIMUM = 1
  STANDARD_DEVIATION = 20.8577
END_OBJECT = IMAGE
/* MAP OBJECT DEFINITIONS */
OBJECT = IMAGE_MAP_PROJECTION
  ^DATA_SET_MAP_PROJECTION_CATALOG= "DSMAP.CAT"
  A_AXIS_RADIUS = 3396.0
  B_AXIS_RADIUS = 3396.0
  C_AXIS_RADIUS = 3396.0
  CENTER_LATITUDE = 0.0
  CENTER_LONGITUDE = 261.0
  COORDINATE_SYSTEM_NAME = PLANETOGRAPHIC
  COORDINATE_SYSTEM_TYPE = "BODY-FIXED ROTATING"
  EASTERNMOST_LONGITUDE = 262.142
  FIRST_STANDARD_PARALLEL = "N/A"
  LINE_FIRST_PIXEL = 1
  LINE_LAST_PIXEL = 10187
  LINE_PROJECTION_OFFSET = -42304.125
  MAP_PROJECTION_ROTATION = 0.0
  MAP_PROJECTION_TYPE = SINUSOIDAL
  MAP_RESOLUTION = 1185.42760773333
  MAP_SCALE = 0.05
  MAXIMUM_LATITUDE = -36.3342
  MINIMUM_LATITUDE = -44.994
  POSITIVE_LONGITUDE_DIRECTION = EAST
  REFERENCE_LATITUDE = "N/A"
  REFERENCE_LONGITUDE = "N/A"
  SAMPLE_FIRST_PIXEL = 1
  SAMPLE_LAST_PIXEL = 1703
  SAMPLE_PROJECTION_OFFSET = 595.875
  SECOND_STANDARD_PARALLEL = "N/A"
  WESTERNMOST_LONGITUDE = 260.261
END_OBJECT = IMAGE_MAP_PROJECTION
END
