PDS_VERSION_ID = PDS3
/* FILE DATA ELEMENTS */
RECORD_TYPE = UNDEFINED
/* POINTERS TO DATA OBJECTS */
^IMAGE = ("HG772_0000_P14.TIF")
/* IDENTIFICATION DATA ELEMENTS */
DATA_SET_ID = "MEX-M-HRSC-4-REFDR-MAPPROJECT-EXT6-V4.0"
DATA_SET_NAME = "MARS EXPRESS HRSC MAP PROJECTED REFDR EXTENSION6 V4.0"
DETECTOR_ID = MEX_HRSC_P1
EVENT_TYPE = "MARS-REGIONAL-MAPPING-Te-Fl-Gl"
INSTRUMENT_HOST_ID = MEX
INSTRUMENT_HOST_NAME = "MARS EXPRESS"
INSTRUMENT_ID = HRSC
INSTRUMENT_NAME = "HIGH RESOLUTION STEREO CAMERA"
MISSION_NAME = "MARS EXPRESS"
MISSION_PHASE_NAME = ME_Phase_36
PROCESSING_LEVEL_ID = 4
PRODUCT_CREATION_TIME = 2023-01-26T14:39:22.000Z
PRODUCT_ID = "HG772_0000_P14.TIF"
RELEASE_ID = 0001
REVISION_ID = 0000
/* QUALITY DATA ELEMENTS */
DATA_QUALITY_ID = 1
DATA_QUALITY_DESC = "Data calculated based on original SPICE kernels"
/* TIME DATA ELEMENTS */
SPACECRAFT_CLOCK_START_COUNT = "1/0438940410.09060"
SPACECRAFT_CLOCK_STOP_COUNT = "1/0438940608.34303"
START_TIME = 2017-03-30T07:53:50.555Z
STOP_TIME = 2017-03-30T07:56:05.193Z
/* ORBITAL DATA ELEMENTS */
ASCENDING_NODE_LONGITUDE = 258.9
MAXIMUM_RESOLUTION = 0.0547
FOOTPRINT_POINT_LATITUDE = (-47.1134,-47.1066,-47.0971,-47.0854, -47.0785,-47.071,-47.0705,-47.0965, -46.8903,-46.5809,-46.2721,-46.0702, -45.8963,-45.7187,-45.3705,-45.1109, -44.8507,-44.6771,-44.5038,-44.2436, -44.07,-43.8096,-43.6361,-43.4622, -43.2881,-43.1137,-42.9392,-42.7645, -42.5899,-42.4146,-42.1522,-41.9763, -41.8019,-41.6263,-41.4518,-41.1887, -41.0136,-40.8398,-40.4965,-40.3226, -40.1477,-39.9738,-39.7997,-39.4534, -39.278,-39.0162,-38.7549,-38.4133, -38.3287,-38.2458,-38.2498,-38.2536, -38.2582,-38.2599,-38.2629,-38.2631, -38.2639,-38.6004,-39.0355,-39.2979, -39.4729,-39.6476,-39.9946,-40.2552, -40.5154,-40.6887,-40.8662,-41.1331, -41.394,-41.568,-41.7425,-41.9168, -42.0925,-42.2666,-42.4421,-42.7061, -42.8824,-43.0584,-43.2339,-43.4093, -43.5837,-43.7578,-43.9321,-44.1063, -44.2804,-44.4544,-44.6282,-44.889, -45.063,-45.2368,-45.4975,-45.6713, -45.845,-46.0186,-46.2112,-46.4181, -46.6295,-46.9412,-47.0429,-47.1134)
FOOTPRINT_POINT_LONGITUDE = (261.997,261.613,261.159,260.671, 260.409,260.148,260.13,260.105,260.123, 260.148,260.173,260.185,260.199,260.215 ,260.243,260.261,260.28,260.293,260.305 ,260.323,260.334,260.351,260.363, 260.374,260.385,260.396,260.408,260.419 ,260.43,260.441,260.457,260.468,260.478 ,260.489,260.499,260.514,260.524, 260.533,260.547,260.555,260.564,260.572 ,260.581,260.595,260.604,260.616, 260.627,260.642,260.646,260.649,260.91, 261.186,261.516,261.791,262.107,262.121 ,262.126,262.122,262.118,262.116, 262.115,262.113,262.108,262.105,262.101 ,262.098,262.098,262.099,262.095, 262.093,262.091,262.088,262.087,262.085 ,262.083,262.081,262.08,262.079,262.077 ,262.076,262.073,262.071,262.069, 262.066,262.063,262.061,262.058,262.054 ,262.051,262.048,262.044,262.041, 262.038,262.035,262.032,262.028,262.027 ,262.022,262.019,261.997)
ORBIT_NUMBER = 16772
ORBITAL_ECCENTRICITY = 0.579
ORBITAL_INCLINATION = 86.94
ORBITAL_SEMIMAJOR_AXIS = 8838.6
PERIAPSIS_ALTITUDE = 330.44
PERIAPSIS_ARGUMENT_ANGLE = 328.1
PERIAPSIS_TIME = 2017-03-30T07:57:24.000Z
SPACECRAFT_ORIENTATION = (0.0,1.0,0.0)
^MEX_ORIENTATION_DESC = "MEX_ORIENTATION_DESC.TXT"
SPACECRAFT_POINTING_MODE = NADIR
^MEX_POINTING_DESC = "MEX_POINTING_DESC.TXT"
RIGHT_ASCENSION = -1e+32
DECLINATION = -1e+32
OFFSET_ANGLE = -1e+32
SPACECRAFT_SOLAR_DISTANCE = 2.26042e+08
TARGET_NAME = MARS
/* CAMERA DATA ELEMENTS */
DETECTOR_TEMPERATURE = 18.3705
FOCAL_PLANE_TEMPERATURE = 9.8067
INST_CMPRS_NAME = "DISCRETE COSINE TRANSFORMATION (DCT)"
INST_CMPRS_RATIO = 14.6711
INST_CMPRS_QUALITY = 0
INST_CMPRS_QUANTZ_TBL_ID = 0
INSTRUMENT_TEMPERATURE = 12.4574
LENS_TEMPERATURE = 9.8067
MACROPIXEL_SIZE = 4
MISSING_FRAMES = 0
PIXEL_SUBSAMPLING_FLAG = N
SIGNAL_CHAIN_ID = 3
/* RADIOMETRIC DATA ELEMENTS */
BANDWIDTH = 174.0
CENTER_FILTER_WAVELENGTH = 675.0
RADIANCE_OFFSET = 3.45879
RADIANCE_SCALING_FACTOR = 0.0116262
REFLECTANCE_SCALING_FACTOR = 0.000319519
MEX:REFLECTANCE_OFFSET = 0.0950569
/* IMAGE OBJECT DEFINITIONS */
OBJECT = IMAGE
  INTERCHANGE_FORMAT = BINARY
  LINES = 10187
  LINE_SAMPLES = 1703
  SAMPLE_TYPE = UNSIGNED_INTEGER
  SAMPLE_BITS = 8
  BANDS = 1
  BAND_STORAGE_TYPE = BAND_SEQUENTIAL
  MAXIMUM = 255
  MEAN = 118.616
  MINIMUM = 1
  STANDARD_DEVIATION = 26.9833
END_OBJECT = IMAGE
/* MAP OBJECT DEFINITIONS */
OBJECT = IMAGE_MAP_PROJECTION
  ^DATA_SET_MAP_PROJECTION_CATALOG= "DSMAP.CAT"
  A_AXIS_RADIUS = 3396.0
  B_AXIS_RADIUS = 3396.0
  C_AXIS_RADIUS = 3396.0
  CENTER_LATITUDE = 0.0
  CENTER_LONGITUDE = 261.0
  COORDINATE_SYSTEM_NAME = PLANETOGRAPHIC
  COORDINATE_SYSTEM_TYPE = "BODY-FIXED ROTATING"
  EASTERNMOST_LONGITUDE = 262.126
  FIRST_STANDARD_PARALLEL = "N/A"
  LINE_FIRST_PIXEL = 1
  LINE_LAST_PIXEL = 10187
  LINE_PROJECTION_OFFSET = -42304.125
  MAP_PROJECTION_ROTATION = 0.0
  MAP_PROJECTION_TYPE = SINUSOIDAL
  MAP_RESOLUTION = 1185.42760773333
  MAP_SCALE = 0.05
  MAXIMUM_LATITUDE = -38.2458
  MINIMUM_LATITUDE = -47.1134
  POSITIVE_LONGITUDE_DIRECTION = EAST
  REFERENCE_LATITUDE = "N/A"
  REFERENCE_LONGITUDE = "N/A"
  SAMPLE_FIRST_PIXEL = 1
  SAMPLE_LAST_PIXEL = 1703
  SAMPLE_PROJECTION_OFFSET = 595.875
  SECOND_STANDARD_PARALLEL = "N/A"
  WESTERNMOST_LONGITUDE = 260.105
END_OBJECT = IMAGE_MAP_PROJECTION
END
