PDS_VERSION_ID = PDS3
/* FILE DATA ELEMENTS */
RECORD_TYPE = UNDEFINED
/* POINTERS TO DATA OBJECTS */
^IMAGE = ("HG775_0000_ND4.TIF")
/* IDENTIFICATION DATA ELEMENTS */
DATA_SET_ID = "MEX-M-HRSC-4-REFDR-MAPPROJECT-EXT6-V4.0"
DATA_SET_NAME = "MARS EXPRESS HRSC MAP PROJECTED REFDR EXTENSION6 V4.0"
DETECTOR_ID = MEX_HRSC_NADIR
EVENT_TYPE = "MARS-REGIONAL-STEREO-Im-Gl-Pf"
INSTRUMENT_HOST_ID = MEX
INSTRUMENT_HOST_NAME = "MARS EXPRESS"
INSTRUMENT_ID = HRSC
INSTRUMENT_NAME = "HIGH RESOLUTION STEREO CAMERA"
MISSION_NAME = "MARS EXPRESS"
MISSION_PHASE_NAME = ME_Phase_36
PROCESSING_LEVEL_ID = 4
PRODUCT_CREATION_TIME = 2023-01-26T14:39:22.000Z
PRODUCT_ID = "HG775_0000_ND4.TIF"
RELEASE_ID = 0001
REVISION_ID = 0000
/* QUALITY DATA ELEMENTS */
DATA_QUALITY_ID = 1
DATA_QUALITY_DESC = "Data calculated based on original SPICE kernels"
/* TIME DATA ELEMENTS */
SPACECRAFT_CLOCK_START_COUNT = "1/0439016025.07326"
SPACECRAFT_CLOCK_STOP_COUNT = "1/0439016206.65523"
START_TIME = 2017-03-31T04:54:25.386Z
STOP_TIME = 2017-03-31T04:56:23.376Z
/* ORBITAL DATA ELEMENTS */
ASCENDING_NODE_LONGITUDE = 258.84
MAXIMUM_RESOLUTION = 0.0132
FOOTPRINT_POINT_LATITUDE = (-40.3061,-40.2997,-40.2932,-40.2882, -40.2801,-40.2797,-40.278,-40.0437, -39.8875,-39.7311,-39.5746,-39.4181, -39.2618,-39.1052,-38.8704,-38.6355, -38.4789,-38.2438,-38.0871,-37.8521, -37.6952,-37.3883,-37.1604,-36.8569, -36.5528,-36.0967,-35.7924,-35.6402, -35.412,-35.2598,-35.1076,-34.9551, -34.7266,-34.5743,-34.422,-34.1937, -33.9651,-33.8128,-33.6604,-33.4318, -33.2794,-33.127,-32.9745,-32.8221, -32.6696,-32.5934,-32.5821,-32.587, -32.5907,-32.5937,-32.5949,-32.5949, -32.5952,-32.8242,-32.9769,-33.1296, -33.2822,-33.4348,-33.6638,-33.8164, -33.9691,-34.1217,-34.3506,-34.5031, -34.6557,-34.8082,-34.9608,-35.1133, -35.2658,-35.4182,-35.5707,-35.7231, -35.8755,-36.0279,-36.2564,-36.4088, -36.5611,-36.7134,-36.8657,-37.094, -37.2463,-37.5506,-37.7053,-37.9409, -38.098,-38.2552,-38.4121,-38.5692, -38.7261,-38.8831,-39.04,-39.1968, -39.3536,-39.5888,-39.7455,-39.9021, -40.0588,-40.2153,-40.2936,-40.3061)
FOOTPRINT_POINT_LONGITUDE = (315.232,314.727,314.33,314.07,313.703, 313.688,313.661,313.673,313.682,313.688 ,313.694,313.7,313.708,313.714,313.725, 313.736,313.742,313.752,313.76,313.772, 313.777,313.785,313.793,313.81,313.819, 313.836,313.846,313.85,313.858,313.863, 313.867,313.869,313.874,313.879,313.883 ,313.892,313.898,313.902,313.906, 313.911,313.915,313.918,313.922,313.925 ,313.928,313.93,313.93,314.295,314.646, 315.038,315.281,315.295,315.301,315.3, 315.299,315.298,315.297,315.296,315.295 ,315.294,315.293,315.293,315.291,315.29 ,315.289,315.288,315.287,315.286, 315.286,315.286,315.285,315.286,315.285 ,315.284,315.283,315.282,315.281,315.28 ,315.279,315.277,315.276,315.274, 315.273,315.274,315.273,315.27,315.271, 315.27,315.268,315.267,315.266,315.264, 315.263,315.26,315.26,315.259,315.257, 315.256,315.255,315.232)
ORBIT_NUMBER = 16775
ORBITAL_ECCENTRICITY = 0.578
ORBITAL_INCLINATION = 86.95
ORBITAL_SEMIMAJOR_AXIS = 8828.4
PERIAPSIS_ALTITUDE = 330.86
PERIAPSIS_ARGUMENT_ANGLE = 327.62
PERIAPSIS_TIME = 2017-03-31T04:56:28.000Z
SPACECRAFT_ORIENTATION = (0.0,1.0,0.0)
^MEX_ORIENTATION_DESC = "MEX_ORIENTATION_DESC.TXT"
SPACECRAFT_POINTING_MODE = NADIR
^MEX_POINTING_DESC = "MEX_POINTING_DESC.TXT"
RIGHT_ASCENSION = -1e+32
DECLINATION = -1e+32
OFFSET_ANGLE = -1e+32
SPACECRAFT_SOLAR_DISTANCE = 2.26213e+08
TARGET_NAME = MARS
/* CAMERA DATA ELEMENTS */
DETECTOR_TEMPERATURE = 18.5744
FOCAL_PLANE_TEMPERATURE = 7.9716
INST_CMPRS_NAME = "DISCRETE COSINE TRANSFORMATION (DCT)"
INST_CMPRS_RATIO = 6.51317
INST_CMPRS_QUALITY = 0
INST_CMPRS_QUANTZ_TBL_ID = 0
INSTRUMENT_TEMPERATURE = 11.234
LENS_TEMPERATURE = 8.7872
MACROPIXEL_SIZE = 1
MISSING_FRAMES = 0
PIXEL_SUBSAMPLING_FLAG = N
SIGNAL_CHAIN_ID = 0
/* RADIOMETRIC DATA ELEMENTS */
BANDWIDTH = 177.0
CENTER_FILTER_WAVELENGTH = 677.5
RADIANCE_OFFSET = 3.14283
RADIANCE_SCALING_FACTOR = 0.00910142
REFLECTANCE_SCALING_FACTOR = 0.000247415
MEX:REFLECTANCE_OFFSET = 0.0854353
/* IMAGE OBJECT DEFINITIONS */
OBJECT = IMAGE
  INTERCHANGE_FORMAT = BINARY
  LINES = 36621
  LINE_SAMPLES = 6043
  SAMPLE_TYPE = UNSIGNED_INTEGER
  SAMPLE_BITS = 8
  BANDS = 1
  BAND_STORAGE_TYPE = BAND_SEQUENTIAL
  MAXIMUM = 255
  MEAN = 121.477
  MINIMUM = 1
  STANDARD_DEVIATION = 25.7712
END_OBJECT = IMAGE
/* MAP OBJECT DEFINITIONS */
OBJECT = IMAGE_MAP_PROJECTION
  ^DATA_SET_MAP_PROJECTION_CATALOG= "DSMAP.CAT"
  A_AXIS_RADIUS = 3396.0
  B_AXIS_RADIUS = 3396.0
  C_AXIS_RADIUS = 3396.0
  CENTER_LATITUDE = 0.0
  CENTER_LONGITUDE = 315.0
  COORDINATE_SYSTEM_NAME = PLANETOGRAPHIC
  COORDINATE_SYSTEM_TYPE = "BODY-FIXED ROTATING"
  EASTERNMOST_LONGITUDE = 315.301
  FIRST_STANDARD_PARALLEL = "N/A"
  LINE_FIRST_PIXEL = 1
  LINE_LAST_PIXEL = 36621
  LINE_PROJECTION_OFFSET = -154496.0
  MAP_PROJECTION_ROTATION = 0.0
  MAP_PROJECTION_TYPE = SINUSOIDAL
  MAP_RESOLUTION = 4741.71043093333
  MAP_SCALE = 0.0125
  MAXIMUM_LATITUDE = -32.5821
  MINIMUM_LATITUDE = -40.3061
  POSITIVE_LONGITUDE_DIRECTION = EAST
  REFERENCE_LATITUDE = "N/A"
  REFERENCE_LONGITUDE = "N/A"
  SAMPLE_FIRST_PIXEL = 1
  SAMPLE_LAST_PIXEL = 6043
  SAMPLE_PROJECTION_OFFSET = 4839.0
  SECOND_STANDARD_PARALLEL = "N/A"
  WESTERNMOST_LONGITUDE = 313.661
END_OBJECT = IMAGE_MAP_PROJECTION
END
