PDS_VERSION_ID = PDS3
/* FILE DATA ELEMENTS */
RECORD_TYPE = UNDEFINED
/* POINTERS TO DATA OBJECTS */
^IMAGE = ("HG778_0000_GR4.TIF")
/* IDENTIFICATION DATA ELEMENTS */
DATA_SET_ID = "MEX-M-HRSC-4-REFDR-MAPPROJECT-EXT6-V4.0"
DATA_SET_NAME = "MARS EXPRESS HRSC MAP PROJECTED REFDR EXTENSION6 V4.0"
DETECTOR_ID = MEX_HRSC_GREEN
EVENT_TYPE = "MARS-REGIONAL-MAPPING-Im-Fl-Eo"
INSTRUMENT_HOST_ID = MEX
INSTRUMENT_HOST_NAME = "MARS EXPRESS"
INSTRUMENT_ID = HRSC
INSTRUMENT_NAME = "HIGH RESOLUTION STEREO CAMERA"
MISSION_NAME = "MARS EXPRESS"
MISSION_PHASE_NAME = ME_Phase_36
PROCESSING_LEVEL_ID = 4
PRODUCT_CREATION_TIME = 2023-01-26T14:39:22.000Z
PRODUCT_ID = "HG778_0000_GR4.TIF"
RELEASE_ID = 0001
REVISION_ID = 0000
/* QUALITY DATA ELEMENTS */
DATA_QUALITY_ID = 1
DATA_QUALITY_DESC = "Data calculated based on original SPICE kernels"
/* TIME DATA ELEMENTS */
SPACECRAFT_CLOCK_START_COUNT = "1/0439091585.07329"
SPACECRAFT_CLOCK_STOP_COUNT = "1/0439091859.46621"
START_TIME = 2017-04-01T01:53:50.136Z
STOP_TIME = 2017-04-01T01:57:19.878Z
/* ORBITAL DATA ELEMENTS */
ASCENDING_NODE_LONGITUDE = 258.79
MAXIMUM_RESOLUTION = 0.0526
FOOTPRINT_POINT_LATITUDE = (-39.7317,-39.7253,-39.7063,-39.7059, -39.71,-39.4289,-39.1475,-38.8659, -38.4451,-38.1724,-37.8996,-37.4904, -37.2176,-36.9447,-36.6717,-36.262, -35.8523,-35.5791,-35.3058,-34.8959, -34.4856,-34.2127,-33.9396,-33.6666, -33.3935,-33.1205,-32.8471,-32.5738, -32.1653,-31.8925,-31.6179,-31.2086, -30.9357,-30.5264,-30.2537,-29.8447, -29.4359,-29.1635,-28.7553,-28.2113, -27.9385,-27.6668,-27.3948,-26.7154, -26.1731,-26.0358,-26.0066,-26.0096, -26.0113,-26.0117,-26.0117,-26.0126, -26.2867,-26.5581,-26.8303,-27.1023, -27.5103,-27.7826,-28.0549,-28.3275, -28.5994,-28.8721,-29.2811,-29.5539, -29.8268,-30.1,-30.373,-30.6461, -30.9194,-31.1927,-31.466,-31.7393, -32.0127,-32.286,-32.5595,-32.8337, -33.1073,-33.3803,-33.654,-34.0645, -34.4749,-34.8854,-35.1591,-35.4326, -35.7062,-35.9797,-36.2533,-36.5274, -36.8003,-37.0735,-37.4837,-37.7572, -38.0306,-38.4405,-38.7201,-39.0024, -39.2846,-39.5666,-39.7077,-39.7317)
FOOTPRINT_POINT_LONGITUDE = (8.33812,7.84561,6.84675,6.83267,6.8154 ,6.82729,6.83949,6.85172,6.8694,6.88044 ,6.89123,6.90657,6.91648,6.92614,6.9356 ,6.94958,6.96294,6.97158,6.98017, 6.99227,7.00471,7.01117,7.01791,7.02409 ,7.03044,7.03627,7.04309,7.04927, 7.05474,7.05965,7.06854,7.07555,7.08012 ,7.08672,7.09067,7.09655,7.10185, 7.10494,7.10905,7.1137,7.11816,7.11985, 7.12242,7.1281,7.13031,7.13119,7.1313, 7.61739,8.03128,8.42107,8.43327,8.43733 ,8.43633,8.43501,8.43497,8.43408, 8.43251,8.43158,8.43036,8.42984,8.42736 ,8.42634,8.42417,8.42303,8.42157, 8.42073,8.41936,8.41791,8.41669,8.41527 ,8.41381,8.41214,8.41078,8.40869, 8.40713,8.40716,8.40546,8.40254,8.40099 ,8.39843,8.39568,8.39282,8.39121, 8.38884,8.38675,8.38439,8.3824,8.38157, 8.37801,8.3751,8.37187,8.36971,8.3675, 8.36388,8.36118,8.35865,8.35616,8.35322 ,8.35194,8.33812)
ORBIT_NUMBER = 16778
ORBITAL_ECCENTRICITY = 0.579
ORBITAL_INCLINATION = 86.94
ORBITAL_SEMIMAJOR_AXIS = 8830.73
PERIAPSIS_ALTITUDE = 330.8
PERIAPSIS_ARGUMENT_ANGLE = 327.07
PERIAPSIS_TIME = 2017-04-01T01:55:31.000Z
SPACECRAFT_ORIENTATION = (0.0,1.0,0.0)
^MEX_ORIENTATION_DESC = "MEX_ORIENTATION_DESC.TXT"
SPACECRAFT_POINTING_MODE = NADIR
^MEX_POINTING_DESC = "MEX_POINTING_DESC.TXT"
RIGHT_ASCENSION = -1e+32
DECLINATION = -1e+32
OFFSET_ANGLE = -1e+32
SPACECRAFT_SOLAR_DISTANCE = 2.26384e+08
TARGET_NAME = MARS
/* CAMERA DATA ELEMENTS */
DETECTOR_TEMPERATURE = 18.5744
FOCAL_PLANE_TEMPERATURE = 8.3794
INST_CMPRS_NAME = "DISCRETE COSINE TRANSFORMATION (DCT)"
INST_CMPRS_RATIO = 16.8255
INST_CMPRS_QUALITY = 0
INST_CMPRS_QUANTZ_TBL_ID = 0
INSTRUMENT_TEMPERATURE = 11.6418
LENS_TEMPERATURE = 8.5833
MACROPIXEL_SIZE = 4
MISSING_FRAMES = 0
PIXEL_SUBSAMPLING_FLAG = N
SIGNAL_CHAIN_ID = 2
/* RADIOMETRIC DATA ELEMENTS */
BANDWIDTH = 88.0
CENTER_FILTER_WAVELENGTH = 538.0
RADIANCE_OFFSET = 1.35266
RADIANCE_SCALING_FACTOR = 0.00326433
REFLECTANCE_SCALING_FACTOR = 0.000144037
MEX:REFLECTANCE_OFFSET = 0.0596852
/* IMAGE OBJECT DEFINITIONS */
OBJECT = IMAGE
  INTERCHANGE_FORMAT = BINARY
  LINES = 16293
  LINE_SAMPLES = 1555
  SAMPLE_TYPE = UNSIGNED_INTEGER
  SAMPLE_BITS = 8
  BANDS = 1
  BAND_STORAGE_TYPE = BAND_SEQUENTIAL
  MAXIMUM = 255
  MEAN = 138.162
  MINIMUM = 1
  STANDARD_DEVIATION = 20.9946
END_OBJECT = IMAGE
/* MAP OBJECT DEFINITIONS */
OBJECT = IMAGE_MAP_PROJECTION
  ^DATA_SET_MAP_PROJECTION_CATALOG= "DSMAP.CAT"
  A_AXIS_RADIUS = 3396.0
  B_AXIS_RADIUS = 3396.0
  C_AXIS_RADIUS = 3396.0
  CENTER_LATITUDE = 0.0
  CENTER_LONGITUDE = 8.0
  COORDINATE_SYSTEM_NAME = PLANETOGRAPHIC
  COORDINATE_SYSTEM_TYPE = "BODY-FIXED ROTATING"
  EASTERNMOST_LONGITUDE = 8.437329999999999
  FIRST_STANDARD_PARALLEL = "N/A"
  LINE_FIRST_PIXEL = 1
  LINE_LAST_PIXEL = 16293
  LINE_PROJECTION_OFFSET = -30821.375
  MAP_PROJECTION_ROTATION = 0.0
  MAP_PROJECTION_TYPE = SINUSOIDAL
  MAP_RESOLUTION = 1185.42760773333
  MAP_SCALE = 0.05
  MAXIMUM_LATITUDE = -26.0066
  MINIMUM_LATITUDE = -39.7317
  POSITIVE_LONGITUDE_DIRECTION = EAST
  REFERENCE_LATITUDE = "N/A"
  REFERENCE_LONGITUDE = "N/A"
  SAMPLE_FIRST_PIXEL = 1
  SAMPLE_LAST_PIXEL = 1555
  SAMPLE_PROJECTION_OFFSET = 1089.625
  SECOND_STANDARD_PARALLEL = "N/A"
  WESTERNMOST_LONGITUDE = 6.8154
END_OBJECT = IMAGE_MAP_PROJECTION
END
