PDS_VERSION_ID = PDS3
/* FILE DATA ELEMENTS */
RECORD_TYPE = UNDEFINED
/* POINTERS TO DATA OBJECTS */
^IMAGE = ("HG782_0000_BL4.TIF")
/* IDENTIFICATION DATA ELEMENTS */
DATA_SET_ID = "MEX-M-HRSC-4-REFDR-MAPPROJECT-EXT6-V4.0"
DATA_SET_NAME = "MARS EXPRESS HRSC MAP PROJECTED REFDR EXTENSION6 V4.0"
DETECTOR_ID = MEX_HRSC_BLUE
EVENT_TYPE = "MARS-REGIONAL-MAPPING-Te-Fl"
INSTRUMENT_HOST_ID = MEX
INSTRUMENT_HOST_NAME = "MARS EXPRESS"
INSTRUMENT_ID = HRSC
INSTRUMENT_NAME = "HIGH RESOLUTION STEREO CAMERA"
MISSION_NAME = "MARS EXPRESS"
MISSION_PHASE_NAME = ME_Phase_36
PROCESSING_LEVEL_ID = 4
PRODUCT_CREATION_TIME = 2023-01-26T14:39:22.000Z
PRODUCT_ID = "HG782_0000_BL4.TIF"
RELEASE_ID = 0001
REVISION_ID = 0000
/* QUALITY DATA ELEMENTS */
DATA_QUALITY_ID = 1
DATA_QUALITY_DESC = "Data calculated based on original SPICE kernels"
/* TIME DATA ELEMENTS */
SPACECRAFT_CLOCK_START_COUNT = "1/0439192457.07293"
SPACECRAFT_CLOCK_STOP_COUNT = "1/0439192615.15276"
START_TIME = 2017-04-02T05:54:59.570Z
STOP_TIME = 2017-04-02T05:56:34.877Z
/* ORBITAL DATA ELEMENTS */
ASCENDING_NODE_LONGITUDE = 258.71
MAXIMUM_RESOLUTION = 0.053
FOOTPRINT_POINT_LATITUDE = (-30.3382,-30.3354,-30.3333,-30.3308, -30.3281,-30.325,-30.3219,-30.3216, -30.3152,-30.1929,-30.0705,-29.887, -29.7647,-29.6424,-29.4589,-29.2755, -29.1532,-28.9698,-28.7864,-28.6641, -28.4807,-28.2973,-28.1751,-27.9917, -27.8082,-27.564,-27.3196,-27.1364, -26.8922,-26.6481,-26.404,-26.16, -26.0353,-25.9093,-25.7202,-25.5941, -25.4681,-25.3421,-25.2161,-25.0901, -24.9011,-24.7122,-24.5234,-24.3976, -24.2088,-24.1459,-24.089,-24.0912, -24.0935,-24.0947,-24.0961,-24.0968, -24.0972,-24.0972,-24.0981,-24.2871, -24.4131,-24.6021,-24.7281,-24.8542, -24.9801,-25.1063,-25.2325,-25.3587, -25.4848,-25.6742,-25.8004,-25.9266, -26.053,-26.1776,-26.2999,-26.4831, -26.6053,-26.7886,-26.9109,-27.0944, -27.2167,-27.3391,-27.4614,-27.5837, -27.7672,-27.8896,-28.0119,-28.1344, -28.2566,-28.4403,-28.5628,-28.6852, -28.8077,-28.9301,-29.0527,-29.1752, -29.3589,-29.5426,-29.6651,-29.8488, -30.0326,-30.2163,-30.2776,-30.3382)
FOOTPRINT_POINT_LONGITUDE = (318.937,318.608,318.413,318.216,318.02 ,317.822,317.637,317.624,317.607, 317.609,317.612,317.615,317.617,317.618 ,317.621,317.624,317.626,317.629, 317.631,317.633,317.636,317.638,317.639 ,317.642,317.643,317.646,317.649, 317.651,317.653,317.655,317.658,317.66, 317.66,317.661,317.663,317.663,317.664, 317.665,317.665,317.666,317.667,317.667 ,317.668,317.668,317.669,317.669, 317.669,317.878,318.161,318.345,318.601 ,318.796,318.966,318.978,318.982, 318.981,318.98,318.979,318.979,318.978, 318.977,318.977,318.976,318.975,318.974 ,318.973,318.972,318.972,318.971,318.97 ,318.969,318.968,318.968,318.967, 318.966,318.965,318.964,318.963,318.962 ,318.962,318.961,318.96,318.959,318.958 ,318.957,318.956,318.955,318.954, 318.954,318.953,318.952,318.951,318.95, 318.948,318.947,318.946,318.945,318.943 ,318.943,318.937)
ORBIT_NUMBER = 16782
ORBITAL_ECCENTRICITY = 0.578
ORBITAL_INCLINATION = 86.96
ORBITAL_SEMIMAJOR_AXIS = 8825.99
PERIAPSIS_ALTITUDE = 330.48
PERIAPSIS_ARGUMENT_ANGLE = 326.41
PERIAPSIS_TIME = 2017-04-02T05:54:16.000Z
SPACECRAFT_ORIENTATION = (0.0,1.0,0.0)
^MEX_ORIENTATION_DESC = "MEX_ORIENTATION_DESC.TXT"
SPACECRAFT_POINTING_MODE = ACROSSTRACK
^MEX_POINTING_DESC = "MEX_POINTING_DESC.TXT"
RIGHT_ASCENSION = -1e+32
DECLINATION = -1e+32
OFFSET_ANGLE = 0.25
SPACECRAFT_SOLAR_DISTANCE = 2.26612e+08
TARGET_NAME = MARS
/* CAMERA DATA ELEMENTS */
DETECTOR_TEMPERATURE = 18.3705
FOCAL_PLANE_TEMPERATURE = 8.5833
INST_CMPRS_NAME = "DISCRETE COSINE TRANSFORMATION (DCT)"
INST_CMPRS_RATIO = 5.54208
INST_CMPRS_QUALITY = 0
INST_CMPRS_QUANTZ_TBL_ID = 0
INSTRUMENT_TEMPERATURE = 11.4379
LENS_TEMPERATURE = 9.195
MACROPIXEL_SIZE = 4
MISSING_FRAMES = 0
PIXEL_SUBSAMPLING_FLAG = N
SIGNAL_CHAIN_ID = 2
/* RADIOMETRIC DATA ELEMENTS */
BANDWIDTH = 76.0
CENTER_FILTER_WAVELENGTH = 444.0
RADIANCE_OFFSET = 0.610542
RADIANCE_SCALING_FACTOR = 0.00127522
REFLECTANCE_SCALING_FACTOR = 6.72831e-05
MEX:REFLECTANCE_OFFSET = 0.0322135
/* IMAGE OBJECT DEFINITIONS */
OBJECT = IMAGE
  INTERCHANGE_FORMAT = BINARY
  LINES = 7363
  LINE_SAMPLES = 1476
  SAMPLE_TYPE = UNSIGNED_INTEGER
  SAMPLE_BITS = 8
  BANDS = 1
  BAND_STORAGE_TYPE = BAND_SEQUENTIAL
  MAXIMUM = 254
  MEAN = 127.898
  MINIMUM = 1
  STANDARD_DEVIATION = 16.4008
END_OBJECT = IMAGE
/* MAP OBJECT DEFINITIONS */
OBJECT = IMAGE_MAP_PROJECTION
  ^DATA_SET_MAP_PROJECTION_CATALOG= "DSMAP.CAT"
  A_AXIS_RADIUS = 3396.0
  B_AXIS_RADIUS = 3396.0
  C_AXIS_RADIUS = 3396.0
  CENTER_LATITUDE = 0.0
  CENTER_LONGITUDE = 318.0
  COORDINATE_SYSTEM_NAME = PLANETOGRAPHIC
  COORDINATE_SYSTEM_TYPE = "BODY-FIXED ROTATING"
  EASTERNMOST_LONGITUDE = 318.982
  FIRST_STANDARD_PARALLEL = "N/A"
  LINE_FIRST_PIXEL = 1
  LINE_LAST_PIXEL = 7363
  LINE_PROJECTION_OFFSET = -29373.625
  MAP_PROJECTION_ROTATION = 0.0
  MAP_PROJECTION_TYPE = SINUSOIDAL
  MAP_RESOLUTION = 1185.42760773333
  MAP_SCALE = 0.05
  MAXIMUM_LATITUDE = -24.089
  MINIMUM_LATITUDE = -30.3382
  POSITIVE_LONGITUDE_DIRECTION = EAST
  REFERENCE_LATITUDE = "N/A"
  REFERENCE_LONGITUDE = "N/A"
  SAMPLE_FIRST_PIXEL = 1
  SAMPLE_LAST_PIXEL = 1476
  SAMPLE_PROJECTION_OFFSET = 420.125
  SECOND_STANDARD_PARALLEL = "N/A"
  WESTERNMOST_LONGITUDE = 317.607
END_OBJECT = IMAGE_MAP_PROJECTION
END
