PDS_VERSION_ID = PDS3
/* FILE DATA ELEMENTS */
RECORD_TYPE = UNDEFINED
/* POINTERS TO DATA OBJECTS */
^IMAGE = ("HG782_0000_ND4.TIF")
/* IDENTIFICATION DATA ELEMENTS */
DATA_SET_ID = "MEX-M-HRSC-4-REFDR-MAPPROJECT-EXT6-V4.0"
DATA_SET_NAME = "MARS EXPRESS HRSC MAP PROJECTED REFDR EXTENSION6 V4.0"
DETECTOR_ID = MEX_HRSC_NADIR
EVENT_TYPE = "MARS-REGIONAL-MAPPING-Te-Fl"
INSTRUMENT_HOST_ID = MEX
INSTRUMENT_HOST_NAME = "MARS EXPRESS"
INSTRUMENT_ID = HRSC
INSTRUMENT_NAME = "HIGH RESOLUTION STEREO CAMERA"
MISSION_NAME = "MARS EXPRESS"
MISSION_PHASE_NAME = ME_Phase_36
PROCESSING_LEVEL_ID = 4
PRODUCT_CREATION_TIME = 2023-01-26T14:39:22.000Z
PRODUCT_ID = "HG782_0000_ND4.TIF"
RELEASE_ID = 0001
REVISION_ID = 0000
/* QUALITY DATA ELEMENTS */
DATA_QUALITY_ID = 1
DATA_QUALITY_DESC = "Data calculated based on original SPICE kernels"
/* TIME DATA ELEMENTS */
SPACECRAFT_CLOCK_START_COUNT = "1/0439192457.07293"
SPACECRAFT_CLOCK_STOP_COUNT = "1/0439192615.15276"
START_TIME = 2017-04-02T05:54:54.506Z
STOP_TIME = 2017-04-02T05:56:29.521Z
/* ORBITAL DATA ELEMENTS */
ASCENDING_NODE_LONGITUDE = 258.71
MAXIMUM_RESOLUTION = 0.0132
FOOTPRINT_POINT_LATITUDE = (-30.99,-30.9889,-30.9873,-30.9854, -30.9836,-30.9797,-30.9766,-30.9764, -30.9753,-30.7907,-30.6677,-30.5446, -30.4216,-30.2985,-30.1755,-30.0525, -29.9295,-29.8065,-29.6835,-29.5605, -29.4375,-29.3146,-29.1916,-28.9458, -28.7,-28.4543,-28.27,-28.0244,-27.7788 ,-27.4719,-27.2265,-26.9812,-26.736, -26.4908,-26.3655,-26.2389,-26.1123, -25.9857,-25.8592,-25.7327,-25.6062, -25.4797,-25.3533,-25.2269,-25.1005, -24.9742,-24.8478,-24.7847,-24.7782, -24.7795,-24.7809,-24.7825,-24.7832, -24.7834,-24.7834,-24.7834,-24.7836, -24.9101,-25.0366,-25.1631,-25.2897, -25.4163,-25.5429,-25.6696,-25.7962, -25.9229,-26.0496,-26.1764,-26.3032, -26.4923,-26.7378,-26.9833,-27.229, -27.4747,-27.7206,-27.9664,-28.0894, -28.2739,-28.4584,-28.5815,-28.7045, -28.8276,-28.9507,-29.0738,-29.1969, -29.32,-29.4431,-29.5663,-29.6894, -29.8126,-29.9358,-30.059,-30.1822, -30.3054,-30.4286,-30.5518,-30.7367, -30.9216,-30.9832,-30.99)
FOOTPRINT_POINT_LONGITUDE = (318.932,318.737,318.528,318.319, 318.148,317.832,317.62,317.607,317.586, 317.59,317.592,317.594,317.596,317.598, 317.6,317.602,317.605,317.606,317.608, 317.61,317.612,317.614,317.616,317.619, 317.623,317.626,317.628,317.631,317.634 ,317.637,317.64,317.642,317.645,317.647 ,317.648,317.649,317.65,317.651,317.651 ,317.652,317.653,317.654,317.654, 317.655,317.655,317.656,317.656,317.656 ,317.656,317.814,318.024,318.364, 318.624,318.819,318.961,318.974,318.98, 318.98,318.979,318.978,318.977,318.977, 318.976,318.975,318.974,318.973,318.973 ,318.972,318.971,318.97,318.968,318.967 ,318.965,318.964,318.962,318.96,318.959 ,318.958,318.957,318.956,318.955, 318.954,318.953,318.952,318.951,318.951 ,318.95,318.949,318.948,318.947,318.946 ,318.945,318.944,318.943,318.942, 318.941,318.939,318.938,318.937, 318.932)
ORBIT_NUMBER = 16782
ORBITAL_ECCENTRICITY = 0.578
ORBITAL_INCLINATION = 86.96
ORBITAL_SEMIMAJOR_AXIS = 8825.99
PERIAPSIS_ALTITUDE = 330.48
PERIAPSIS_ARGUMENT_ANGLE = 326.41
PERIAPSIS_TIME = 2017-04-02T05:54:16.000Z
SPACECRAFT_ORIENTATION = (0.0,1.0,0.0)
^MEX_ORIENTATION_DESC = "MEX_ORIENTATION_DESC.TXT"
SPACECRAFT_POINTING_MODE = ACROSSTRACK
^MEX_POINTING_DESC = "MEX_POINTING_DESC.TXT"
RIGHT_ASCENSION = -1e+32
DECLINATION = -1e+32
OFFSET_ANGLE = 0.25
SPACECRAFT_SOLAR_DISTANCE = 2.26612e+08
TARGET_NAME = MARS
/* CAMERA DATA ELEMENTS */
DETECTOR_TEMPERATURE = 18.3705
FOCAL_PLANE_TEMPERATURE = 8.5833
INST_CMPRS_NAME = "DISCRETE COSINE TRANSFORMATION (DCT)"
INST_CMPRS_RATIO = 6.61333
INST_CMPRS_QUALITY = 0
INST_CMPRS_QUANTZ_TBL_ID = 0
INSTRUMENT_TEMPERATURE = 11.4379
LENS_TEMPERATURE = 9.195
MACROPIXEL_SIZE = 1
MISSING_FRAMES = 0
PIXEL_SUBSAMPLING_FLAG = N
SIGNAL_CHAIN_ID = 0
/* RADIOMETRIC DATA ELEMENTS */
BANDWIDTH = 177.0
CENTER_FILTER_WAVELENGTH = 677.5
RADIANCE_OFFSET = 3.28789
RADIANCE_SCALING_FACTOR = 0.00758452
REFLECTANCE_SCALING_FACTOR = 0.000206908
MEX:REFLECTANCE_OFFSET = 0.0896947
/* IMAGE OBJECT DEFINITIONS */
OBJECT = IMAGE
  INTERCHANGE_FORMAT = BINARY
  LINES = 29452
  LINE_SAMPLES = 5904
  SAMPLE_TYPE = UNSIGNED_INTEGER
  SAMPLE_BITS = 8
  BANDS = 1
  BAND_STORAGE_TYPE = BAND_SEQUENTIAL
  MAXIMUM = 255
  MEAN = 118.29
  MINIMUM = 1
  STANDARD_DEVIATION = 18.76
END_OBJECT = IMAGE
/* MAP OBJECT DEFINITIONS */
OBJECT = IMAGE_MAP_PROJECTION
  ^DATA_SET_MAP_PROJECTION_CATALOG= "DSMAP.CAT"
  A_AXIS_RADIUS = 3396.0
  B_AXIS_RADIUS = 3396.0
  C_AXIS_RADIUS = 3396.0
  CENTER_LATITUDE = 0.0
  CENTER_LONGITUDE = 318.0
  COORDINATE_SYSTEM_NAME = PLANETOGRAPHIC
  COORDINATE_SYSTEM_TYPE = "BODY-FIXED ROTATING"
  EASTERNMOST_LONGITUDE = 318.98
  FIRST_STANDARD_PARALLEL = "N/A"
  LINE_FIRST_PIXEL = 1
  LINE_LAST_PIXEL = 29452
  LINE_PROJECTION_OFFSET = -117493.0
  MAP_PROJECTION_ROTATION = 0.0
  MAP_PROJECTION_TYPE = SINUSOIDAL
  MAP_RESOLUTION = 4741.71043093333
  MAP_SCALE = 0.0125
  MAXIMUM_LATITUDE = -24.7782
  MINIMUM_LATITUDE = -30.99
  POSITIVE_LONGITUDE_DIRECTION = EAST
  REFERENCE_LATITUDE = "N/A"
  REFERENCE_LONGITUDE = "N/A"
  SAMPLE_FIRST_PIXEL = 1
  SAMPLE_LAST_PIXEL = 5904
  SAMPLE_PROJECTION_OFFSET = 1682.0
  SECOND_STANDARD_PARALLEL = "N/A"
  WESTERNMOST_LONGITUDE = 317.586
END_OBJECT = IMAGE_MAP_PROJECTION
END
