PDS_VERSION_ID = PDS3
/* FILE DATA ELEMENTS */
RECORD_TYPE = UNDEFINED
/* POINTERS TO DATA OBJECTS */
^IMAGE = ("HG782_0000_P24.TIF")
/* IDENTIFICATION DATA ELEMENTS */
DATA_SET_ID = "MEX-M-HRSC-4-REFDR-MAPPROJECT-EXT6-V4.0"
DATA_SET_NAME = "MARS EXPRESS HRSC MAP PROJECTED REFDR EXTENSION6 V4.0"
DETECTOR_ID = MEX_HRSC_P2
EVENT_TYPE = "MARS-REGIONAL-MAPPING-Te-Fl"
INSTRUMENT_HOST_ID = MEX
INSTRUMENT_HOST_NAME = "MARS EXPRESS"
INSTRUMENT_ID = HRSC
INSTRUMENT_NAME = "HIGH RESOLUTION STEREO CAMERA"
MISSION_NAME = "MARS EXPRESS"
MISSION_PHASE_NAME = ME_Phase_36
PROCESSING_LEVEL_ID = 4
PRODUCT_CREATION_TIME = 2023-01-26T14:39:22.000Z
PRODUCT_ID = "HG782_0000_P24.TIF"
RELEASE_ID = 0001
REVISION_ID = 0000
/* QUALITY DATA ELEMENTS */
DATA_QUALITY_ID = 1
DATA_QUALITY_DESC = "Data calculated based on original SPICE kernels"
/* TIME DATA ELEMENTS */
SPACECRAFT_CLOCK_START_COUNT = "1/0439192457.07293"
SPACECRAFT_CLOCK_STOP_COUNT = "1/0439192615.15276"
START_TIME = 2017-04-02T05:55:14.013Z
STOP_TIME = 2017-04-02T05:56:50.283Z
/* ORBITAL DATA ELEMENTS */
ASCENDING_NODE_LONGITUDE = 258.71
MAXIMUM_RESOLUTION = 0.0273
FOOTPRINT_POINT_LATITUDE = (-28.4615,-28.4575,-28.4543,-28.4506, -28.4465,-28.4418,-28.4374,-28.4371, -28.4196,-28.1086,-27.9841,-27.859, -27.6727,-27.5481,-27.3614,-27.1126, -26.9881,-26.8014,-26.6149,-26.4905, -26.3039,-26.0549,-25.9304,-25.8059, -25.6812,-25.4942,-25.3695,-25.2449, -25.0546,-24.9259,-24.797,-24.6038, -24.475,-24.346,-24.2172,-24.0882, -23.9595,-23.8306,-23.6371,-23.4438, -23.2506,-23.1218,-22.993,-22.8642, -22.6709,-22.5421,-22.4133,-22.2846, -22.1559,-22.0915,-22.0889,-22.0923, -22.0948,-22.0974,-22.1008,-22.1028, -22.1051,-22.1052,-22.1056,-22.299, -22.4275,-22.6212,-22.7501,-22.9436, -23.0727,-23.2016,-23.3307,-23.5241, -23.6532,-23.7822,-23.9757,-24.1048, -24.2984,-24.4275,-24.6207,-24.7497, -24.8785,-25.0713,-25.1995,-25.3248, -25.4495,-25.5743,-25.6992,-25.8863, -26.0738,-26.1989,-26.3239,-26.4485, -26.6351,-26.8841,-27.0712,-27.2586, -27.3834,-27.6324,-27.8814,-28.006, -28.1307,-28.3784,-28.4417,-28.4615)
FOOTPRINT_POINT_LONGITUDE = (318.949,318.648,318.446,318.243,318.04 ,317.836,317.657,317.644,317.628, 317.632,317.634,317.635,317.637,317.639 ,317.641,317.644,317.645,317.647, 317.649,317.65,317.652,317.654,317.655, 317.656,317.657,317.658,317.659,317.659 ,317.66,317.661,317.662,317.662,317.663 ,317.663,317.664,317.664,317.664, 317.665,317.665,317.665,317.666,317.666 ,317.666,317.666,317.666,317.666, 317.666,317.665,317.665,317.665,317.665 ,317.858,318.013,318.192,318.473, 318.677,318.968,318.981,318.986,318.985 ,318.984,318.984,318.983,318.982, 318.982,318.981,318.98,318.98,318.979, 318.978,318.978,318.977,318.976,318.975 ,318.975,318.974,318.973,318.973, 318.972,318.971,318.971,318.97,318.969, 318.968,318.967,318.967,318.966,318.965 ,318.964,318.963,318.962,318.961,318.96 ,318.959,318.958,318.957,318.956, 318.955,318.954,318.949)
ORBIT_NUMBER = 16782
ORBITAL_ECCENTRICITY = 0.578
ORBITAL_INCLINATION = 86.96
ORBITAL_SEMIMAJOR_AXIS = 8825.99
PERIAPSIS_ALTITUDE = 330.48
PERIAPSIS_ARGUMENT_ANGLE = 326.41
PERIAPSIS_TIME = 2017-04-02T05:54:16.000Z
SPACECRAFT_ORIENTATION = (0.0,1.0,0.0)
^MEX_ORIENTATION_DESC = "MEX_ORIENTATION_DESC.TXT"
SPACECRAFT_POINTING_MODE = ACROSSTRACK
^MEX_POINTING_DESC = "MEX_POINTING_DESC.TXT"
RIGHT_ASCENSION = -1e+32
DECLINATION = -1e+32
OFFSET_ANGLE = 0.25
SPACECRAFT_SOLAR_DISTANCE = 2.26612e+08
TARGET_NAME = MARS
/* CAMERA DATA ELEMENTS */
DETECTOR_TEMPERATURE = 18.7783
FOCAL_PLANE_TEMPERATURE = 8.5833
INST_CMPRS_NAME = "DISCRETE COSINE TRANSFORMATION (DCT)"
INST_CMPRS_RATIO = 8.13151
INST_CMPRS_QUALITY = 0
INST_CMPRS_QUANTZ_TBL_ID = 0
INSTRUMENT_TEMPERATURE = 11.4379
LENS_TEMPERATURE = 9.195
MACROPIXEL_SIZE = 2
MISSING_FRAMES = 0
PIXEL_SUBSAMPLING_FLAG = N
SIGNAL_CHAIN_ID = 3
/* RADIOMETRIC DATA ELEMENTS */
BANDWIDTH = 177.0
CENTER_FILTER_WAVELENGTH = 676.5
RADIANCE_OFFSET = 3.6833
RADIANCE_SCALING_FACTOR = 0.00816418
REFLECTANCE_SCALING_FACTOR = 0.000222299
MEX:REFLECTANCE_OFFSET = 0.100291
/* IMAGE OBJECT DEFINITIONS */
OBJECT = IMAGE
  INTERCHANGE_FORMAT = BINARY
  LINES = 14726
  LINE_SAMPLES = 2952
  SAMPLE_TYPE = UNSIGNED_INTEGER
  SAMPLE_BITS = 8
  BANDS = 1
  BAND_STORAGE_TYPE = BAND_SEQUENTIAL
  MAXIMUM = 252
  MEAN = 101.27
  MINIMUM = 1
  STANDARD_DEVIATION = 17.672
END_OBJECT = IMAGE
/* MAP OBJECT DEFINITIONS */
OBJECT = IMAGE_MAP_PROJECTION
  ^DATA_SET_MAP_PROJECTION_CATALOG= "DSMAP.CAT"
  A_AXIS_RADIUS = 3396.0
  B_AXIS_RADIUS = 3396.0
  C_AXIS_RADIUS = 3396.0
  CENTER_LATITUDE = 0.0
  CENTER_LONGITUDE = 318.0
  COORDINATE_SYSTEM_NAME = PLANETOGRAPHIC
  COORDINATE_SYSTEM_TYPE = "BODY-FIXED ROTATING"
  EASTERNMOST_LONGITUDE = 318.986
  FIRST_STANDARD_PARALLEL = "N/A"
  LINE_FIRST_PIXEL = 1
  LINE_LAST_PIXEL = 14726
  LINE_PROJECTION_OFFSET = -58746.75
  MAP_PROJECTION_ROTATION = 0.0
  MAP_PROJECTION_TYPE = SINUSOIDAL
  MAP_RESOLUTION = 2370.85521546667
  MAP_SCALE = 0.025
  MAXIMUM_LATITUDE = -22.0889
  MINIMUM_LATITUDE = -28.4615
  POSITIVE_LONGITUDE_DIRECTION = EAST
  REFERENCE_LATITUDE = "N/A"
  REFERENCE_LONGITUDE = "N/A"
  SAMPLE_FIRST_PIXEL = 1
  SAMPLE_LAST_PIXEL = 2952
  SAMPLE_PROJECTION_OFFSET = 840.75
  SECOND_STANDARD_PARALLEL = "N/A"
  WESTERNMOST_LONGITUDE = 317.628
END_OBJECT = IMAGE_MAP_PROJECTION
END
