PDS_VERSION_ID = PDS3
/* FILE DATA ELEMENTS */
RECORD_TYPE = UNDEFINED
/* POINTERS TO DATA OBJECTS */
^IMAGE = ("HG782_0000_S24.TIF")
/* IDENTIFICATION DATA ELEMENTS */
DATA_SET_ID = "MEX-M-HRSC-4-REFDR-MAPPROJECT-EXT6-V4.0"
DATA_SET_NAME = "MARS EXPRESS HRSC MAP PROJECTED REFDR EXTENSION6 V4.0"
DETECTOR_ID = MEX_HRSC_S2
EVENT_TYPE = "MARS-REGIONAL-MAPPING-Te-Fl"
INSTRUMENT_HOST_ID = MEX
INSTRUMENT_HOST_NAME = "MARS EXPRESS"
INSTRUMENT_ID = HRSC
INSTRUMENT_NAME = "HIGH RESOLUTION STEREO CAMERA"
MISSION_NAME = "MARS EXPRESS"
MISSION_PHASE_NAME = ME_Phase_36
PROCESSING_LEVEL_ID = 4
PRODUCT_CREATION_TIME = 2023-01-26T14:39:22.000Z
PRODUCT_ID = "HG782_0000_S24.TIF"
RELEASE_ID = 0001
REVISION_ID = 0000
/* QUALITY DATA ELEMENTS */
DATA_QUALITY_ID = 1
DATA_QUALITY_DESC = "Data calculated based on original SPICE kernels"
/* TIME DATA ELEMENTS */
SPACECRAFT_CLOCK_START_COUNT = "1/0439192457.07293"
SPACECRAFT_CLOCK_STOP_COUNT = "1/0439192615.15276"
START_TIME = 2017-04-02T05:55:24.253Z
STOP_TIME = 2017-04-02T05:57:01.288Z
/* ORBITAL DATA ELEMENTS */
ASCENDING_NODE_LONGITUDE = 258.71
MAXIMUM_RESOLUTION = 0.0283
FOOTPRINT_POINT_LATITUDE = (-27.1307,-27.1273,-27.1234,-27.119, -27.114,-27.1085,-27.1001,-27.0997, -27.0765,-26.8894,-26.7025,-26.3909, -26.2035,-25.8912,-25.7034,-25.5782, -25.3904,-25.1396,-24.8891,-24.7013, -24.5132,-24.385,-24.2555,-24.1257, -23.9963,-23.8666,-23.7367,-23.5421, -23.3477,-23.218,-23.0236,-22.8938, -22.764,-22.6342,-22.4397,-22.3099, -22.1154,-21.9855,-21.8559,-21.7264, -21.5946,-21.4626,-21.269,-21.1394, -21.0083,-20.8817,-20.7527,-20.6877, -20.6571,-20.6629,-20.667,-20.6695, -20.6739,-20.6765,-20.6792,-20.6794, -20.6798,-20.8096,-20.9397,-21.07, -21.2005,-21.3308,-21.5254,-21.6552, -21.7853,-21.9154,-22.0449,-22.1748, -22.3043,-22.4989,-22.6293,-22.759, -22.8889,-23.0189,-23.1487,-23.2787, -23.4085,-23.5384,-23.7332,-23.9278, -24.0576,-24.1874,-24.3174,-24.4471, -24.5738,-24.8244,-25.0116,-25.1373, -25.3261,-25.4514,-25.5769,-25.7024, -25.8279,-26.0159,-26.1413,-26.392, -26.7036,-27.0162,-27.0788,-27.1307)
FOOTPRINT_POINT_LONGITUDE = (318.958,318.758,318.557,318.356, 318.154,317.952,317.672,317.659,317.645 ,317.647,317.649,317.652,317.654, 317.656,317.658,317.659,317.66,317.661, 317.663,317.664,317.665,317.665,317.666 ,317.666,317.666,317.667,317.667, 317.667,317.668,317.668,317.668,317.668 ,317.668,317.668,317.668,317.668, 317.668,317.668,317.668,317.668,317.667 ,317.666,317.666,317.665,317.664, 317.665,317.665,317.665,317.665,317.936 ,318.141,318.282,318.551,318.767, 318.971,318.983,318.988,318.987,318.987 ,318.987,318.986,318.986,318.985, 318.984,318.984,318.983,318.983,318.983 ,318.982,318.982,318.981,318.981,318.98 ,318.98,318.979,318.979,318.978,318.978 ,318.977,318.976,318.975,318.975, 318.974,318.974,318.973,318.972,318.972 ,318.971,318.97,318.97,318.969,318.968, 318.968,318.967,318.966,318.965,318.964 ,318.962,318.962,318.958)
ORBIT_NUMBER = 16782
ORBITAL_ECCENTRICITY = 0.578
ORBITAL_INCLINATION = 86.96
ORBITAL_SEMIMAJOR_AXIS = 8825.99
PERIAPSIS_ALTITUDE = 330.48
PERIAPSIS_ARGUMENT_ANGLE = 326.41
PERIAPSIS_TIME = 2017-04-02T05:54:16.000Z
SPACECRAFT_ORIENTATION = (0.0,1.0,0.0)
^MEX_ORIENTATION_DESC = "MEX_ORIENTATION_DESC.TXT"
SPACECRAFT_POINTING_MODE = ACROSSTRACK
^MEX_POINTING_DESC = "MEX_POINTING_DESC.TXT"
RIGHT_ASCENSION = -1e+32
DECLINATION = -1e+32
OFFSET_ANGLE = 0.25
SPACECRAFT_SOLAR_DISTANCE = 2.26612e+08
TARGET_NAME = MARS
/* CAMERA DATA ELEMENTS */
DETECTOR_TEMPERATURE = 18.7783
FOCAL_PLANE_TEMPERATURE = 8.5833
INST_CMPRS_NAME = "DISCRETE COSINE TRANSFORMATION (DCT)"
INST_CMPRS_RATIO = 13.5741
INST_CMPRS_QUALITY = 0
INST_CMPRS_QUANTZ_TBL_ID = 0
INSTRUMENT_TEMPERATURE = 11.4379
LENS_TEMPERATURE = 9.195
MACROPIXEL_SIZE = 2
MISSING_FRAMES = 0
PIXEL_SUBSAMPLING_FLAG = N
SIGNAL_CHAIN_ID = 1
/* RADIOMETRIC DATA ELEMENTS */
BANDWIDTH = 178.0
CENTER_FILTER_WAVELENGTH = 679.0
RADIANCE_OFFSET = 3.98146
RADIANCE_SCALING_FACTOR = 0.00856842
REFLECTANCE_SCALING_FACTOR = 0.000233022
MEX:REFLECTANCE_OFFSET = 0.108278
/* IMAGE OBJECT DEFINITIONS */
OBJECT = IMAGE
  INTERCHANGE_FORMAT = BINARY
  LINES = 14726
  LINE_SAMPLES = 2952
  SAMPLE_TYPE = UNSIGNED_INTEGER
  SAMPLE_BITS = 8
  BANDS = 1
  BAND_STORAGE_TYPE = BAND_SEQUENTIAL
  MAXIMUM = 226
  MEAN = 97.8856
  MINIMUM = 1
  STANDARD_DEVIATION = 19.1553
END_OBJECT = IMAGE
/* MAP OBJECT DEFINITIONS */
OBJECT = IMAGE_MAP_PROJECTION
  ^DATA_SET_MAP_PROJECTION_CATALOG= "DSMAP.CAT"
  A_AXIS_RADIUS = 3396.0
  B_AXIS_RADIUS = 3396.0
  C_AXIS_RADIUS = 3396.0
  CENTER_LATITUDE = 0.0
  CENTER_LONGITUDE = 318.0
  COORDINATE_SYSTEM_NAME = PLANETOGRAPHIC
  COORDINATE_SYSTEM_TYPE = "BODY-FIXED ROTATING"
  EASTERNMOST_LONGITUDE = 318.988
  FIRST_STANDARD_PARALLEL = "N/A"
  LINE_FIRST_PIXEL = 1
  LINE_LAST_PIXEL = 14726
  LINE_PROJECTION_OFFSET = -58746.75
  MAP_PROJECTION_ROTATION = 0.0
  MAP_PROJECTION_TYPE = SINUSOIDAL
  MAP_RESOLUTION = 2370.85521546667
  MAP_SCALE = 0.025
  MAXIMUM_LATITUDE = -20.6571
  MINIMUM_LATITUDE = -27.1307
  POSITIVE_LONGITUDE_DIRECTION = EAST
  REFERENCE_LATITUDE = "N/A"
  REFERENCE_LONGITUDE = "N/A"
  SAMPLE_FIRST_PIXEL = 1
  SAMPLE_LAST_PIXEL = 2952
  SAMPLE_PROJECTION_OFFSET = 840.75
  SECOND_STANDARD_PARALLEL = "N/A"
  WESTERNMOST_LONGITUDE = 317.645
END_OBJECT = IMAGE_MAP_PROJECTION
END
