PDS_VERSION_ID = PDS3
/* FILE DATA ELEMENTS */
RECORD_TYPE = UNDEFINED
/* POINTERS TO DATA OBJECTS */
^IMAGE = ("HG788_0000_IR4.TIF")
/* IDENTIFICATION DATA ELEMENTS */
DATA_SET_ID = "MEX-M-HRSC-4-REFDR-MAPPROJECT-EXT6-V4.0"
DATA_SET_NAME = "MARS EXPRESS HRSC MAP PROJECTED REFDR EXTENSION6 V4.0"
DETECTOR_ID = MEX_HRSC_IR
EVENT_TYPE = "MARS-REGIONAL-MAPPING-Im-Gl-La"
INSTRUMENT_HOST_ID = MEX
INSTRUMENT_HOST_NAME = "MARS EXPRESS"
INSTRUMENT_ID = HRSC
INSTRUMENT_NAME = "HIGH RESOLUTION STEREO CAMERA"
MISSION_NAME = "MARS EXPRESS"
MISSION_PHASE_NAME = ME_Phase_36
PROCESSING_LEVEL_ID = 4
PRODUCT_CREATION_TIME = 2023-01-26T14:39:22.000Z
PRODUCT_ID = "HG788_0000_IR4.TIF"
RELEASE_ID = 0001
REVISION_ID = 0000
/* QUALITY DATA ELEMENTS */
DATA_QUALITY_ID = 1
DATA_QUALITY_DESC = "Data calculated based on original SPICE kernels"
/* TIME DATA ELEMENTS */
SPACECRAFT_CLOCK_START_COUNT = "1/0439343560.64124"
SPACECRAFT_CLOCK_STOP_COUNT = "1/0439343806.57569"
START_TIME = 2017-04-03T23:53:43.919Z
STOP_TIME = 2017-04-03T23:55:38.221Z
/* ORBITAL DATA ELEMENTS */
ASCENDING_NODE_LONGITUDE = 258.6
MAXIMUM_RESOLUTION = 0.0569
FOOTPRINT_POINT_LATITUDE = (-30.8075,-30.7962,-30.7891,-30.7819, -30.7746,-30.7672,-30.7598,-30.7593, -30.8148,-30.5298,-30.2453,-30.0319, -29.7409,-29.5917,-29.3681,-29.2196, -28.9966,-28.774,-28.6266,-28.4806, -28.3344,-28.1876,-27.9683,-27.8209, -27.6743,-27.5271,-27.3813,-27.236, -27.0905,-26.9444,-26.726,-26.3659, -26.2188,-26.0701,-25.9237,-25.7796, -25.635,-25.4893,-25.2026,-24.9827, -24.8332,-24.5536,-24.2668,-24.1227, -23.9076,-23.7629,-23.617,-23.5462, -23.4813,-23.4879,-23.4939,-23.5021, -23.5115,-23.5172,-23.5253,-23.5257, -23.5266,-23.7401,-23.8832,-24.0972, -24.3131,-24.457,-24.7412,-24.8863, -25.0369,-25.1819,-25.4621,-25.6142, -25.7606,-25.9039,-26.0493,-26.1947, -26.3405,-26.4851,-26.6305,-26.7757, -26.9921,-27.2174,-27.4416,-27.5859, -27.7308,-27.9471,-28.1673,-28.3151, -28.4615,-28.6109,-28.7614,-28.9097, -29.0586,-29.2102,-29.4345,-29.58, -29.7274,-29.8737,-30.0177,-30.3028, -30.5167,-30.7306,-30.8019,-30.8075)
FOOTPRINT_POINT_LONGITUDE = (66.3709,66.0312,65.8248,65.6204, 65.4182,65.2178,65.0192,65.0068,65.0111 ,65.0118,65.0124,65.0128,65.0127, 65.0125,65.0121,65.0118,65.0112,65.0106 ,65.0103,65.0101,65.0098,65.0093, 65.0087,65.0081,65.0075,65.0068,65.0062 ,65.0056,65.0049,65.0042,65.003,65.0012 ,65.0001,64.9987,64.9976,64.9967, 64.9956,64.9944,64.9923,64.9902,64.9884 ,64.9866,64.9839,64.9824,64.9802, 64.9786,64.9768,64.9761,64.9753,65.2287 ,65.3958,65.6294,65.9314,66.1042, 66.3594,66.3729,66.3774,66.3766,66.3767 ,66.376,66.3769,66.3774,66.3747,66.3761 ,66.3824,66.3835,66.3762,66.3836, 66.3857,66.3847,66.3857,66.3866,66.3877 ,66.3877,66.3883,66.3886,66.3878, 66.3951,66.4013,66.4003,66.3999,66.3981 ,66.3999,66.402,66.4027,66.4062,66.4106 ,66.4129,66.4157,66.4211,66.4261, 66.4253,66.4263,66.4262,66.4268,66.4281 ,66.4291,66.4299,66.43,66.3709)
ORBIT_NUMBER = 16788
ORBITAL_ECCENTRICITY = 0.579
ORBITAL_INCLINATION = 86.96
ORBITAL_SEMIMAJOR_AXIS = 8829.45
PERIAPSIS_ALTITUDE = 329.54
PERIAPSIS_ARGUMENT_ANGLE = 325.36
PERIAPSIS_TIME = 2017-04-03T23:52:22.000Z
SPACECRAFT_ORIENTATION = (0.0,1.0,0.0)
^MEX_ORIENTATION_DESC = "MEX_ORIENTATION_DESC.TXT"
SPACECRAFT_POINTING_MODE = ACROSSTRACK
^MEX_POINTING_DESC = "MEX_POINTING_DESC.TXT"
RIGHT_ASCENSION = -1e+32
DECLINATION = -1e+32
OFFSET_ANGLE = -0.75
SPACECRAFT_SOLAR_DISTANCE = 2.26954e+08
TARGET_NAME = MARS
/* CAMERA DATA ELEMENTS */
DETECTOR_TEMPERATURE = 0.0
FOCAL_PLANE_TEMPERATURE = 0.0
INST_CMPRS_NAME = "DISCRETE COSINE TRANSFORMATION (DCT)"
INST_CMPRS_RATIO = 10.1726
INST_CMPRS_QUALITY = 0
INST_CMPRS_QUANTZ_TBL_ID = 0
INSTRUMENT_TEMPERATURE = 0.0
LENS_TEMPERATURE = 0.0
MACROPIXEL_SIZE = 4
MISSING_FRAMES = 0
PIXEL_SUBSAMPLING_FLAG = N
SIGNAL_CHAIN_ID = 2
/* RADIOMETRIC DATA ELEMENTS */
BANDWIDTH = 81.0
CENTER_FILTER_WAVELENGTH = 955.5
RADIANCE_OFFSET = 0.922958
RADIANCE_SCALING_FACTOR = 0.00278795
REFLECTANCE_SCALING_FACTOR = 0.000309805
MEX:REFLECTANCE_OFFSET = 0.102562
/* IMAGE OBJECT DEFINITIONS */
OBJECT = IMAGE
  INTERCHANGE_FORMAT = BINARY
  LINES = 10775
  LINE_SAMPLES = 1565
  SAMPLE_TYPE = UNSIGNED_INTEGER
  SAMPLE_BITS = 8
  BANDS = 1
  BAND_STORAGE_TYPE = BAND_SEQUENTIAL
  MAXIMUM = 255
  MEAN = 121.261
  MINIMUM = 1
  STANDARD_DEVIATION = 27.6763
END_OBJECT = IMAGE
/* MAP OBJECT DEFINITIONS */
OBJECT = IMAGE_MAP_PROJECTION
  ^DATA_SET_MAP_PROJECTION_CATALOG= "DSMAP.CAT"
  A_AXIS_RADIUS = 3396.0
  B_AXIS_RADIUS = 3396.0
  C_AXIS_RADIUS = 3396.0
  CENTER_LATITUDE = 0.0
  CENTER_LONGITUDE = 66.0
  COORDINATE_SYSTEM_NAME = PLANETOGRAPHIC
  COORDINATE_SYSTEM_TYPE = "BODY-FIXED ROTATING"
  EASTERNMOST_LONGITUDE = 66.43000000000001
  FIRST_STANDARD_PARALLEL = "N/A"
  LINE_FIRST_PIXEL = 1
  LINE_LAST_PIXEL = 10775
  LINE_PROJECTION_OFFSET = -25767.125
  MAP_PROJECTION_ROTATION = 0.0
  MAP_PROJECTION_TYPE = SINUSOIDAL
  MAP_RESOLUTION = 1185.42760773333
  MAP_SCALE = 0.05
  MAXIMUM_LATITUDE = -23.4813
  MINIMUM_LATITUDE = -30.8148
  POSITIVE_LONGITUDE_DIRECTION = EAST
  REFERENCE_LATITUDE = "N/A"
  REFERENCE_LONGITUDE = "N/A"
  SAMPLE_FIRST_PIXEL = 1
  SAMPLE_LAST_PIXEL = 1565
  SAMPLE_PROJECTION_OFFSET = 1139.125
  SECOND_STANDARD_PARALLEL = "N/A"
  WESTERNMOST_LONGITUDE = 64.9753
END_OBJECT = IMAGE_MAP_PROJECTION
END
