PDS_VERSION_ID = PDS3
/* FILE DATA ELEMENTS */
RECORD_TYPE = UNDEFINED
/* POINTERS TO DATA OBJECTS */
^IMAGE = ("HG788_0000_P14.TIF")
/* IDENTIFICATION DATA ELEMENTS */
DATA_SET_ID = "MEX-M-HRSC-4-REFDR-MAPPROJECT-EXT6-V4.0"
DATA_SET_NAME = "MARS EXPRESS HRSC MAP PROJECTED REFDR EXTENSION6 V4.0"
DETECTOR_ID = MEX_HRSC_P1
EVENT_TYPE = "MARS-REGIONAL-MAPPING-Im-Gl-La"
INSTRUMENT_HOST_ID = MEX
INSTRUMENT_HOST_NAME = "MARS EXPRESS"
INSTRUMENT_ID = HRSC
INSTRUMENT_NAME = "HIGH RESOLUTION STEREO CAMERA"
MISSION_NAME = "MARS EXPRESS"
MISSION_PHASE_NAME = ME_Phase_36
PROCESSING_LEVEL_ID = 4
PRODUCT_CREATION_TIME = 2023-01-26T14:39:22.000Z
PRODUCT_ID = "HG788_0000_P14.TIF"
RELEASE_ID = 0001
REVISION_ID = 0000
/* QUALITY DATA ELEMENTS */
DATA_QUALITY_ID = 1
DATA_QUALITY_DESC = "Data calculated based on original SPICE kernels"
/* TIME DATA ELEMENTS */
SPACECRAFT_CLOCK_START_COUNT = "1/0439343560.64124"
SPACECRAFT_CLOCK_STOP_COUNT = "1/0439343806.57569"
START_TIME = 2017-04-03T23:53:38.427Z
STOP_TIME = 2017-04-03T23:55:38.056Z
/* ORBITAL DATA ELEMENTS */
ASCENDING_NODE_LONGITUDE = 258.6
MAXIMUM_RESOLUTION = 0.0279
FOOTPRINT_POINT_LATITUDE = (-30.8261,-30.8186,-30.8129,-30.807, -30.801,-30.7948,-30.7885,-30.7881, -30.832,-30.6064,-30.306,-30.0056, -29.7035,-29.5515,-29.3944,-29.1607, -29.0038,-28.8479,-28.6136,-28.4593, -28.3048,-28.1499,-27.9951,-27.763, -27.6074,-27.453,-27.2991,-27.1453, -26.9141,-26.7601,-26.6087,-26.456, -26.3019,-26.1449,-25.9094,-25.7568, -25.6038,-25.45,-25.2987,-25.0684, -24.9144,-24.683,-24.3078,-24.1556, -24.0031,-23.7744,-23.6206,-23.394, -23.2429,-23.1673,-23.133,-23.1373, -23.1422,-23.1513,-23.1555,-23.1602, -23.1657,-23.1659,-23.1665,-23.3933, -23.545,-23.7718,-23.9233,-24.0748, -24.3028,-24.5316,-24.6838,-24.9103, -25.0682,-25.2215,-25.3723,-25.5988, -25.7571,-25.9093,-26.0628,-26.2196, -26.3742,-26.6044,-26.758,-26.9862, -27.2247,-27.3817,-27.5351,-27.6887, -27.9178,-28.1502,-28.306,-28.4608, -28.6177,-28.8535,-29.0893,-29.2483, -29.4056,-29.5596,-29.8603,-30.0858, -30.3869,-30.7632,-30.8384,-30.8261)
FOOTPRINT_POINT_LONGITUDE = (66.3672,66.0686,65.8541,65.6418, 65.4318,65.2237,65.0176,65.0048,65.0081 ,65.0088,65.0096,65.0101,65.0101, 65.0099,65.0096,65.0093,65.0089,65.0086 ,65.008,65.0078,65.0075,65.0071,65.0067 ,65.0059,65.0052,65.0046,65.004,65.0034 ,65.0023,65.0015,65.001,65.0003,64.9993 ,64.9979,64.9961,64.9951,64.9941, 64.9928,64.9919,64.9899,64.9885,64.9862 ,64.9834,64.9819,64.9804,64.9779, 64.9761,64.9737,64.9721,64.9712,64.9708 ,65.1943,65.4467,65.7445,65.9221, 66.1015,66.3519,66.3658,66.3709,66.3709 ,66.3713,66.3709,66.3708,66.3707,66.371 ,66.3721,66.3723,66.3702,66.3769,66.378 ,66.376,66.3732,66.38,66.3793,66.3801, 66.3806,66.3826,66.3831,66.3836,66.3814 ,66.3915,66.3957,66.3955,66.3953, 66.3934,66.3952,66.3974,66.3983,66.4017 ,66.4071,66.4125,66.4182,66.4217,66.421 ,66.4219,66.4229,66.4245,66.426,66.4262 ,66.3672)
ORBIT_NUMBER = 16788
ORBITAL_ECCENTRICITY = 0.579
ORBITAL_INCLINATION = 86.96
ORBITAL_SEMIMAJOR_AXIS = 8829.45
PERIAPSIS_ALTITUDE = 329.54
PERIAPSIS_ARGUMENT_ANGLE = 325.36
PERIAPSIS_TIME = 2017-04-03T23:52:22.000Z
SPACECRAFT_ORIENTATION = (0.0,1.0,0.0)
^MEX_ORIENTATION_DESC = "MEX_ORIENTATION_DESC.TXT"
SPACECRAFT_POINTING_MODE = ACROSSTRACK
^MEX_POINTING_DESC = "MEX_POINTING_DESC.TXT"
RIGHT_ASCENSION = -1e+32
DECLINATION = -1e+32
OFFSET_ANGLE = -0.75
SPACECRAFT_SOLAR_DISTANCE = 2.26954e+08
TARGET_NAME = MARS
/* CAMERA DATA ELEMENTS */
DETECTOR_TEMPERATURE = 0.0
FOCAL_PLANE_TEMPERATURE = 0.0
INST_CMPRS_NAME = "DISCRETE COSINE TRANSFORMATION (DCT)"
INST_CMPRS_RATIO = 9.87408
INST_CMPRS_QUALITY = 0
INST_CMPRS_QUANTZ_TBL_ID = 0
INSTRUMENT_TEMPERATURE = 0.0
LENS_TEMPERATURE = 0.0
MACROPIXEL_SIZE = 2
MISSING_FRAMES = 1
PIXEL_SUBSAMPLING_FLAG = N
SIGNAL_CHAIN_ID = 3
/* RADIOMETRIC DATA ELEMENTS */
BANDWIDTH = 174.0
CENTER_FILTER_WAVELENGTH = 675.0
RADIANCE_OFFSET = 4.16303
RADIANCE_SCALING_FACTOR = 0.0105636
REFLECTANCE_SCALING_FACTOR = 0.000292667
MEX:REFLECTANCE_OFFSET = 0.115338
/* IMAGE OBJECT DEFINITIONS */
OBJECT = IMAGE
  INTERCHANGE_FORMAT = BINARY
  LINES = 21550
  LINE_SAMPLES = 3130
  SAMPLE_TYPE = UNSIGNED_INTEGER
  SAMPLE_BITS = 8
  BANDS = 1
  BAND_STORAGE_TYPE = BAND_SEQUENTIAL
  MAXIMUM = 255
  MEAN = 131.01
  MINIMUM = 1
  STANDARD_DEVIATION = 27.8938
END_OBJECT = IMAGE
/* MAP OBJECT DEFINITIONS */
OBJECT = IMAGE_MAP_PROJECTION
  ^DATA_SET_MAP_PROJECTION_CATALOG= "DSMAP.CAT"
  A_AXIS_RADIUS = 3396.0
  B_AXIS_RADIUS = 3396.0
  C_AXIS_RADIUS = 3396.0
  CENTER_LATITUDE = 0.0
  CENTER_LONGITUDE = 66.0
  COORDINATE_SYSTEM_NAME = PLANETOGRAPHIC
  COORDINATE_SYSTEM_TYPE = "BODY-FIXED ROTATING"
  EASTERNMOST_LONGITUDE = 66.42619999999999
  FIRST_STANDARD_PARALLEL = "N/A"
  LINE_FIRST_PIXEL = 1
  LINE_LAST_PIXEL = 21550
  LINE_PROJECTION_OFFSET = -51533.75
  MAP_PROJECTION_ROTATION = 0.0
  MAP_PROJECTION_TYPE = SINUSOIDAL
  MAP_RESOLUTION = 2370.85521546667
  MAP_SCALE = 0.025
  MAXIMUM_LATITUDE = -23.133
  MINIMUM_LATITUDE = -30.8384
  POSITIVE_LONGITUDE_DIRECTION = EAST
  REFERENCE_LATITUDE = "N/A"
  REFERENCE_LONGITUDE = "N/A"
  SAMPLE_FIRST_PIXEL = 1
  SAMPLE_LAST_PIXEL = 3130
  SAMPLE_PROJECTION_OFFSET = 2278.75
  SECOND_STANDARD_PARALLEL = "N/A"
  WESTERNMOST_LONGITUDE = 64.9708
END_OBJECT = IMAGE_MAP_PROJECTION
END
