PDS_VERSION_ID = PDS3
/* FILE DATA ELEMENTS */
RECORD_TYPE = UNDEFINED
/* POINTERS TO DATA OBJECTS */
^IMAGE = ("HG788_0000_P24.TIF")
/* IDENTIFICATION DATA ELEMENTS */
DATA_SET_ID = "MEX-M-HRSC-4-REFDR-MAPPROJECT-EXT6-V4.0"
DATA_SET_NAME = "MARS EXPRESS HRSC MAP PROJECTED REFDR EXTENSION6 V4.0"
DETECTOR_ID = MEX_HRSC_P2
EVENT_TYPE = "MARS-REGIONAL-MAPPING-Im-Gl-La"
INSTRUMENT_HOST_ID = MEX
INSTRUMENT_HOST_NAME = "MARS EXPRESS"
INSTRUMENT_ID = HRSC
INSTRUMENT_NAME = "HIGH RESOLUTION STEREO CAMERA"
MISSION_NAME = "MARS EXPRESS"
MISSION_PHASE_NAME = ME_Phase_36
PROCESSING_LEVEL_ID = 4
PRODUCT_CREATION_TIME = 2023-01-26T14:39:22.000Z
PRODUCT_ID = "HG788_0000_P24.TIF"
RELEASE_ID = 0001
REVISION_ID = 0000
/* QUALITY DATA ELEMENTS */
DATA_QUALITY_ID = 1
DATA_QUALITY_DESC = "Data calculated based on original SPICE kernels"
/* TIME DATA ELEMENTS */
SPACECRAFT_CLOCK_START_COUNT = "1/0439343560.64124"
SPACECRAFT_CLOCK_STOP_COUNT = "1/0439343806.57569"
START_TIME = 2017-04-03T23:52:59.312Z
STOP_TIME = 2017-04-03T23:55:38.056Z
/* ORBITAL DATA ELEMENTS */
ASCENDING_NODE_LONGITUDE = 258.6
MAXIMUM_RESOLUTION = 0.0276
FOOTPRINT_POINT_LATITUDE = (-30.8234,-30.8403,-30.8521,-30.8617, -30.862,-30.8148,-30.508,-30.3033, -30.0988,-29.7928,-29.3896,-29.1864, -28.8828,-28.4756,-28.2711,-28.0669, -27.7608,-27.5579,-27.3531,-27.1481, -26.9438,-26.7324,-26.5177,-26.3066, -26.1,-25.8895,-25.6774,-25.4666, -25.2533,-25.0428,-24.8372,-24.6208, -24.3005,-24.0896,-23.8776,-23.563, -23.3509,-23.0334,-22.8232,-22.6113, -22.3989,-22.1862,-21.9741,-21.7625, -21.5515,-21.238,-21.0228,-20.8108, -20.4935,-20.3891,-20.3882,-20.3822, -20.3631,-20.3509,-20.3393,-20.3387, -20.3389,-20.5499,-20.8678,-21.1859, -21.3982,-21.6088,-21.815,-22.0254, -22.2401,-22.5614,-22.7713,-22.983, -23.1947,-23.4073,-23.6191,-23.8322, -24.0446,-24.2568,-24.5745,-24.7916, -24.9968,-25.207,-25.4289,-25.6326, -25.9491,-26.1611,-26.3718,-26.5846, -26.7964,-27.1065,-27.6128,-27.8184, -28.0268,-28.433,-28.7354,-29.2384, -29.5443,-29.7489,-29.9543,-30.159, -30.3635,-30.6706,-30.7729,-30.8234)
FOOTPRINT_POINT_LONGITUDE = (66.3596,65.8509,65.4322,65.0214, 65.0087,65.013,65.0146,65.0156,65.0164, 65.0173,65.0174,65.0176,65.0176,65.0176 ,65.0176,65.0175,65.0171,65.0165, 65.0162,65.0159,65.0153,65.0147,65.0145 ,65.0136,65.0121,65.011,65.01,65.0089, 65.0079,65.0065,65.0044,65.0037,65.0018 ,65.0001,64.9985,64.9956,64.9938, 64.9909,64.9887,64.9867,64.9846,64.9825 ,64.9803,64.9779,64.9754,64.9713,64.969 ,64.9664,64.9623,64.9608,64.9607, 65.1934,65.694,66.0157,66.3139,66.3276, 66.3326,66.3338,66.3344,66.3349,66.3351 ,66.3371,66.3436,66.3459,66.3439, 66.3414,66.3444,66.3455,66.3467,66.347, 66.3481,66.3479,66.3484,66.3493,66.3511 ,66.3467,66.3552,66.3583,66.3485, 66.3588,66.3621,66.3632,66.3659,66.3661 ,66.3675,66.3706,66.3808,66.3814, 66.3788,66.3857,66.3933,66.4072,66.4108 ,66.4124,66.4129,66.4143,66.4159, 66.4178,66.4184,66.3596)
ORBIT_NUMBER = 16788
ORBITAL_ECCENTRICITY = 0.579
ORBITAL_INCLINATION = 86.96
ORBITAL_SEMIMAJOR_AXIS = 8829.45
PERIAPSIS_ALTITUDE = 329.54
PERIAPSIS_ARGUMENT_ANGLE = 325.36
PERIAPSIS_TIME = 2017-04-03T23:52:22.000Z
SPACECRAFT_ORIENTATION = (0.0,1.0,0.0)
^MEX_ORIENTATION_DESC = "MEX_ORIENTATION_DESC.TXT"
SPACECRAFT_POINTING_MODE = ACROSSTRACK
^MEX_POINTING_DESC = "MEX_POINTING_DESC.TXT"
RIGHT_ASCENSION = -1e+32
DECLINATION = -1e+32
OFFSET_ANGLE = -0.75
SPACECRAFT_SOLAR_DISTANCE = 2.26954e+08
TARGET_NAME = MARS
/* CAMERA DATA ELEMENTS */
DETECTOR_TEMPERATURE = 0.0
FOCAL_PLANE_TEMPERATURE = 0.0
INST_CMPRS_NAME = "DISCRETE COSINE TRANSFORMATION (DCT)"
INST_CMPRS_RATIO = 7.26478
INST_CMPRS_QUALITY = 0
INST_CMPRS_QUANTZ_TBL_ID = 0
INSTRUMENT_TEMPERATURE = 0.0
LENS_TEMPERATURE = 0.0
MACROPIXEL_SIZE = 2
MISSING_FRAMES = 0
PIXEL_SUBSAMPLING_FLAG = N
SIGNAL_CHAIN_ID = 3
/* RADIOMETRIC DATA ELEMENTS */
BANDWIDTH = 177.0
CENTER_FILTER_WAVELENGTH = 676.5
RADIANCE_OFFSET = 3.924
RADIANCE_SCALING_FACTOR = 0.0109916
REFLECTANCE_SCALING_FACTOR = 0.00030019
MEX:REFLECTANCE_OFFSET = 0.107168
/* IMAGE OBJECT DEFINITIONS */
OBJECT = IMAGE
  INTERCHANGE_FORMAT = BINARY
  LINES = 21550
  LINE_SAMPLES = 3130
  SAMPLE_TYPE = UNSIGNED_INTEGER
  SAMPLE_BITS = 8
  BANDS = 1
  BAND_STORAGE_TYPE = BAND_SEQUENTIAL
  MAXIMUM = 255
  MEAN = 131.202
  MINIMUM = 1
  STANDARD_DEVIATION = 34.5987
END_OBJECT = IMAGE
/* MAP OBJECT DEFINITIONS */
OBJECT = IMAGE_MAP_PROJECTION
  ^DATA_SET_MAP_PROJECTION_CATALOG= "DSMAP.CAT"
  A_AXIS_RADIUS = 3396.0
  B_AXIS_RADIUS = 3396.0
  C_AXIS_RADIUS = 3396.0
  CENTER_LATITUDE = 0.0
  CENTER_LONGITUDE = 66.0
  COORDINATE_SYSTEM_NAME = PLANETOGRAPHIC
  COORDINATE_SYSTEM_TYPE = "BODY-FIXED ROTATING"
  EASTERNMOST_LONGITUDE = 66.41840000000001
  FIRST_STANDARD_PARALLEL = "N/A"
  LINE_FIRST_PIXEL = 1
  LINE_LAST_PIXEL = 21550
  LINE_PROJECTION_OFFSET = -51533.75
  MAP_PROJECTION_ROTATION = 0.0
  MAP_PROJECTION_TYPE = SINUSOIDAL
  MAP_RESOLUTION = 2370.85521546667
  MAP_SCALE = 0.025
  MAXIMUM_LATITUDE = -20.3387
  MINIMUM_LATITUDE = -30.862
  POSITIVE_LONGITUDE_DIRECTION = EAST
  REFERENCE_LATITUDE = "N/A"
  REFERENCE_LONGITUDE = "N/A"
  SAMPLE_FIRST_PIXEL = 1
  SAMPLE_LAST_PIXEL = 3130
  SAMPLE_PROJECTION_OFFSET = 2278.75
  SECOND_STANDARD_PARALLEL = "N/A"
  WESTERNMOST_LONGITUDE = 64.9607
END_OBJECT = IMAGE_MAP_PROJECTION
END
