PDS_VERSION_ID = PDS3
/* FILE DATA ELEMENTS */
RECORD_TYPE = UNDEFINED
/* POINTERS TO DATA OBJECTS */
^IMAGE = ("HG792_0000_S14.TIF")
/* IDENTIFICATION DATA ELEMENTS */
DATA_SET_ID = "MEX-M-HRSC-4-REFDR-MAPPROJECT-EXT6-V4.0"
DATA_SET_NAME = "MARS EXPRESS HRSC MAP PROJECTED REFDR EXTENSION6 V4.0"
DETECTOR_ID = MEX_HRSC_S1
EVENT_TYPE = "MARS-REGIONAL-MAPPING-Im-Gl-Eo"
INSTRUMENT_HOST_ID = MEX
INSTRUMENT_HOST_NAME = "MARS EXPRESS"
INSTRUMENT_ID = HRSC
INSTRUMENT_NAME = "HIGH RESOLUTION STEREO CAMERA"
MISSION_NAME = "MARS EXPRESS"
MISSION_PHASE_NAME = ME_Phase_36
PROCESSING_LEVEL_ID = 4
PRODUCT_CREATION_TIME = 2023-01-26T14:39:22.000Z
PRODUCT_ID = "HG792_0000_S14.TIF"
RELEASE_ID = 0001
REVISION_ID = 0000
/* QUALITY DATA ELEMENTS */
DATA_QUALITY_ID = 1
DATA_QUALITY_DESC = "Data calculated based on original SPICE kernels"
/* TIME DATA ELEMENTS */
SPACECRAFT_CLOCK_START_COUNT = "1/0439444032.08248"
SPACECRAFT_CLOCK_STOP_COUNT = "1/0439444298.65134"
START_TIME = 2017-04-05T03:48:27.936Z
STOP_TIME = 2017-04-05T03:51:45.063Z
/* ORBITAL DATA ELEMENTS */
ASCENDING_NODE_LONGITUDE = 258.53
MAXIMUM_RESOLUTION = 0.0279
FOOTPRINT_POINT_LATITUDE = (-47.4836,-47.4522,-47.4242,-47.3949, -47.394,-47.4419,-47.1741,-46.908, -46.6426,-46.3776,-46.1111,-45.7112, -45.3126,-45.0467,-44.7803,-44.382, -44.1159,-43.8508,-43.5851,-43.3191, -43.0534,-42.6551,-42.3895,-41.9866, -41.7179,-41.4525,-41.0563,-40.7998, -40.4152,-40.1588,-39.9025,-39.6453, -39.3886,-39.0047,-38.6208,-38.3649, -37.9894,-37.7353,-37.4793,-37.2169, -36.9623,-36.585,-36.0805,-35.8243, -35.567,-35.0605,-34.5636,-34.4376, -34.4368,-34.4594,-34.4747,-34.4976, -34.4983,-34.499,-35.005,-35.2585, -35.637,-35.8903,-36.1452,-36.6522, -36.9123,-37.1725,-37.4282,-37.6835, -38.0666,-38.3221,-38.5779,-38.953, -39.2113,-39.4676,-39.7241,-39.9818, -40.2388,-40.4952,-40.8802,-41.1375, -41.4007,-41.6661,-42.0685,-42.3382, -42.6041,-42.8773,-43.1436,-43.4102, -43.6754,-43.9346,-44.2018,-44.4655, -44.7326,-45.1351,-45.4035,-45.8063, -46.0732,-46.3399,-46.607,-46.8743, -47.1412,-47.4036,-47.5335,-47.4836)
FOOTPRINT_POINT_LONGITUDE = (17.3448,16.6544,16.0879,15.5336, 15.5165,15.5181,15.5329,15.5476,15.562, 15.5761,15.5897,15.6093,15.6284,15.6407 ,15.6525,15.6699,15.6811,15.692,15.7026 ,15.7128,15.7228,15.7372,15.7465, 15.7597,15.7685,15.7768,15.7886,15.796, 15.8067,15.8136,15.8202,15.8264,15.8325 ,15.8413,15.8497,15.855,15.864,15.869, 15.8735,15.8766,15.881,15.8879,15.8961, 15.8991,15.9018,15.908,15.9151,15.9165, 15.9165,16.5423,16.8642,17.3367,17.3512 ,17.3565,17.3578,17.3587,17.358,17.3582 ,17.3599,17.3599,17.366,17.3721,17.3738 ,17.3748,17.3763,17.3773,17.3783, 17.3713,17.3744,17.3755,17.3767,17.3789 ,17.3803,17.3811,17.3824,17.3837, 17.3844,17.3851,17.3867,17.388,17.3887, 17.3969,17.3979,17.3992,17.3989,17.3923 ,17.3939,17.3917,17.3931,17.3969, 17.3995,17.4034,17.4042,17.4048,17.4056 ,17.4067,17.4073,17.403,17.3994, 17.3448)
ORBIT_NUMBER = 16792
ORBITAL_ECCENTRICITY = 0.579
ORBITAL_INCLINATION = 86.95
ORBITAL_SEMIMAJOR_AXIS = 8827.49
PERIAPSIS_ALTITUDE = 330.2
PERIAPSIS_ARGUMENT_ANGLE = 324.67
PERIAPSIS_TIME = 2017-04-05T03:51:04.000Z
SPACECRAFT_ORIENTATION = (0.0,1.0,0.0)
^MEX_ORIENTATION_DESC = "MEX_ORIENTATION_DESC.TXT"
SPACECRAFT_POINTING_MODE = ACROSSTRACK
^MEX_POINTING_DESC = "MEX_POINTING_DESC.TXT"
RIGHT_ASCENSION = -1e+32
DECLINATION = -1e+32
OFFSET_ANGLE = -0.85
SPACECRAFT_SOLAR_DISTANCE = 2.27182e+08
TARGET_NAME = MARS
/* CAMERA DATA ELEMENTS */
DETECTOR_TEMPERATURE = 17.7588
FOCAL_PLANE_TEMPERATURE = 8.5833
INST_CMPRS_NAME = "DISCRETE COSINE TRANSFORMATION (DCT)"
INST_CMPRS_RATIO = 9.35315
INST_CMPRS_QUALITY = 0
INST_CMPRS_QUANTZ_TBL_ID = 0
INSTRUMENT_TEMPERATURE = 11.4379
LENS_TEMPERATURE = 8.5833
MACROPIXEL_SIZE = 2
PIXEL_SUBSAMPLING_FLAG = N
SIGNAL_CHAIN_ID = 1
/* RADIOMETRIC DATA ELEMENTS */
BANDWIDTH = 180.0
CENTER_FILTER_WAVELENGTH = 677.0
RADIANCE_OFFSET = 4.14689
RADIANCE_SCALING_FACTOR = 0.0101639
REFLECTANCE_SCALING_FACTOR = 0.000273684
MEX:REFLECTANCE_OFFSET = 0.111663
/* IMAGE OBJECT DEFINITIONS */
OBJECT = IMAGE
  INTERCHANGE_FORMAT = BINARY
  LINES = 30952
  LINE_SAMPLES = 3123
  SAMPLE_TYPE = UNSIGNED_INTEGER
  SAMPLE_BITS = 8
  BANDS = 1
  BAND_STORAGE_TYPE = BAND_SEQUENTIAL
  MAXIMUM = 255
  MEAN = 134.62
  MINIMUM = 1
  STANDARD_DEVIATION = 19.7803
END_OBJECT = IMAGE
/* MAP OBJECT DEFINITIONS */
OBJECT = IMAGE_MAP_PROJECTION
  ^DATA_SET_MAP_PROJECTION_CATALOG= "DSMAP.CAT"
  A_AXIS_RADIUS = 3396.0
  B_AXIS_RADIUS = 3396.0
  C_AXIS_RADIUS = 3396.0
  CENTER_LATITUDE = 0.0
  CENTER_LONGITUDE = 17.0
  COORDINATE_SYSTEM_NAME = PLANETOGRAPHIC
  COORDINATE_SYSTEM_TYPE = "BODY-FIXED ROTATING"
  EASTERNMOST_LONGITUDE = 17.4073
  FIRST_STANDARD_PARALLEL = "N/A"
  LINE_FIRST_PIXEL = 1
  LINE_LAST_PIXEL = 30952
  LINE_PROJECTION_OFFSET = -81746.25
  MAP_PROJECTION_ROTATION = 0.0
  MAP_PROJECTION_TYPE = SINUSOIDAL
  MAP_RESOLUTION = 2370.85521546667
  MAP_SCALE = 0.025
  MAXIMUM_LATITUDE = -34.4368
  MINIMUM_LATITUDE = -47.5335
  POSITIVE_LONGITUDE_DIRECTION = EAST
  REFERENCE_LATITUDE = "N/A"
  REFERENCE_LONGITUDE = "N/A"
  SAMPLE_FIRST_PIXEL = 1
  SAMPLE_LAST_PIXEL = 3123
  SAMPLE_PROJECTION_OFFSET = 2435.75
  SECOND_STANDARD_PARALLEL = "N/A"
  WESTERNMOST_LONGITUDE = 15.5165
END_OBJECT = IMAGE_MAP_PROJECTION
END
