PDS_VERSION_ID = PDS3
/* FILE DATA ELEMENTS */
RECORD_TYPE = UNDEFINED
/* POINTERS TO DATA OBJECTS */
^IMAGE = ("HG792_0000_S24.TIF")
/* IDENTIFICATION DATA ELEMENTS */
DATA_SET_ID = "MEX-M-HRSC-4-REFDR-MAPPROJECT-EXT6-V4.0"
DATA_SET_NAME = "MARS EXPRESS HRSC MAP PROJECTED REFDR EXTENSION6 V4.0"
DETECTOR_ID = MEX_HRSC_S2
EVENT_TYPE = "MARS-REGIONAL-MAPPING-Im-Gl-Eo"
INSTRUMENT_HOST_ID = MEX
INSTRUMENT_HOST_NAME = "MARS EXPRESS"
INSTRUMENT_ID = HRSC
INSTRUMENT_NAME = "HIGH RESOLUTION STEREO CAMERA"
MISSION_NAME = "MARS EXPRESS"
MISSION_PHASE_NAME = ME_Phase_36
PROCESSING_LEVEL_ID = 4
PRODUCT_CREATION_TIME = 2023-01-26T14:39:22.000Z
PRODUCT_ID = "HG792_0000_S24.TIF"
RELEASE_ID = 0001
REVISION_ID = 0000
/* QUALITY DATA ELEMENTS */
DATA_QUALITY_ID = 1
DATA_QUALITY_DESC = "Data calculated based on original SPICE kernels"
/* TIME DATA ELEMENTS */
SPACECRAFT_CLOCK_START_COUNT = "1/0439444032.08248"
SPACECRAFT_CLOCK_STOP_COUNT = "1/0439444298.65134"
START_TIME = 2017-04-05T03:47:20.182Z
STOP_TIME = 2017-04-05T03:50:45.309Z
/* ORBITAL DATA ELEMENTS */
ASCENDING_NODE_LONGITUDE = 258.53
MAXIMUM_RESOLUTION = 0.028
FOOTPRINT_POINT_LATITUDE = (-47.5743,-47.5949,-47.6069,-47.6144, -47.6146,-47.5633,-47.1237,-46.828, -46.5314,-46.2345,-45.939,-45.6415, -45.3481,-44.8482,-44.597,-44.2206, -43.9687,-43.5905,-43.3385,-43.0858, -42.8328,-42.5796,-42.3263,-42.0734, -41.819,-41.5646,-41.3104,-41.0556, -40.6722,-40.4164,-40.1605,-39.9041, -39.5205,-39.2642,-39.0069,-38.7494, -38.4921,-38.2327,-37.9682,-37.7098, -37.4544,-36.9505,-36.696,-36.442, -36.1879,-35.6889,-35.4367,-35.0582, -34.6696,-34.5425,-34.5182,-34.4994, -34.4835,-34.4637,-34.4629,-34.4631, -34.7168,-34.97,-35.2231,-35.6041, -35.8574,-36.2357,-36.7399,-37.233, -37.6217,-37.8807,-38.1397,-38.3984, -38.6566,-38.9236,-39.3079,-39.6933, -40.0773,-40.3335,-40.5902,-40.846, -41.1013,-41.357,-41.6122,-41.8673, -42.1216,-42.375,-42.6293,-43.0021, -43.2552,-43.5076,-43.7616,-44.1455, -44.3982,-44.7765,-45.2736,-45.5595, -45.8571,-46.1544,-46.4512,-46.7472, -47.0426,-47.3394,-47.4937,-47.5743)
FOOTPRINT_POINT_LONGITUDE = (17.4056,16.6667,16.0587,15.4623, 15.4439,15.4479,15.4756,15.4939,15.5118 ,15.5291,15.5457,15.5621,15.5778, 15.6035,15.6161,15.6342,15.6461,15.6633 ,15.6743,15.6851,15.6957,15.7059, 15.7159,15.7254,15.735,15.7442,15.7531, 15.7619,15.7746,15.7828,15.7908,15.7985 ,15.8094,15.8164,15.8233,15.8301, 15.8365,15.8431,15.8505,15.8563,15.8613 ,15.8711,15.8767,15.882,15.8871,15.8949 ,15.8989,15.9047,15.912,15.9138,15.9141 ,16.6245,16.9625,17.3358,17.3503, 17.3555,17.3569,17.3587,17.3604,17.3613 ,17.3623,17.3651,17.3683,17.382,17.3854 ,17.3874,17.3892,17.3911,17.3931, 17.3868,17.3919,17.3954,17.3997,17.4022 ,17.4038,17.406,17.4084,17.4102,17.4121 ,17.414,17.4162,17.4191,17.4207,17.4311 ,17.4332,17.4357,17.4362,17.4336, 17.4345,17.4361,17.4445,17.4502,17.4531 ,17.4558,17.4583,17.4613,17.4643, 17.4653,17.4595,17.4056)
ORBIT_NUMBER = 16792
ORBITAL_ECCENTRICITY = 0.579
ORBITAL_INCLINATION = 86.95
ORBITAL_SEMIMAJOR_AXIS = 8827.49
PERIAPSIS_ALTITUDE = 330.2
PERIAPSIS_ARGUMENT_ANGLE = 324.67
PERIAPSIS_TIME = 2017-04-05T03:51:04.000Z
SPACECRAFT_ORIENTATION = (0.0,1.0,0.0)
^MEX_ORIENTATION_DESC = "MEX_ORIENTATION_DESC.TXT"
SPACECRAFT_POINTING_MODE = ACROSSTRACK
^MEX_POINTING_DESC = "MEX_POINTING_DESC.TXT"
RIGHT_ASCENSION = -1e+32
DECLINATION = -1e+32
OFFSET_ANGLE = -0.85
SPACECRAFT_SOLAR_DISTANCE = 2.27182e+08
TARGET_NAME = MARS
/* CAMERA DATA ELEMENTS */
DETECTOR_TEMPERATURE = 20.0017
FOCAL_PLANE_TEMPERATURE = 8.5833
INST_CMPRS_NAME = "DISCRETE COSINE TRANSFORMATION (DCT)"
INST_CMPRS_RATIO = 11.5246
INST_CMPRS_QUALITY = 0
INST_CMPRS_QUANTZ_TBL_ID = 0
INSTRUMENT_TEMPERATURE = 11.4379
LENS_TEMPERATURE = 8.5833
MACROPIXEL_SIZE = 2
MISSING_FRAMES = 0
PIXEL_SUBSAMPLING_FLAG = N
SIGNAL_CHAIN_ID = 1
/* RADIOMETRIC DATA ELEMENTS */
BANDWIDTH = 178.0
CENTER_FILTER_WAVELENGTH = 679.0
RADIANCE_OFFSET = 3.9329
RADIANCE_SCALING_FACTOR = 0.00952045
REFLECTANCE_SCALING_FACTOR = 0.000260216
MEX:REFLECTANCE_OFFSET = 0.107495
/* IMAGE OBJECT DEFINITIONS */
OBJECT = IMAGE
  INTERCHANGE_FORMAT = BINARY
  LINES = 30952
  LINE_SAMPLES = 3123
  SAMPLE_TYPE = UNSIGNED_INTEGER
  SAMPLE_BITS = 8
  BANDS = 1
  BAND_STORAGE_TYPE = BAND_SEQUENTIAL
  MAXIMUM = 255
  MEAN = 132.899
  MINIMUM = 1
  STANDARD_DEVIATION = 20.8129
END_OBJECT = IMAGE
/* MAP OBJECT DEFINITIONS */
OBJECT = IMAGE_MAP_PROJECTION
  ^DATA_SET_MAP_PROJECTION_CATALOG= "DSMAP.CAT"
  A_AXIS_RADIUS = 3396.0
  B_AXIS_RADIUS = 3396.0
  C_AXIS_RADIUS = 3396.0
  CENTER_LATITUDE = 0.0
  CENTER_LONGITUDE = 17.0
  COORDINATE_SYSTEM_NAME = PLANETOGRAPHIC
  COORDINATE_SYSTEM_TYPE = "BODY-FIXED ROTATING"
  EASTERNMOST_LONGITUDE = 17.4653
  FIRST_STANDARD_PARALLEL = "N/A"
  LINE_FIRST_PIXEL = 1
  LINE_LAST_PIXEL = 30952
  LINE_PROJECTION_OFFSET = -81746.25
  MAP_PROJECTION_ROTATION = 0.0
  MAP_PROJECTION_TYPE = SINUSOIDAL
  MAP_RESOLUTION = 2370.85521546667
  MAP_SCALE = 0.025
  MAXIMUM_LATITUDE = -34.4629
  MINIMUM_LATITUDE = -47.6146
  POSITIVE_LONGITUDE_DIRECTION = EAST
  REFERENCE_LATITUDE = "N/A"
  REFERENCE_LONGITUDE = "N/A"
  SAMPLE_FIRST_PIXEL = 1
  SAMPLE_LAST_PIXEL = 3123
  SAMPLE_PROJECTION_OFFSET = 2435.75
  SECOND_STANDARD_PARALLEL = "N/A"
  WESTERNMOST_LONGITUDE = 15.4439
END_OBJECT = IMAGE_MAP_PROJECTION
END
