PDS_VERSION_ID = PDS3
/* FILE DATA ELEMENTS */
RECORD_TYPE = UNDEFINED
/* POINTERS TO DATA OBJECTS */
^IMAGE = ("HG795_0000_P14.TIF")
/* IDENTIFICATION DATA ELEMENTS */
DATA_SET_ID = "MEX-M-HRSC-4-REFDR-MAPPROJECT-EXT6-V4.0"
DATA_SET_NAME = "MARS EXPRESS HRSC MAP PROJECTED REFDR EXTENSION6 V4.0"
DETECTOR_ID = MEX_HRSC_P1
EVENT_TYPE = "MARS-REGIONAL-MAPPING-Im-Gl-La"
INSTRUMENT_HOST_ID = MEX
INSTRUMENT_HOST_NAME = "MARS EXPRESS"
INSTRUMENT_ID = HRSC
INSTRUMENT_NAME = "HIGH RESOLUTION STEREO CAMERA"
MISSION_NAME = "MARS EXPRESS"
MISSION_PHASE_NAME = ME_Phase_36
PROCESSING_LEVEL_ID = 4
PRODUCT_CREATION_TIME = 2023-01-26T14:39:22.000Z
PRODUCT_ID = "HG795_0000_P14.TIF"
RELEASE_ID = 0001
REVISION_ID = 0000
/* QUALITY DATA ELEMENTS */
DATA_QUALITY_ID = 1
DATA_QUALITY_DESC = "Data calculated based on original SPICE kernels"
/* TIME DATA ELEMENTS */
SPACECRAFT_CLOCK_START_COUNT = "1/0439519846.63422"
SPACECRAFT_CLOCK_STOP_COUNT = "1/0439520085.56867"
START_TIME = 2017-04-06T00:51:44.363Z
STOP_TIME = 2017-04-06T00:54:25.026Z
/* ORBITAL DATA ELEMENTS */
ASCENDING_NODE_LONGITUDE = 258.47
MAXIMUM_RESOLUTION = 0.0281
FOOTPRINT_POINT_LATITUDE = (-30.6996,-30.6931,-30.6875,-30.6826, -30.6824,-30.7269,-30.532,-30.1432, -29.7547,-29.56,-29.2581,-29.0538, -28.8521,-28.5484,-28.3471,-28.0475, -27.8462,-27.5481,-27.3484,-27.1512, -26.854,-26.6526,-26.4536,-26.2545, -26.0585,-25.8603,-25.563,-25.2663, -24.8722,-24.6753,-24.4779,-24.2774, -23.8877,-23.6917,-23.4961,-23.3005, -23.0071,-22.7145,-22.519,-22.2884, -22.0561,-21.8204,-21.5875,-21.357, -21.1254,-20.8956,-20.6668,-20.552, -20.508,-20.5087,-20.5114,-20.5128, -20.5114,-20.5109,-20.5109,-20.5114, -20.8578,-21.0907,-21.3206,-21.5471, -21.7829,-22.016,-22.365,-22.588, -22.7836,-22.9788,-23.2688,-23.4662, -23.7593,-23.9584,-24.1558,-24.4489, -24.7458,-25.0423,-25.2399,-25.4383, -25.6363,-25.8336,-26.1315,-26.3305, -26.6273,-26.8255,-27.026,-27.2262, -27.4294,-27.8235,-28.0248,-28.2241, -28.4275,-28.7308,-28.934,-29.2392, -29.4402,-29.7351,-30.0269,-30.2214, -30.4158,-30.6103,-30.7078,-30.6996)
FOOTPRINT_POINT_LONGITUDE = (69.6769,69.0863,68.6698,68.3458, 68.3328,68.3134,68.3153,68.3184,68.3213 ,68.3228,68.3255,68.328,68.3295,68.3321 ,68.3333,68.3343,68.3355,68.3359, 68.3364,68.336,68.3359,68.3368,68.3369, 68.337,68.336,68.3357,68.3353,68.3346, 68.3331,68.3322,68.3315,68.3307,68.3275 ,68.3262,68.3248,68.3234,68.3213, 68.3188,68.3173,68.3146,68.3124,68.3113 ,68.3093,68.3066,68.3041,68.3011, 68.2978,68.2962,68.2956,68.5435,68.82, 69.1255,69.3895,69.7101,69.7241,69.7291 ,69.7284,69.7291,69.7275,69.7234, 69.7255,69.7255,69.7247,69.7254,69.7251 ,69.7244,69.7211,69.7216,69.7201, 69.7215,69.7216,69.7193,69.7171,69.7167 ,69.7162,69.7162,69.7158,69.7147, 69.7143,69.7143,69.7126,69.7116,69.7122 ,69.7124,69.7148,69.71,69.7106,69.7096, 69.7115,69.7129,69.7145,69.7169,69.7165 ,69.716,69.715,69.7142,69.7133,69.7123, 69.7119,69.6769)
ORBIT_NUMBER = 16795
ORBITAL_ECCENTRICITY = 0.579
ORBITAL_INCLINATION = 86.96
ORBITAL_SEMIMAJOR_AXIS = 8827.54
PERIAPSIS_ALTITUDE = 329.22
PERIAPSIS_ARGUMENT_ANGLE = 324.15
PERIAPSIS_TIME = 2017-04-06T00:50:08.000Z
SPACECRAFT_ORIENTATION = (0.0,1.0,0.0)
^MEX_ORIENTATION_DESC = "MEX_ORIENTATION_DESC.TXT"
SPACECRAFT_POINTING_MODE = ACROSSTRACK
^MEX_POINTING_DESC = "MEX_POINTING_DESC.TXT"
RIGHT_ASCENSION = -1e+32
DECLINATION = -1e+32
OFFSET_ANGLE = -0.23
SPACECRAFT_SOLAR_DISTANCE = 2.27353e+08
TARGET_NAME = MARS
/* CAMERA DATA ELEMENTS */
DETECTOR_TEMPERATURE = 0.0
FOCAL_PLANE_TEMPERATURE = 0.0
INST_CMPRS_NAME = "DISCRETE COSINE TRANSFORMATION (DCT)"
INST_CMPRS_RATIO = 9.71221
INST_CMPRS_QUALITY = 0
INST_CMPRS_QUANTZ_TBL_ID = 0
INSTRUMENT_TEMPERATURE = 0.0
LENS_TEMPERATURE = 0.0
MACROPIXEL_SIZE = 2
MISSING_FRAMES = 1
PIXEL_SUBSAMPLING_FLAG = N
SIGNAL_CHAIN_ID = 3
/* RADIOMETRIC DATA ELEMENTS */
BANDWIDTH = 174.0
CENTER_FILTER_WAVELENGTH = 675.0
RADIANCE_OFFSET = 3.95896
RADIANCE_SCALING_FACTOR = 0.0123242
REFLECTANCE_SCALING_FACTOR = 0.000342647
MEX:REFLECTANCE_OFFSET = 0.11007
/* IMAGE OBJECT DEFINITIONS */
OBJECT = IMAGE
  INTERCHANGE_FORMAT = BINARY
  LINES = 26570
  LINE_SAMPLES = 3152
  SAMPLE_TYPE = UNSIGNED_INTEGER
  SAMPLE_BITS = 8
  BANDS = 1
  BAND_STORAGE_TYPE = BAND_SEQUENTIAL
  MAXIMUM = 255
  MEAN = 119.177
  MINIMUM = 1
  STANDARD_DEVIATION = 29.5396
END_OBJECT = IMAGE
/* MAP OBJECT DEFINITIONS */
OBJECT = IMAGE_MAP_PROJECTION
  ^DATA_SET_MAP_PROJECTION_CATALOG= "DSMAP.CAT"
  A_AXIS_RADIUS = 3396.0
  B_AXIS_RADIUS = 3396.0
  C_AXIS_RADIUS = 3396.0
  CENTER_LATITUDE = 0.0
  CENTER_LONGITUDE = 69.0
  COORDINATE_SYSTEM_NAME = PLANETOGRAPHIC
  COORDINATE_SYSTEM_TYPE = "BODY-FIXED ROTATING"
  EASTERNMOST_LONGITUDE = 69.7291
  FIRST_STANDARD_PARALLEL = "N/A"
  LINE_FIRST_PIXEL = 1
  LINE_LAST_PIXEL = 26570
  LINE_PROJECTION_OFFSET = -46271.25
  MAP_PROJECTION_ROTATION = 0.0
  MAP_PROJECTION_TYPE = SINUSOIDAL
  MAP_RESOLUTION = 2370.85521546667
  MAP_SCALE = 0.025
  MAXIMUM_LATITUDE = -20.508
  MINIMUM_LATITUDE = -30.7269
  POSITIVE_LONGITUDE_DIRECTION = EAST
  REFERENCE_LATITUDE = "N/A"
  REFERENCE_LONGITUDE = "N/A"
  SAMPLE_FIRST_PIXEL = 1
  SAMPLE_LAST_PIXEL = 3152
  SAMPLE_PROJECTION_OFFSET = 1562.75
  SECOND_STANDARD_PARALLEL = "N/A"
  WESTERNMOST_LONGITUDE = 68.29559999999999
END_OBJECT = IMAGE_MAP_PROJECTION
END
