PDS_VERSION_ID = PDS3
/* FILE DATA ELEMENTS */
RECORD_TYPE = UNDEFINED
/* POINTERS TO DATA OBJECTS */
^IMAGE = ("HG802_0000_IR4.TIF")
/* IDENTIFICATION DATA ELEMENTS */
DATA_SET_ID = "MEX-M-HRSC-4-REFDR-MAPPROJECT-EXT6-V4.0"
DATA_SET_NAME = "MARS EXPRESS HRSC MAP PROJECTED REFDR EXTENSION6 V4.0"
DETECTOR_ID = MEX_HRSC_IR
EVENT_TYPE = "MARS-REGIONAL-MAPPING-Im-Gl-La"
INSTRUMENT_HOST_ID = MEX
INSTRUMENT_HOST_NAME = "MARS EXPRESS"
INSTRUMENT_ID = HRSC
INSTRUMENT_NAME = "HIGH RESOLUTION STEREO CAMERA"
MISSION_NAME = "MARS EXPRESS"
MISSION_PHASE_NAME = ME_Phase_36
PROCESSING_LEVEL_ID = 4
PRODUCT_CREATION_TIME = 2023-01-26T14:39:22.000Z
PRODUCT_ID = "HG802_0000_IR4.TIF"
RELEASE_ID = 0001
REVISION_ID = 0000
/* QUALITY DATA ELEMENTS */
DATA_QUALITY_ID = 1
DATA_QUALITY_DESC = "Data calculated based on original SPICE kernels"
/* TIME DATA ELEMENTS */
SPACECRAFT_CLOCK_START_COUNT = "1/0439696131.62742"
SPACECRAFT_CLOCK_STOP_COUNT = "1/0439696386.36527"
START_TIME = 2017-04-08T01:49:54.685Z
STOP_TIME = 2017-04-08T01:49:59.962Z
/* ORBITAL DATA ELEMENTS */
ASCENDING_NODE_LONGITUDE = 258.34
MAXIMUM_RESOLUTION = 0.0576
FOOTPRINT_POINT_LATITUDE = (-30.8239,-30.8236,-30.8234,-30.8232, -30.823,-30.8228,-30.8226,-30.8223, -30.822,-30.8218,-30.8214,-30.8211, -30.8208,-30.8205,-30.8202,-30.8198, -30.8195,-30.8192,-30.8188,-30.8184, -30.818,-30.8175,-30.8172,-30.8168, -30.8165,-30.8161,-30.8157,-30.8156, -30.8721,-30.8483,-30.8212,-30.7939, -30.7668,-30.7397,-30.6954,-30.6683, -30.6445,-30.6172,-30.5901,-30.5662, -30.5389,-30.5355,-30.5338,-30.5341, -30.5343,-30.5346,-30.5347,-30.5349, -30.5351,-30.5355,-30.5357,-30.536, -30.5363,-30.5365,-30.5372,-30.5382, -30.5384,-30.5385,-30.538,-30.5381, -30.538,-30.5374,-30.5375,-30.5377, -30.5371,-30.5372,-30.5374,-30.5379, -30.538,-30.5382,-30.5386,-30.5398, -30.54,-30.5402,-30.5403,-30.5395, -30.5396,-30.5391,-30.5391,-30.539, -30.5397,-30.5398,-30.5399,-30.5404, -30.5404,-30.5405,-30.5413,-30.5793, -30.6065,-30.6516,-30.6788,-30.706, -30.7369,-30.7641,-30.7913,-30.822, -30.8492,-30.8764,-30.8798,-30.8239)
FOOTPRINT_POINT_LONGITUDE = (73.3344,73.2457,73.195,73.1443,73.0937 ,73.043,72.9924,72.9417,72.891,72.8403, 72.7769,72.7262,72.6755,72.6249,72.5742 ,72.5235,72.4729,72.4222,72.3716,72.321 ,72.2703,72.2069,72.1688,72.1181, 72.0801,72.0293,71.9913,71.9786,71.9499 ,71.9501,71.9504,71.9507,71.951,71.9513 ,71.9519,71.9521,71.9524,71.9528,71.953 ,71.9534,71.9537,71.9537,71.9538, 71.9921,72.0184,72.0447,72.071,72.0973, 72.1236,72.163,72.1892,72.2287,72.2549, 72.2812,72.3336,72.386,72.4122,72.4385, 72.4648,72.5042,72.5305,72.5568,72.583, 72.6093,72.6355,72.6617,72.688,72.7273, 72.7536,72.7798,72.8061,72.8456,72.885, 72.9244,72.9507,73.003,73.0292,73.0815, 73.1338,73.1731,73.2257,73.265,73.2913, 73.3177,73.3439,73.3571,73.3614,73.3614 ,73.3611,73.3611,73.3609,73.3606, 73.3605,73.3603,73.36,73.3598,73.3596, 73.3593,73.3593,73.3344)
ORBIT_NUMBER = 16802
ORBITAL_ECCENTRICITY = 0.579
ORBITAL_INCLINATION = 86.96
ORBITAL_SEMIMAJOR_AXIS = 8825.67
PERIAPSIS_ALTITUDE = 328.89
PERIAPSIS_ARGUMENT_ANGLE = 322.95
PERIAPSIS_TIME = 2017-04-08T01:47:56.000Z
SPACECRAFT_ORIENTATION = (0.0,1.0,0.0)
^MEX_ORIENTATION_DESC = "MEX_ORIENTATION_DESC.TXT"
SPACECRAFT_POINTING_MODE = NADIR
^MEX_POINTING_DESC = "MEX_POINTING_DESC.TXT"
RIGHT_ASCENSION = -1e+32
DECLINATION = -1e+32
OFFSET_ANGLE = -1e+32
SPACECRAFT_SOLAR_DISTANCE = 2.27751e+08
TARGET_NAME = MARS
/* CAMERA DATA ELEMENTS */
DETECTOR_TEMPERATURE = 0.0
FOCAL_PLANE_TEMPERATURE = 0.0
INST_CMPRS_NAME = "DISCRETE COSINE TRANSFORMATION (DCT)"
INST_CMPRS_RATIO = 11.549
INST_CMPRS_QUALITY = 0
INST_CMPRS_QUANTZ_TBL_ID = 0
INSTRUMENT_TEMPERATURE = 0.0
LENS_TEMPERATURE = 0.0
MACROPIXEL_SIZE = 4
MISSING_FRAMES = 0
PIXEL_SUBSAMPLING_FLAG = N
SIGNAL_CHAIN_ID = 2
/* RADIOMETRIC DATA ELEMENTS */
BANDWIDTH = 81.0
CENTER_FILTER_WAVELENGTH = 955.5
RADIANCE_OFFSET = 1.02274
RADIANCE_SCALING_FACTOR = 0.00166299
REFLECTANCE_SCALING_FACTOR = 0.000186097
MEX:REFLECTANCE_OFFSET = 0.11445
/* IMAGE OBJECT DEFINITIONS */
OBJECT = IMAGE
  INTERCHANGE_FORMAT = BINARY
  LINES = 2433
  LINE_SAMPLES = 1434
  SAMPLE_TYPE = UNSIGNED_INTEGER
  SAMPLE_BITS = 8
  BANDS = 1
  BAND_STORAGE_TYPE = BAND_SEQUENTIAL
  MAXIMUM = 253
  MEAN = 141.898
  MINIMUM = 16
  STANDARD_DEVIATION = 35.5208
END_OBJECT = IMAGE
/* MAP OBJECT DEFINITIONS */
OBJECT = IMAGE_MAP_PROJECTION
  ^DATA_SET_MAP_PROJECTION_CATALOG= "DSMAP.CAT"
  A_AXIS_RADIUS = 3396.0
  B_AXIS_RADIUS = 3396.0
  C_AXIS_RADIUS = 3396.0
  CENTER_LATITUDE = 0.0
  CENTER_LONGITUDE = 73.0
  COORDINATE_SYSTEM_NAME = PLANETOGRAPHIC
  COORDINATE_SYSTEM_TYPE = "BODY-FIXED ROTATING"
  EASTERNMOST_LONGITUDE = 73.3614
  FIRST_STANDARD_PARALLEL = "N/A"
  LINE_FIRST_PIXEL = 1
  LINE_LAST_PIXEL = 2433
  LINE_PROJECTION_OFFSET = -34140.625
  MAP_PROJECTION_ROTATION = 0.0
  MAP_PROJECTION_TYPE = SINUSOIDAL
  MAP_RESOLUTION = 1185.42760773333
  MAP_SCALE = 0.05
  MAXIMUM_LATITUDE = -30.5338
  MINIMUM_LATITUDE = -30.8798
  POSITIVE_LONGITUDE_DIRECTION = EAST
  REFERENCE_LATITUDE = "N/A"
  REFERENCE_LONGITUDE = "N/A"
  SAMPLE_FIRST_PIXEL = 1
  SAMPLE_LAST_PIXEL = 1434
  SAMPLE_PROJECTION_OFFSET = 1062.875
  SECOND_STANDARD_PARALLEL = "N/A"
  WESTERNMOST_LONGITUDE = 71.9499
END_OBJECT = IMAGE_MAP_PROJECTION
END
