PDS_VERSION_ID = PDS3
/* FILE DATA ELEMENTS */
RECORD_TYPE = UNDEFINED
/* POINTERS TO DATA OBJECTS */
^IMAGE = ("HG802_0000_S14.TIF")
/* IDENTIFICATION DATA ELEMENTS */
DATA_SET_ID = "MEX-M-HRSC-4-REFDR-MAPPROJECT-EXT6-V4.0"
DATA_SET_NAME = "MARS EXPRESS HRSC MAP PROJECTED REFDR EXTENSION6 V4.0"
DETECTOR_ID = MEX_HRSC_S1
EVENT_TYPE = "MARS-REGIONAL-MAPPING-Im-Gl-La"
INSTRUMENT_HOST_ID = MEX
INSTRUMENT_HOST_NAME = "MARS EXPRESS"
INSTRUMENT_ID = HRSC
INSTRUMENT_NAME = "HIGH RESOLUTION STEREO CAMERA"
MISSION_NAME = "MARS EXPRESS"
MISSION_PHASE_NAME = ME_Phase_36
PROCESSING_LEVEL_ID = 4
PRODUCT_CREATION_TIME = 2023-01-26T14:39:22.000Z
PRODUCT_ID = "HG802_0000_S14.TIF"
RELEASE_ID = 0001
REVISION_ID = 0000
/* QUALITY DATA ELEMENTS */
DATA_QUALITY_ID = 1
DATA_QUALITY_DESC = "Data calculated based on original SPICE kernels"
/* TIME DATA ELEMENTS */
SPACECRAFT_CLOCK_START_COUNT = "1/0439696131.62742"
SPACECRAFT_CLOCK_STOP_COUNT = "1/0439696386.36527"
START_TIME = 2017-04-08T01:49:59.970Z
STOP_TIME = 2017-04-08T01:50:00.757Z
/* ORBITAL DATA ELEMENTS */
ASCENDING_NODE_LONGITUDE = 258.34
MAXIMUM_RESOLUTION = 0.0293
FOOTPRINT_POINT_LATITUDE = (-30.8167,-30.8166,-30.8165,-30.8164, -30.8163,-30.8161,-30.816,-30.8159, -30.8157,-30.8156,-30.8154,-30.8153, -30.8152,-30.8151,-30.8149,-30.8148, -30.8147,-30.8145,-30.8144,-30.8142, -30.8141,-30.8139,-30.8137,-30.8136, -30.8134,-30.8132,-30.8129,-30.8126, -30.8122,-30.8121,-30.8119,-30.8117, -30.8115,-30.8113,-30.811,-30.8107, -30.8105,-30.8103,-30.8101,-30.8099, -30.8097,-30.8094,-30.8091,-30.8089, -30.8088,-30.8779,-30.8288,-30.8284, -30.8279,-30.8281,-30.8283,-30.8286, -30.8289,-30.8292,-30.8293,-30.8295, -30.8297,-30.8299,-30.8302,-30.8303, -30.8303,-30.8305,-30.831,-30.8311, -30.8313,-30.8316,-30.8318,-30.8312, -30.8294,-30.8295,-30.8265,-30.8267, -30.8268,-30.83,-30.8301,-30.8304, -30.833,-30.8332,-30.8333,-30.8341, -30.8342,-30.8345,-30.8348,-30.8349, -30.835,-30.8351,-30.8353,-30.8354, -30.8354,-30.8355,-30.8356,-30.8356, -30.8357,-30.8358,-30.8359,-30.836, -30.8364,-30.8857,-30.8861,-30.8167)
FOOTPRINT_POINT_LONGITUDE = (73.3385,73.2987,73.259,73.2325,73.206, 73.1662,73.1265,73.1,73.0735,73.047, 73.0072,72.9808,72.9543,72.9278,72.9013 ,72.8748,72.8483,72.8218,72.7953, 72.7687,72.7422,72.7025,72.676,72.6495, 72.623,72.5965,72.5436,72.4907,72.4377, 72.4112,72.3848,72.3583,72.3318,72.292, 72.2523,72.2125,72.186,72.1595,72.133, 72.1065,72.0799,72.0402,72.0136,71.9871 ,71.9738,71.9437,71.9443,71.9443, 71.9443,71.9712,71.9987,72.0263,72.0675 ,72.1088,72.1363,72.1638,72.205,72.2325 ,72.2738,72.3013,72.3425,72.37,72.3974, 72.4248,72.4523,72.4934,72.5209,72.5484 ,72.5896,72.617,72.6445,72.6718,72.6992 ,72.7267,72.7542,72.7953,72.823,72.8505 ,72.8779,72.9055,72.933,72.9742,73.0017 ,73.0291,73.0566,73.0841,73.1116, 73.1391,73.1665,73.194,73.2215,73.2489, 73.2764,73.3176,73.3451,73.3589,73.3638 ,73.3634,73.3634,73.3385)
ORBIT_NUMBER = 16802
ORBITAL_ECCENTRICITY = 0.579
ORBITAL_INCLINATION = 86.96
ORBITAL_SEMIMAJOR_AXIS = 8825.67
PERIAPSIS_ALTITUDE = 328.89
PERIAPSIS_ARGUMENT_ANGLE = 322.95
PERIAPSIS_TIME = 2017-04-08T01:47:56.000Z
SPACECRAFT_ORIENTATION = (0.0,1.0,0.0)
^MEX_ORIENTATION_DESC = "MEX_ORIENTATION_DESC.TXT"
SPACECRAFT_POINTING_MODE = NADIR
^MEX_POINTING_DESC = "MEX_POINTING_DESC.TXT"
RIGHT_ASCENSION = -1e+32
DECLINATION = -1e+32
OFFSET_ANGLE = -1e+32
SPACECRAFT_SOLAR_DISTANCE = 2.27751e+08
TARGET_NAME = MARS
/* CAMERA DATA ELEMENTS */
DETECTOR_TEMPERATURE = 0.0
FOCAL_PLANE_TEMPERATURE = 0.0
INST_CMPRS_NAME = "DISCRETE COSINE TRANSFORMATION (DCT)"
INST_CMPRS_RATIO = 11.7017
INST_CMPRS_QUALITY = 0
INST_CMPRS_QUANTZ_TBL_ID = 0
INSTRUMENT_TEMPERATURE = 0.0
LENS_TEMPERATURE = 0.0
MACROPIXEL_SIZE = 2
MISSING_FRAMES = 0
PIXEL_SUBSAMPLING_FLAG = N
SIGNAL_CHAIN_ID = 1
/* RADIOMETRIC DATA ELEMENTS */
BANDWIDTH = 180.0
CENTER_FILTER_WAVELENGTH = 677.0
RADIANCE_OFFSET = 5.46703
RADIANCE_SCALING_FACTOR = 0.00535984
REFLECTANCE_SCALING_FACTOR = 0.000145049
MEX:REFLECTANCE_OFFSET = 0.14795
/* IMAGE OBJECT DEFINITIONS */
OBJECT = IMAGE
  INTERCHANGE_FORMAT = BINARY
  LINES = 4866
  LINE_SAMPLES = 2867
  SAMPLE_TYPE = UNSIGNED_INTEGER
  SAMPLE_BITS = 8
  BANDS = 1
  BAND_STORAGE_TYPE = BAND_SEQUENTIAL
  MAXIMUM = 245
  MEAN = 124.92
  MINIMUM = 10
  STANDARD_DEVIATION = 43.3183
END_OBJECT = IMAGE
/* MAP OBJECT DEFINITIONS */
OBJECT = IMAGE_MAP_PROJECTION
  ^DATA_SET_MAP_PROJECTION_CATALOG= "DSMAP.CAT"
  A_AXIS_RADIUS = 3396.0
  B_AXIS_RADIUS = 3396.0
  C_AXIS_RADIUS = 3396.0
  CENTER_LATITUDE = 0.0
  CENTER_LONGITUDE = 73.0
  COORDINATE_SYSTEM_NAME = PLANETOGRAPHIC
  COORDINATE_SYSTEM_TYPE = "BODY-FIXED ROTATING"
  EASTERNMOST_LONGITUDE = 73.3638
  FIRST_STANDARD_PARALLEL = "N/A"
  LINE_FIRST_PIXEL = 1
  LINE_LAST_PIXEL = 4866
  LINE_PROJECTION_OFFSET = -68280.75
  MAP_PROJECTION_ROTATION = 0.0
  MAP_PROJECTION_TYPE = SINUSOIDAL
  MAP_RESOLUTION = 2370.85521546667
  MAP_SCALE = 0.025
  MAXIMUM_LATITUDE = -30.8088
  MINIMUM_LATITUDE = -30.8861
  POSITIVE_LONGITUDE_DIRECTION = EAST
  REFERENCE_LATITUDE = "N/A"
  REFERENCE_LONGITUDE = "N/A"
  SAMPLE_FIRST_PIXEL = 1
  SAMPLE_LAST_PIXEL = 2867
  SAMPLE_PROJECTION_OFFSET = 2126.25
  SECOND_STANDARD_PARALLEL = "N/A"
  WESTERNMOST_LONGITUDE = 71.94370000000001
END_OBJECT = IMAGE_MAP_PROJECTION
END
