PDS_VERSION_ID = PDS3
/* FILE DATA ELEMENTS */
RECORD_TYPE = UNDEFINED
/* POINTERS TO DATA OBJECTS */
^IMAGE = ("HG806_0000_BL4.TIF")
/* IDENTIFICATION DATA ELEMENTS */
DATA_SET_ID = "MEX-M-HRSC-4-REFDR-MAPPROJECT-EXT6-V4.0"
DATA_SET_NAME = "MARS EXPRESS HRSC MAP PROJECTED REFDR EXTENSION6 V4.0"
DETECTOR_ID = MEX_HRSC_BLUE
EVENT_TYPE = "MARS-REGIONAL-MAPPING-Te-Im-Eo"
INSTRUMENT_HOST_ID = MEX
INSTRUMENT_HOST_NAME = "MARS EXPRESS"
INSTRUMENT_ID = HRSC
INSTRUMENT_NAME = "HIGH RESOLUTION STEREO CAMERA"
MISSION_NAME = "MARS EXPRESS"
MISSION_PHASE_NAME = ME_Phase_36
PROCESSING_LEVEL_ID = 4
PRODUCT_CREATION_TIME = 2023-01-26T14:39:22.000Z
PRODUCT_ID = "HG806_0000_BL4.TIF"
RELEASE_ID = 0001
REVISION_ID = 0000
/* QUALITY DATA ELEMENTS */
DATA_QUALITY_ID = 1
DATA_QUALITY_DESC = "Data calculated based on original SPICE kernels"
/* TIME DATA ELEMENTS */
SPACECRAFT_CLOCK_START_COUNT = "1/0439796770.09049"
SPACECRAFT_CLOCK_STOP_COUNT = "1/0439797006.57715"
START_TIME = 2017-04-09T05:46:42.985Z
STOP_TIME = 2017-04-09T05:49:34.444Z
/* ORBITAL DATA ELEMENTS */
ASCENDING_NODE_LONGITUDE = 258.27
MAXIMUM_RESOLUTION = 0.0523
FOOTPRINT_POINT_LATITUDE = (-37.2765,-37.27,-37.2559,-37.2557, -37.2497,-37.0276,-36.5855,-36.3642, -36.143,-35.9217,-35.5897,-35.3684, -35.147,-34.9254,-34.7039,-34.4826, -34.2612,-33.929,-33.5969,-33.3756, -33.044,-32.8223,-32.4911,-32.2699, -32.0477,-31.8258,-31.3836,-30.8306, -30.499,-30.2777,-29.9468,-29.6076, -29.3795,-29.1515,-28.9235,-28.6957, -28.3541,-28.1252,-27.8976,-27.6701, -27.4427,-27.2156,-26.8761,-26.6489, -26.4219,-26.1951,-26.0818,-26.0423, -26.0449,-26.0462,-26.0465,-26.0464, -26.0464,-26.0473,-26.2745,-26.5017, -26.7294,-26.9569,-27.1844,-27.412, -27.6398,-27.868,-28.0954,-28.3233, -28.6653,-28.8934,-29.1217,-29.4643, -29.6928,-29.9193,-30.3614,-30.5826, -30.804,-31.0255,-31.2472,-31.4688, -31.6904,-31.9117,-32.1334,-32.4658, -32.7983,-33.0196,-33.2413,-33.4631, -33.6849,-33.9067,-34.1298,-34.351, -34.5726,-34.7944,-35.2373,-35.4591, -35.6808,-35.9028,-36.2356,-36.568, -36.7896,-37.1221,-37.2329,-37.2765)
FOOTPRINT_POINT_LONGITUDE = (24.0578,23.4806,22.6674,22.6543, 22.6415,22.6471,22.6619,22.6685,22.6753 ,22.6816,22.691,22.697,22.7027,22.708, 22.7132,22.7187,22.7236,22.7308,22.7377 ,22.7424,22.7495,22.753,22.7602,22.7641 ,22.7659,22.7681,22.7749,22.7817, 22.7856,22.7874,22.7916,22.7948,22.7968 ,22.7987,22.8004,22.8022,22.8046, 22.8038,22.8051,22.8062,22.8072,22.8084 ,22.8118,22.8122,22.8128,22.8134, 22.8136,22.8136,23.1792,23.634,23.8997, 24.1525,24.1652,24.1694,24.1679,24.1665 ,24.1643,24.1629,24.1615,24.1599, 24.1582,24.1559,24.1552,24.1538,24.1515 ,24.15,24.1482,24.1455,24.1436,24.142, 24.1389,24.1373,24.1353,24.1333,24.1307 ,24.1286,24.1265,24.1249,24.1227, 24.1196,24.1164,24.115,24.1129,24.1105, 24.1083,24.1059,24.101,24.0998,24.0977, 24.0953,24.0919,24.0895,24.087,24.0841, 24.0799,24.0764,24.0739,24.0699,24.0685 ,24.0578)
ORBIT_NUMBER = 16806
ORBITAL_ECCENTRICITY = 0.579
ORBITAL_INCLINATION = 86.94
ORBITAL_SEMIMAJOR_AXIS = 8824.3
PERIAPSIS_ALTITUDE = 329.71
PERIAPSIS_ARGUMENT_ANGLE = 322.26
PERIAPSIS_TIME = 2017-04-09T05:46:42.000Z
SPACECRAFT_ORIENTATION = (0.0,1.0,0.0)
^MEX_ORIENTATION_DESC = "MEX_ORIENTATION_DESC.TXT"
SPACECRAFT_POINTING_MODE = NADIR
^MEX_POINTING_DESC = "MEX_POINTING_DESC.TXT"
RIGHT_ASCENSION = -1e+32
DECLINATION = -1e+32
OFFSET_ANGLE = -1e+32
SPACECRAFT_SOLAR_DISTANCE = 2.27979e+08
TARGET_NAME = MARS
/* CAMERA DATA ELEMENTS */
DETECTOR_TEMPERATURE = 18.3705
FOCAL_PLANE_TEMPERATURE = 8.5833
INST_CMPRS_NAME = "DISCRETE COSINE TRANSFORMATION (DCT)"
INST_CMPRS_RATIO = 5.50555
INST_CMPRS_QUALITY = 0
INST_CMPRS_QUANTZ_TBL_ID = 0
INSTRUMENT_TEMPERATURE = 11.234
LENS_TEMPERATURE = 8.5833
MACROPIXEL_SIZE = 4
MISSING_FRAMES = 0
PIXEL_SUBSAMPLING_FLAG = N
SIGNAL_CHAIN_ID = 2
/* RADIOMETRIC DATA ELEMENTS */
BANDWIDTH = 76.0
CENTER_FILTER_WAVELENGTH = 444.0
RADIANCE_OFFSET = 0.544179
RADIANCE_SCALING_FACTOR = 0.00135329
REFLECTANCE_SCALING_FACTOR = 7.22663e-05
MEX:REFLECTANCE_OFFSET = 0.0290594
/* IMAGE OBJECT DEFINITIONS */
OBJECT = IMAGE
  INTERCHANGE_FORMAT = BINARY
  LINES = 13320
  LINE_SAMPLES = 1596
  SAMPLE_TYPE = UNSIGNED_INTEGER
  SAMPLE_BITS = 8
  BANDS = 1
  BAND_STORAGE_TYPE = BAND_SEQUENTIAL
  MAXIMUM = 255
  MEAN = 140.011
  MINIMUM = 1
  STANDARD_DEVIATION = 26.142
END_OBJECT = IMAGE
/* MAP OBJECT DEFINITIONS */
OBJECT = IMAGE_MAP_PROJECTION
  ^DATA_SET_MAP_PROJECTION_CATALOG= "DSMAP.CAT"
  A_AXIS_RADIUS = 3396.0
  B_AXIS_RADIUS = 3396.0
  C_AXIS_RADIUS = 3396.0
  CENTER_LATITUDE = 0.0
  CENTER_LONGITUDE = 23.0
  COORDINATE_SYSTEM_NAME = PLANETOGRAPHIC
  COORDINATE_SYSTEM_TYPE = "BODY-FIXED ROTATING"
  EASTERNMOST_LONGITUDE = 24.1694
  FIRST_STANDARD_PARALLEL = "N/A"
  LINE_FIRST_PIXEL = 1
  LINE_LAST_PIXEL = 13320
  LINE_PROJECTION_OFFSET = -30868.875
  MAP_PROJECTION_ROTATION = 0.0
  MAP_PROJECTION_TYPE = SINUSOIDAL
  MAP_RESOLUTION = 1185.42760773333
  MAP_SCALE = 0.05
  MAXIMUM_LATITUDE = -26.0423
  MINIMUM_LATITUDE = -37.2765
  POSITIVE_LONGITUDE_DIRECTION = EAST
  REFERENCE_LATITUDE = "N/A"
  REFERENCE_LONGITUDE = "N/A"
  SAMPLE_FIRST_PIXEL = 1
  SAMPLE_LAST_PIXEL = 1596
  SAMPLE_PROJECTION_OFFSET = 346.125
  SECOND_STANDARD_PARALLEL = "N/A"
  WESTERNMOST_LONGITUDE = 22.6415
END_OBJECT = IMAGE_MAP_PROJECTION
END
