PDS_VERSION_ID = PDS3
/* FILE DATA ELEMENTS */
RECORD_TYPE = UNDEFINED
/* POINTERS TO DATA OBJECTS */
^IMAGE = ("HG806_0000_IR4.TIF")
/* IDENTIFICATION DATA ELEMENTS */
DATA_SET_ID = "MEX-M-HRSC-4-REFDR-MAPPROJECT-EXT6-V4.0"
DATA_SET_NAME = "MARS EXPRESS HRSC MAP PROJECTED REFDR EXTENSION6 V4.0"
DETECTOR_ID = MEX_HRSC_IR
EVENT_TYPE = "MARS-REGIONAL-MAPPING-Te-Im-Eo"
INSTRUMENT_HOST_ID = MEX
INSTRUMENT_HOST_NAME = "MARS EXPRESS"
INSTRUMENT_ID = HRSC
INSTRUMENT_NAME = "HIGH RESOLUTION STEREO CAMERA"
MISSION_NAME = "MARS EXPRESS"
MISSION_PHASE_NAME = ME_Phase_36
PROCESSING_LEVEL_ID = 4
PRODUCT_CREATION_TIME = 2023-01-26T14:39:22.000Z
PRODUCT_ID = "HG806_0000_IR4.TIF"
RELEASE_ID = 0001
REVISION_ID = 0000
/* QUALITY DATA ELEMENTS */
DATA_QUALITY_ID = 1
DATA_QUALITY_DESC = "Data calculated based on original SPICE kernels"
/* TIME DATA ELEMENTS */
SPACECRAFT_CLOCK_START_COUNT = "1/0439796770.09049"
SPACECRAFT_CLOCK_STOP_COUNT = "1/0439797006.57715"
START_TIME = 2017-04-09T05:47:12.273Z
STOP_TIME = 2017-04-09T05:50:07.142Z
/* ORBITAL DATA ELEMENTS */
ASCENDING_NODE_LONGITUDE = 258.27
MAXIMUM_RESOLUTION = 0.0547
FOOTPRINT_POINT_LATITUDE = (-37.2323,-37.2265,-37.2204,-37.2142, -37.2139,-37.2347,-36.8997,-36.6753, -36.4519,-36.2277,-36.0039,-35.7804, -35.4451,-35.222,-34.9997,-34.666, -34.4432,-34.2212,-33.8883,-33.6665, -33.4443,-33.2216,-32.8904,-32.6671, -32.4443,-32.0096,-31.6741,-31.4464, -31.2193,-30.8796,-30.6532,-30.4268, -30.2023,-29.9739,-29.7479,-29.5223, -29.1843,-28.9589,-28.7337,-28.5088, -28.1761,-27.9525,-27.7284,-27.5046, -27.2803,-27.0507,-26.8282,-26.4944, -26.1597,-26.0485,-26.0235,-26.027, -26.0276,-26.0271,-26.0271,-26.0279, -26.3616,-26.6948,-27.0297,-27.2533, -27.5888,-27.9252,-28.1506,-28.488, -28.7131,-28.9389,-29.1642,-29.39, -29.7287,-29.9555,-30.1827,-30.5234, -30.7506,-30.9771,-31.2034,-31.4303, -31.6576,-31.8839,-32.1052,-32.5468, -32.7678,-32.991,-33.2129,-33.4343, -33.6563,-34.0964,-34.3196,-34.6541, -34.8768,-35.2148,-35.5498,-35.7731, -35.9949,-36.2188,-36.4434,-36.6681, -36.8927,-37.1169,-37.2291,-37.2323)
FOOTPRINT_POINT_LONGITUDE = (24.0636,23.522,23.0598,22.6634,22.6502 ,22.6362,22.6459,22.6527,22.659,22.6655 ,22.6717,22.6776,22.6864,22.6919, 22.6969,22.7044,22.7094,22.7139,22.7205 ,22.7248,22.7291,22.7336,22.7389, 22.7435,22.7478,22.7512,22.7559,22.7589 ,22.7615,22.765,22.7672,22.7694,22.7706 ,22.7736,22.7754,22.7771,22.7793, 22.7807,22.7821,22.7832,22.7829,22.7835 ,22.7842,22.7848,22.7855,22.7885, 22.7885,22.7885,22.7888,22.7887,22.7887 ,23.508,23.9145,24.1766,24.1897,24.194, 24.1912,24.1879,24.1851,24.1832,24.1801 ,24.1772,24.1756,24.1726,24.1706, 24.1687,24.1666,24.1645,24.1611,24.1591 ,24.1573,24.1541,24.152,24.1493,24.1465 ,24.1439,24.1413,24.1391,24.1369, 24.1318,24.1293,24.1275,24.1251,24.1223 ,24.1198,24.1126,24.1102,24.1063, 24.1035,24.1008,24.0966,24.0936,24.0898 ,24.0869,24.0842,24.0815,24.0786, 24.0754,24.0738,24.0636)
ORBIT_NUMBER = 16806
ORBITAL_ECCENTRICITY = 0.579
ORBITAL_INCLINATION = 86.94
ORBITAL_SEMIMAJOR_AXIS = 8824.3
PERIAPSIS_ALTITUDE = 329.71
PERIAPSIS_ARGUMENT_ANGLE = 322.26
PERIAPSIS_TIME = 2017-04-09T05:46:42.000Z
SPACECRAFT_ORIENTATION = (0.0,1.0,0.0)
^MEX_ORIENTATION_DESC = "MEX_ORIENTATION_DESC.TXT"
SPACECRAFT_POINTING_MODE = NADIR
^MEX_POINTING_DESC = "MEX_POINTING_DESC.TXT"
RIGHT_ASCENSION = -1e+32
DECLINATION = -1e+32
OFFSET_ANGLE = -1e+32
SPACECRAFT_SOLAR_DISTANCE = 2.27979e+08
TARGET_NAME = MARS
/* CAMERA DATA ELEMENTS */
DETECTOR_TEMPERATURE = 17.9627
FOCAL_PLANE_TEMPERATURE = 8.5833
INST_CMPRS_NAME = "DISCRETE COSINE TRANSFORMATION (DCT)"
INST_CMPRS_RATIO = 10.5327
INST_CMPRS_QUALITY = 0
INST_CMPRS_QUANTZ_TBL_ID = 0
INSTRUMENT_TEMPERATURE = 11.234
LENS_TEMPERATURE = 8.5833
MACROPIXEL_SIZE = 4
MISSING_FRAMES = 0
PIXEL_SUBSAMPLING_FLAG = N
SIGNAL_CHAIN_ID = 2
/* RADIOMETRIC DATA ELEMENTS */
BANDWIDTH = 81.0
CENTER_FILTER_WAVELENGTH = 955.5
RADIANCE_OFFSET = 0.83555
RADIANCE_SCALING_FACTOR = 0.00273871
REFLECTANCE_SCALING_FACTOR = 0.000307086
MEX:REFLECTANCE_OFFSET = 0.0936888
/* IMAGE OBJECT DEFINITIONS */
OBJECT = IMAGE
  INTERCHANGE_FORMAT = BINARY
  LINES = 13320
  LINE_SAMPLES = 1596
  SAMPLE_TYPE = UNSIGNED_INTEGER
  SAMPLE_BITS = 8
  BANDS = 1
  BAND_STORAGE_TYPE = BAND_SEQUENTIAL
  MAXIMUM = 255
  MEAN = 127.703
  MINIMUM = 1
  STANDARD_DEVIATION = 31.986
END_OBJECT = IMAGE
/* MAP OBJECT DEFINITIONS */
OBJECT = IMAGE_MAP_PROJECTION
  ^DATA_SET_MAP_PROJECTION_CATALOG= "DSMAP.CAT"
  A_AXIS_RADIUS = 3396.0
  B_AXIS_RADIUS = 3396.0
  C_AXIS_RADIUS = 3396.0
  CENTER_LATITUDE = 0.0
  CENTER_LONGITUDE = 23.0
  COORDINATE_SYSTEM_NAME = PLANETOGRAPHIC
  COORDINATE_SYSTEM_TYPE = "BODY-FIXED ROTATING"
  EASTERNMOST_LONGITUDE = 24.194
  FIRST_STANDARD_PARALLEL = "N/A"
  LINE_FIRST_PIXEL = 1
  LINE_LAST_PIXEL = 13320
  LINE_PROJECTION_OFFSET = -30868.875
  MAP_PROJECTION_ROTATION = 0.0
  MAP_PROJECTION_TYPE = SINUSOIDAL
  MAP_RESOLUTION = 1185.42760773333
  MAP_SCALE = 0.05
  MAXIMUM_LATITUDE = -26.0235
  MINIMUM_LATITUDE = -37.2347
  POSITIVE_LONGITUDE_DIRECTION = EAST
  REFERENCE_LATITUDE = "N/A"
  REFERENCE_LONGITUDE = "N/A"
  SAMPLE_FIRST_PIXEL = 1
  SAMPLE_LAST_PIXEL = 1596
  SAMPLE_PROJECTION_OFFSET = 346.125
  SECOND_STANDARD_PARALLEL = "N/A"
  WESTERNMOST_LONGITUDE = 22.6362
END_OBJECT = IMAGE_MAP_PROJECTION
END
