PDS_VERSION_ID = PDS3
/* FILE DATA ELEMENTS */
RECORD_TYPE = UNDEFINED
/* POINTERS TO DATA OBJECTS */
^IMAGE = ("HG807_0000_IR4.TIF")
/* IDENTIFICATION DATA ELEMENTS */
DATA_SET_ID = "MEX-M-HRSC-4-REFDR-MAPPROJECT-EXT6-V4.0"
DATA_SET_NAME = "MARS EXPRESS HRSC MAP PROJECTED REFDR EXTENSION6 V4.0"
DETECTOR_ID = MEX_HRSC_IR
EVENT_TYPE = "MARS-REGIONAL-MAPPING-Te-Fl-Gl"
INSTRUMENT_HOST_ID = MEX
INSTRUMENT_HOST_NAME = "MARS EXPRESS"
INSTRUMENT_ID = HRSC
INSTRUMENT_NAME = "HIGH RESOLUTION STEREO CAMERA"
MISSION_NAME = "MARS EXPRESS"
MISSION_PHASE_NAME = ME_Phase_36
PROCESSING_LEVEL_ID = 4
PRODUCT_CREATION_TIME = 2023-01-26T14:39:22.000Z
PRODUCT_ID = "HG807_0000_IR4.TIF"
RELEASE_ID = 0001
REVISION_ID = 0000
/* QUALITY DATA ELEMENTS */
DATA_QUALITY_ID = 1
DATA_QUALITY_DESC = "Data calculated based on original SPICE kernels"
/* TIME DATA ELEMENTS */
SPACECRAFT_CLOCK_START_COUNT = "1/0439821918.09032"
SPACECRAFT_CLOCK_STOP_COUNT = "1/0439822151.41255"
START_TIME = 2017-04-09T12:45:31.316Z
STOP_TIME = 2017-04-09T12:48:20.991Z
/* ORBITAL DATA ELEMENTS */
ASCENDING_NODE_LONGITUDE = 258.25
MAXIMUM_RESOLUTION = 0.0542
FOOTPRINT_POINT_LATITUDE = (-43.1873,-43.1808,-43.1697,-43.1574, -43.1487,-43.1483,-43.1744,-42.8396, -42.6165,-42.3925,-42.1695,-41.835, -41.501,-41.2775,-41.0558,-40.8334, -40.6116,-40.3895,-40.1677,-39.9456, -39.7236,-39.5013,-39.2794,-39.0578, -38.8352,-38.6116,-38.2779,-38.0558, -37.8339,-37.5027,-37.2818,-37.0607, -36.8401,-36.5086,-36.287,-35.8562, -35.5293,-35.307,-35.0817,-34.7513, -34.532,-34.3133,-34.0946,-33.8765, -33.55,-33.1144,-32.5701,-32.2434, -32.1348,-32.0902,-32.0955,-32.0989, -32.1068,-32.1069,-32.1078,-32.5441, -32.7624,-33.0898,-33.308,-33.6351, -33.8537,-34.0731,-34.4021,-34.6217, -34.8409,-35.1708,-35.3906,-35.6111, -35.8309,-36.0514,-36.2713,-36.4926, -36.8243,-37.1568,-37.4901,-37.7123, -38.0447,-38.3774,-38.6004,-38.8232, -39.0451,-39.2671,-39.4893,-39.7115, -39.9336,-40.1564,-40.3789,-40.6018, -40.8246,-41.0474,-41.2701,-41.4934, -41.8276,-42.0507,-42.2745,-42.61, -42.8334,-43.057,-43.1687,-43.1873)
FOOTPRINT_POINT_LONGITUDE = (281.91,281.603,281.137,280.674,280.371 ,280.356,280.343,280.36,280.371,280.382 ,280.393,280.408,280.423,280.433, 280.442,280.451,280.46,280.469,280.477, 280.486,280.494,280.502,280.51,280.517, 280.525,280.533,280.544,280.551,280.558 ,280.567,280.573,280.579,280.585, 280.594,280.599,280.607,280.613,280.618 ,280.625,280.632,280.636,280.639, 280.643,280.647,280.652,280.658,280.665 ,280.669,280.67,280.671,281.258,281.566 ,282.031,282.044,282.049,282.046, 282.044,282.041,282.039,282.036,282.034 ,282.032,282.029,282.027,282.025, 282.022,282.02,282.018,282.015,282.013, 282.011,282.009,282.006,282.003,282.0, 281.999,281.995,281.991,281.99,281.988, 281.985,281.982,281.979,281.977,281.974 ,281.971,281.968,281.965,281.962, 281.959,281.956,281.953,281.948,281.945 ,281.942,281.937,281.934,281.931, 281.929,281.91)
ORBIT_NUMBER = 16807
ORBITAL_ECCENTRICITY = 0.579
ORBITAL_INCLINATION = 86.94
ORBITAL_SEMIMAJOR_AXIS = 8825.06
PERIAPSIS_ALTITUDE = 329.33
PERIAPSIS_ARGUMENT_ANGLE = 322.1
PERIAPSIS_TIME = 2017-04-09T12:46:29.000Z
SPACECRAFT_ORIENTATION = (0.0,1.0,0.0)
^MEX_ORIENTATION_DESC = "MEX_ORIENTATION_DESC.TXT"
SPACECRAFT_POINTING_MODE = ACROSSTRACK
^MEX_POINTING_DESC = "MEX_POINTING_DESC.TXT"
RIGHT_ASCENSION = -1e+32
DECLINATION = -1e+32
OFFSET_ANGLE = -0.2
SPACECRAFT_SOLAR_DISTANCE = 2.28036e+08
TARGET_NAME = MARS
/* CAMERA DATA ELEMENTS */
DETECTOR_TEMPERATURE = 17.7588
FOCAL_PLANE_TEMPERATURE = 9.6028
INST_CMPRS_NAME = "DISCRETE COSINE TRANSFORMATION (DCT)"
INST_CMPRS_RATIO = 10.1504
INST_CMPRS_QUALITY = 0
INST_CMPRS_QUANTZ_TBL_ID = 0
INSTRUMENT_TEMPERATURE = 12.0496
LENS_TEMPERATURE = 10.0106
MACROPIXEL_SIZE = 4
MISSING_FRAMES = 0
PIXEL_SUBSAMPLING_FLAG = N
SIGNAL_CHAIN_ID = 2
/* RADIOMETRIC DATA ELEMENTS */
BANDWIDTH = 81.0
CENTER_FILTER_WAVELENGTH = 955.5
RADIANCE_OFFSET = 0.734531
RADIANCE_SCALING_FACTOR = 0.00404282
REFLECTANCE_SCALING_FACTOR = 0.00045354
MEX:REFLECTANCE_OFFSET = 0.0824026
/* IMAGE OBJECT DEFINITIONS */
OBJECT = IMAGE
  INTERCHANGE_FORMAT = BINARY
  LINES = 13206
  LINE_SAMPLES = 1576
  SAMPLE_TYPE = UNSIGNED_INTEGER
  SAMPLE_BITS = 8
  BANDS = 1
  BAND_STORAGE_TYPE = BAND_SEQUENTIAL
  MAXIMUM = 255
  MEAN = 80.4104
  MINIMUM = 1
  STANDARD_DEVIATION = 24.7822
END_OBJECT = IMAGE
/* MAP OBJECT DEFINITIONS */
OBJECT = IMAGE_MAP_PROJECTION
  ^DATA_SET_MAP_PROJECTION_CATALOG= "DSMAP.CAT"
  A_AXIS_RADIUS = 3396.0
  B_AXIS_RADIUS = 3396.0
  C_AXIS_RADIUS = 3396.0
  CENTER_LATITUDE = 0.0
  CENTER_LONGITUDE = 281.0
  COORDINATE_SYSTEM_NAME = PLANETOGRAPHIC
  COORDINATE_SYSTEM_TYPE = "BODY-FIXED ROTATING"
  EASTERNMOST_LONGITUDE = 282.049
  FIRST_STANDARD_PARALLEL = "N/A"
  LINE_FIRST_PIXEL = 1
  LINE_LAST_PIXEL = 13206
  LINE_PROJECTION_OFFSET = -34197.625
  MAP_PROJECTION_ROTATION = 0.0
  MAP_PROJECTION_TYPE = SINUSOIDAL
  MAP_RESOLUTION = 1185.42760773333
  MAP_SCALE = 0.05
  MAXIMUM_LATITUDE = -32.0902
  MINIMUM_LATITUDE = -43.1873
  POSITIVE_LONGITUDE_DIRECTION = EAST
  REFERENCE_LATITUDE = "N/A"
  REFERENCE_LONGITUDE = "N/A"
  SAMPLE_FIRST_PIXEL = 1
  SAMPLE_LAST_PIXEL = 1576
  SAMPLE_PROJECTION_OFFSET = 475.375
  SECOND_STANDARD_PARALLEL = "N/A"
  WESTERNMOST_LONGITUDE = 280.343
END_OBJECT = IMAGE_MAP_PROJECTION
END
