PDS_VERSION_ID = PDS3
/* FILE DATA ELEMENTS */
RECORD_TYPE = UNDEFINED
/* POINTERS TO DATA OBJECTS */
^IMAGE = ("HG809_0000_P14.TIF")
/* IDENTIFICATION DATA ELEMENTS */
DATA_SET_ID = "MEX-M-HRSC-4-REFDR-MAPPROJECT-EXT6-V4.0"
DATA_SET_NAME = "MARS EXPRESS HRSC MAP PROJECTED REFDR EXTENSION6 V4.0"
DETECTOR_ID = MEX_HRSC_P1
EVENT_TYPE = "MARS-REGIONAL-MAPPING-Im-Gl-La"
INSTRUMENT_HOST_ID = MEX
INSTRUMENT_HOST_NAME = "MARS EXPRESS"
INSTRUMENT_ID = HRSC
INSTRUMENT_NAME = "HIGH RESOLUTION STEREO CAMERA"
MISSION_NAME = "MARS EXPRESS"
MISSION_PHASE_NAME = ME_Phase_36
PROCESSING_LEVEL_ID = 4
PRODUCT_CREATION_TIME = 2023-01-26T14:39:22.000Z
PRODUCT_ID = "HG809_0000_P14.TIF"
RELEASE_ID = 0001
REVISION_ID = 0000
/* QUALITY DATA ELEMENTS */
DATA_QUALITY_ID = 1
DATA_QUALITY_DESC = "Data calculated based on original SPICE kernels"
/* TIME DATA ELEMENTS */
SPACECRAFT_CLOCK_START_COUNT = "1/0439872361.07341"
SPACECRAFT_CLOCK_STOP_COUNT = "1/0439872573.38931"
START_TIME = 2017-04-10T02:46:58.322Z
STOP_TIME = 2017-04-10T02:49:27.825Z
/* ORBITAL DATA ELEMENTS */
ASCENDING_NODE_LONGITUDE = 258.21
MAXIMUM_RESOLUTION = 0.0278
FOOTPRINT_POINT_LATITUDE = (-34.8729,-34.8586,-34.8455,-34.8317, -34.8312,-34.8807,-34.6917,-34.5025, -34.3136,-34.1248,-33.9362,-33.7474, -33.3701,-33.1812,-32.9909,-32.708, -32.4154,-32.2207,-31.9293,-31.7351, -31.5401,-31.2492,-31.0552,-30.7642, -30.5698,-30.3758,-30.1831,-29.8941, -29.7014,-29.413,-29.1245,-28.8367, -28.6444,-28.2665,-28.0703,-27.785, -27.4988,-27.308,-27.1178,-26.9272, -26.6415,-26.3549,-26.1629,-25.974, -25.7848,-25.5946,-25.4036,-25.311, -25.2803,-25.2814,-25.2868,-25.2946, -25.3015,-25.3104,-25.3107,-25.3112, -25.4998,-25.8778,-26.0687,-26.2605, -26.5482,-26.7388,-26.9298,-27.1207, -27.4048,-27.7818,-27.9766,-28.2629, -28.549,-28.7418,-29.0308,-29.3196, -29.5107,-29.8024,-29.9961,-30.1871, -30.3807,-30.5758,-30.7691,-30.9633, -31.1581,-31.3529,-31.5468,-31.8387, -32.1308,-32.3255,-32.5203,-32.7149, -32.9039,-33.1873,-33.377,-33.5663, -33.8521,-34.0424,-34.2314,-34.4205, -34.6095,-34.7984,-34.8933,-34.8729)
FOOTPRINT_POINT_LONGITUDE = (78.1233,77.5919,77.1544,76.7253,76.712 ,76.7154,76.7173,76.7191,76.7208, 76.7224,76.7239,76.7253,76.7278,76.7288 ,76.7296,76.7309,76.7319,76.7325, 76.7334,76.7338,76.7341,76.7345,76.7346 ,76.7346,76.7344,76.7342,76.7341, 76.7337,76.7333,76.7326,76.7317,76.7306 ,76.7298,76.7285,76.7269,76.7254, 76.7236,76.7223,76.7209,76.7195,76.7171 ,76.7145,76.7126,76.7108,76.709,76.707, 76.7049,76.704,76.7037,76.9212,77.1688, 77.5032,77.7305,78.132,78.1464,78.1516, 78.1513,78.1511,78.1529,78.1555,78.1591 ,78.1599,78.161,78.1617,78.1599,78.1547 ,78.1593,78.1588,78.1576,78.1592, 78.1609,78.162,78.1607,78.1646,78.1662, 78.1643,78.1653,78.168,78.1684,78.1697, 78.1716,78.1733,78.1738,78.1756,78.1772 ,78.178,78.1789,78.1794,78.1801,78.1814 ,78.183,78.1841,78.1879,78.1899,78.1902 ,78.1904,78.1903,78.19,78.1905,78.1233)
ORBIT_NUMBER = 16809
ORBITAL_ECCENTRICITY = 0.579
ORBITAL_INCLINATION = 86.96
ORBITAL_SEMIMAJOR_AXIS = 8823.81
PERIAPSIS_ALTITUDE = 328.56
PERIAPSIS_ARGUMENT_ANGLE = 321.74
PERIAPSIS_TIME = 2017-04-10T02:45:49.000Z
SPACECRAFT_ORIENTATION = (0.0,1.0,0.0)
^MEX_ORIENTATION_DESC = "MEX_ORIENTATION_DESC.TXT"
SPACECRAFT_POINTING_MODE = ACROSSTRACK
^MEX_POINTING_DESC = "MEX_POINTING_DESC.TXT"
RIGHT_ASCENSION = -1e+32
DECLINATION = -1e+32
OFFSET_ANGLE = -0.73
SPACECRAFT_SOLAR_DISTANCE = 2.28149e+08
TARGET_NAME = MARS
/* CAMERA DATA ELEMENTS */
DETECTOR_TEMPERATURE = 17.9627
FOCAL_PLANE_TEMPERATURE = 8.7872
INST_CMPRS_NAME = "DISCRETE COSINE TRANSFORMATION (DCT)"
INST_CMPRS_RATIO = 9.33495
INST_CMPRS_QUALITY = 0
INST_CMPRS_QUANTZ_TBL_ID = 0
INSTRUMENT_TEMPERATURE = 11.6418
LENS_TEMPERATURE = 8.9911
MACROPIXEL_SIZE = 2
MISSING_FRAMES = 0
PIXEL_SUBSAMPLING_FLAG = N
SIGNAL_CHAIN_ID = 3
/* RADIOMETRIC DATA ELEMENTS */
BANDWIDTH = 174.0
CENTER_FILTER_WAVELENGTH = 675.0
RADIANCE_OFFSET = 4.40737
RADIANCE_SCALING_FACTOR = 0.0107224
REFLECTANCE_SCALING_FACTOR = 0.000300202
MEX:REFLECTANCE_OFFSET = 0.123396
/* IMAGE OBJECT DEFINITIONS */
OBJECT = IMAGE
  INTERCHANGE_FORMAT = BINARY
  LINES = 22726
  LINE_SAMPLES = 3033
  SAMPLE_TYPE = UNSIGNED_INTEGER
  SAMPLE_BITS = 8
  BANDS = 1
  BAND_STORAGE_TYPE = BAND_SEQUENTIAL
  MAXIMUM = 255
  MEAN = 112.126
  MINIMUM = 1
  STANDARD_DEVIATION = 20.9111
END_OBJECT = IMAGE
/* MAP OBJECT DEFINITIONS */
OBJECT = IMAGE_MAP_PROJECTION
  ^DATA_SET_MAP_PROJECTION_CATALOG= "DSMAP.CAT"
  A_AXIS_RADIUS = 3396.0
  B_AXIS_RADIUS = 3396.0
  C_AXIS_RADIUS = 3396.0
  CENTER_LATITUDE = 0.0
  CENTER_LONGITUDE = 77.0
  COORDINATE_SYSTEM_NAME = PLANETOGRAPHIC
  COORDINATE_SYSTEM_TYPE = "BODY-FIXED ROTATING"
  EASTERNMOST_LONGITUDE = 78.1905
  FIRST_STANDARD_PARALLEL = "N/A"
  LINE_FIRST_PIXEL = 1
  LINE_LAST_PIXEL = 22726
  LINE_PROJECTION_OFFSET = -59979.25
  MAP_PROJECTION_ROTATION = 0.0
  MAP_PROJECTION_TYPE = SINUSOIDAL
  MAP_RESOLUTION = 2370.85521546667
  MAP_SCALE = 0.025
  MAXIMUM_LATITUDE = -25.2803
  MINIMUM_LATITUDE = -34.8933
  POSITIVE_LONGITUDE_DIRECTION = EAST
  REFERENCE_LATITUDE = "N/A"
  REFERENCE_LONGITUDE = "N/A"
  SAMPLE_FIRST_PIXEL = 1
  SAMPLE_LAST_PIXEL = 3033
  SAMPLE_PROJECTION_OFFSET = 608.75
  SECOND_STANDARD_PARALLEL = "N/A"
  WESTERNMOST_LONGITUDE = 76.7037
END_OBJECT = IMAGE_MAP_PROJECTION
END
