PDS_VERSION_ID = PDS3
/* FILE DATA ELEMENTS */
RECORD_TYPE = UNDEFINED
/* POINTERS TO DATA OBJECTS */
^IMAGE = ("HG811_0000_BL4.TIF")
/* IDENTIFICATION DATA ELEMENTS */
DATA_SET_ID = "MEX-M-HRSC-4-REFDR-MAPPROJECT-EXT6-V4.0"
DATA_SET_NAME = "MARS EXPRESS HRSC MAP PROJECTED REFDR EXTENSION6 V4.0"
DETECTOR_ID = MEX_HRSC_BLUE
EVENT_TYPE = "MARS-REGIONAL-MAPPING-Vo-Te"
INSTRUMENT_HOST_ID = MEX
INSTRUMENT_HOST_NAME = "MARS EXPRESS"
INSTRUMENT_ID = HRSC
INSTRUMENT_NAME = "HIGH RESOLUTION STEREO CAMERA"
MISSION_NAME = "MARS EXPRESS"
MISSION_PHASE_NAME = ME_Phase_36
PROCESSING_LEVEL_ID = 4
PRODUCT_CREATION_TIME = 2023-01-26T14:39:22.000Z
PRODUCT_ID = "HG811_0000_BL4.TIF"
RELEASE_ID = 0001
REVISION_ID = 0000
/* QUALITY DATA ELEMENTS */
DATA_QUALITY_ID = 1
DATA_QUALITY_DESC = "Data calculated based on original SPICE kernels"
/* TIME DATA ELEMENTS */
SPACECRAFT_CLOCK_START_COUNT = "1/0439922640.08256"
SPACECRAFT_CLOCK_STOP_COUNT = "1/0439922811.64694"
START_TIME = 2017-04-10T16:44:42.963Z
STOP_TIME = 2017-04-10T16:46:32.935Z
/* ORBITAL DATA ELEMENTS */
ASCENDING_NODE_LONGITUDE = 258.18
MAXIMUM_RESOLUTION = 0.052
FOOTPRINT_POINT_LATITUDE = (-39.8375,-39.8345,-39.8294,-39.825, -39.8213,-39.8173,-39.8127,-39.8123, -39.805,-39.6625,-39.4489,-39.3064, -39.0926,-38.95,-38.8075,-38.5227, -38.3091,-38.0248,-37.6682,-37.5251, -37.2405,-37.0266,-36.8838,-36.7411, -36.5984,-36.4558,-36.3131,-36.1705, -35.9565,-35.8139,-35.6713,-35.4573, -35.3147,-35.172,-34.9581,-34.7441, -34.5302,-34.3163,-34.1737,-34.031, -33.8884,-33.7458,-33.6032,-33.4607, -33.247,-33.1044,-32.82,-32.6773, -32.6059,-32.6017,-32.605,-32.6087, -32.6122,-32.6147,-32.6148,-32.6156, -32.8297,-32.9724,-33.1152,-33.3293, -33.472,-33.6149,-33.7577,-33.9719, -34.1147,-34.2576,-34.4718,-34.6861, -34.8289,-35.0432,-35.1861,-35.4004, -35.5433,-35.7576,-35.9005,-36.1148, -36.2577,-36.4005,-36.5434,-36.6863, -36.8291,-37.0434,-37.1863,-37.4005, -37.5435,-37.6863,-37.829,-37.9722, -38.1152,-38.2579,-38.4006,-38.5433, -38.6861,-38.8994,-39.1844,-39.3983, -39.6123,-39.7549,-39.8263,-39.8375)
FOOTPRINT_POINT_LONGITUDE = (232.545,232.301,231.948,231.691, 231.501,231.312,231.108,231.095,231.079 ,231.084,231.093,231.099,231.107, 231.112,231.117,231.128,231.136,231.148 ,231.159,231.163,231.173,231.18,231.184 ,231.188,231.192,231.196,231.2,231.204, 231.21,231.214,231.218,231.223,231.227, 231.231,231.236,231.241,231.246,231.25, 231.253,231.256,231.259,231.262,231.265 ,231.268,231.272,231.275,231.281, 231.283,231.284,231.284,231.499,231.841 ,232.209,232.628,232.641,232.645, 232.643,232.642,232.64,232.638,232.637, 232.635,232.634,232.632,232.63,232.629, 232.626,232.624,232.623,232.62,232.619, 232.616,232.615,232.612,232.61,232.608, 232.606,232.605,232.603,232.601,232.599 ,232.597,232.595,232.592,232.59,232.588 ,232.586,232.584,232.582,232.58,232.578 ,232.576,232.574,232.573,232.569, 232.567,232.563,232.561,232.56,232.545)
ORBIT_NUMBER = 16811
ORBITAL_ECCENTRICITY = 0.579
ORBITAL_INCLINATION = 86.96
ORBITAL_SEMIMAJOR_AXIS = 8822.27
PERIAPSIS_ALTITUDE = 328.61
PERIAPSIS_ARGUMENT_ANGLE = 321.38
PERIAPSIS_TIME = 2017-04-10T16:45:08.000Z
SPACECRAFT_ORIENTATION = (0.0,1.0,0.0)
^MEX_ORIENTATION_DESC = "MEX_ORIENTATION_DESC.TXT"
SPACECRAFT_POINTING_MODE = NADIR
^MEX_POINTING_DESC = "MEX_POINTING_DESC.TXT"
RIGHT_ASCENSION = -1e+32
DECLINATION = -1e+32
OFFSET_ANGLE = -1e+32
SPACECRAFT_SOLAR_DISTANCE = 2.28263e+08
TARGET_NAME = MARS
/* CAMERA DATA ELEMENTS */
DETECTOR_TEMPERATURE = 18.7783
FOCAL_PLANE_TEMPERATURE = 9.3989
INST_CMPRS_NAME = "DISCRETE COSINE TRANSFORMATION (DCT)"
INST_CMPRS_RATIO = 8.75415
INST_CMPRS_QUALITY = 0
INST_CMPRS_QUANTZ_TBL_ID = 0
INSTRUMENT_TEMPERATURE = 12.0496
LENS_TEMPERATURE = 9.6028
MACROPIXEL_SIZE = 4
MISSING_FRAMES = 0
PIXEL_SUBSAMPLING_FLAG = N
SIGNAL_CHAIN_ID = 2
/* RADIOMETRIC DATA ELEMENTS */
BANDWIDTH = 76.0
CENTER_FILTER_WAVELENGTH = 444.0
RADIANCE_OFFSET = 0.515675
RADIANCE_SCALING_FACTOR = 0.00133545
REFLECTANCE_SCALING_FACTOR = 7.14913e-05
MEX:REFLECTANCE_OFFSET = 0.0276058
/* IMAGE OBJECT DEFINITIONS */
OBJECT = IMAGE
  INTERCHANGE_FORMAT = BINARY
  LINES = 8572
  LINE_SAMPLES = 1498
  SAMPLE_TYPE = UNSIGNED_INTEGER
  SAMPLE_BITS = 8
  BANDS = 1
  BAND_STORAGE_TYPE = BAND_SEQUENTIAL
  MAXIMUM = 255
  MEAN = 153.163
  MINIMUM = 1
  STANDARD_DEVIATION = 21.3521
END_OBJECT = IMAGE
/* MAP OBJECT DEFINITIONS */
OBJECT = IMAGE_MAP_PROJECTION
  ^DATA_SET_MAP_PROJECTION_CATALOG= "DSMAP.CAT"
  A_AXIS_RADIUS = 3396.0
  B_AXIS_RADIUS = 3396.0
  C_AXIS_RADIUS = 3396.0
  CENTER_LATITUDE = 0.0
  CENTER_LONGITUDE = 232.0
  COORDINATE_SYSTEM_NAME = PLANETOGRAPHIC
  COORDINATE_SYSTEM_TYPE = "BODY-FIXED ROTATING"
  EASTERNMOST_LONGITUDE = 232.645
  FIRST_STANDARD_PARALLEL = "N/A"
  LINE_FIRST_PIXEL = 1
  LINE_LAST_PIXEL = 8572
  LINE_PROJECTION_OFFSET = -39418.875
  MAP_PROJECTION_ROTATION = 0.0
  MAP_PROJECTION_TYPE = SINUSOIDAL
  MAP_RESOLUTION = 1185.42760773333
  MAP_SCALE = 0.05
  MAXIMUM_LATITUDE = -32.6017
  MINIMUM_LATITUDE = -39.8375
  POSITIVE_LONGITUDE_DIRECTION = EAST
  REFERENCE_LATITUDE = "N/A"
  REFERENCE_LONGITUDE = "N/A"
  SAMPLE_FIRST_PIXEL = 1
  SAMPLE_LAST_PIXEL = 1498
  SAMPLE_PROJECTION_OFFSET = 862.125
  SECOND_STANDARD_PARALLEL = "N/A"
  WESTERNMOST_LONGITUDE = 231.079
END_OBJECT = IMAGE_MAP_PROJECTION
END
