PDS_VERSION_ID = PDS3
/* FILE DATA ELEMENTS */
RECORD_TYPE = UNDEFINED
/* POINTERS TO DATA OBJECTS */
^IMAGE = ("HG811_0000_GR4.TIF")
/* IDENTIFICATION DATA ELEMENTS */
DATA_SET_ID = "MEX-M-HRSC-4-REFDR-MAPPROJECT-EXT6-V4.0"
DATA_SET_NAME = "MARS EXPRESS HRSC MAP PROJECTED REFDR EXTENSION6 V4.0"
DETECTOR_ID = MEX_HRSC_GREEN
EVENT_TYPE = "MARS-REGIONAL-MAPPING-Vo-Te"
INSTRUMENT_HOST_ID = MEX
INSTRUMENT_HOST_NAME = "MARS EXPRESS"
INSTRUMENT_ID = HRSC
INSTRUMENT_NAME = "HIGH RESOLUTION STEREO CAMERA"
MISSION_NAME = "MARS EXPRESS"
MISSION_PHASE_NAME = ME_Phase_36
PROCESSING_LEVEL_ID = 4
PRODUCT_CREATION_TIME = 2023-01-26T14:39:22.000Z
PRODUCT_ID = "HG811_0000_GR4.TIF"
RELEASE_ID = 0001
REVISION_ID = 0000
/* QUALITY DATA ELEMENTS */
DATA_QUALITY_ID = 1
DATA_QUALITY_DESC = "Data calculated based on original SPICE kernels"
/* TIME DATA ELEMENTS */
SPACECRAFT_CLOCK_START_COUNT = "1/0439922640.08256"
SPACECRAFT_CLOCK_STOP_COUNT = "1/0439922811.64694"
START_TIME = 2017-04-10T16:44:32.825Z
STOP_TIME = 2017-04-10T16:46:23.001Z
/* ORBITAL DATA ELEMENTS */
ASCENDING_NODE_LONGITUDE = 258.18
MAXIMUM_RESOLUTION = 0.052
FOOTPRINT_POINT_LATITUDE = (-41.1374,-41.1304,-41.1265,-41.1228, -41.1182,-41.1102,-41.1099,-41.1132, -40.9689,-40.7526,-40.6083,-40.3921, -40.2477,-40.1035,-39.9593,-39.8152, -39.6709,-39.5266,-39.3102,-39.166, -38.943,-38.7986,-38.6543,-38.4377, -38.2933,-38.1487,-38.0042,-37.8595, -37.572,-37.4276,-37.211,-37.0667, -36.9227,-36.7786,-36.6345,-36.4903, -36.3462,-36.2021,-36.058,-35.9139, -35.6978,-35.4817,-35.3377,-35.1937, -34.9058,-34.618,-34.3303,-34.0427, -33.9708,-33.9006,-33.904,-33.9068, -33.9105,-33.9129,-33.9157,-33.9158, -33.9166,-34.2046,-34.3487,-34.4927, -34.7089,-34.853,-34.9972,-35.1413, -35.3577,-35.5019,-35.7183,-35.8626, -36.0069,-36.1513,-36.3678,-36.5843, -36.801,-36.9454,-37.0899,-37.3066, -37.4511,-37.5954,-37.74,-37.8845, -38.0287,-38.1733,-38.3178,-38.4624, -38.6071,-38.8241,-38.9694,-39.1141, -39.3378,-39.4825,-39.6994,-39.9163, -40.0607,-40.3488,-40.4933,-40.6379, -40.7823,-40.9992,-41.0721,-41.1374)
FOOTPRINT_POINT_LONGITUDE = (232.521,232.036,231.814,231.62,231.399 ,231.052,231.039,231.023,231.03,231.039 ,231.046,231.054,231.061,231.067, 231.072,231.078,231.084,231.089,231.098 ,231.103,231.111,231.116,231.122,231.13 ,231.135,231.141,231.147,231.153,231.16 ,231.165,231.172,231.177,231.18,231.185 ,231.189,231.193,231.197,231.201, 231.205,231.209,231.214,231.22,231.223, 231.227,231.234,231.24,231.246,231.252, 231.254,231.255,231.473,231.679,231.987 ,232.232,232.617,232.63,232.634,232.631 ,232.63,232.628,232.626,232.624,232.622 ,232.621,232.618,232.616,232.614, 232.612,232.61,232.608,232.606,232.603, 232.6,232.598,232.596,232.593,232.592, 232.589,232.587,232.585,232.583,232.581 ,232.578,232.576,232.575,232.572, 232.571,232.57,232.566,232.564,232.561, 232.557,232.554,232.547,232.544,232.542 ,232.539,232.535,232.535,232.521)
ORBIT_NUMBER = 16811
ORBITAL_ECCENTRICITY = 0.579
ORBITAL_INCLINATION = 86.96
ORBITAL_SEMIMAJOR_AXIS = 8822.27
PERIAPSIS_ALTITUDE = 328.61
PERIAPSIS_ARGUMENT_ANGLE = 321.38
PERIAPSIS_TIME = 2017-04-10T16:45:08.000Z
SPACECRAFT_ORIENTATION = (0.0,1.0,0.0)
^MEX_ORIENTATION_DESC = "MEX_ORIENTATION_DESC.TXT"
SPACECRAFT_POINTING_MODE = NADIR
^MEX_POINTING_DESC = "MEX_POINTING_DESC.TXT"
RIGHT_ASCENSION = -1e+32
DECLINATION = -1e+32
OFFSET_ANGLE = -1e+32
SPACECRAFT_SOLAR_DISTANCE = 2.28263e+08
TARGET_NAME = MARS
/* CAMERA DATA ELEMENTS */
DETECTOR_TEMPERATURE = 18.7783
FOCAL_PLANE_TEMPERATURE = 9.3989
INST_CMPRS_NAME = "DISCRETE COSINE TRANSFORMATION (DCT)"
INST_CMPRS_RATIO = 15.4901
INST_CMPRS_QUALITY = 0
INST_CMPRS_QUANTZ_TBL_ID = 0
INSTRUMENT_TEMPERATURE = 12.0496
LENS_TEMPERATURE = 9.6028
MACROPIXEL_SIZE = 4
MISSING_FRAMES = 1
PIXEL_SUBSAMPLING_FLAG = N
SIGNAL_CHAIN_ID = 2
/* RADIOMETRIC DATA ELEMENTS */
BANDWIDTH = 88.0
CENTER_FILTER_WAVELENGTH = 538.0
RADIANCE_OFFSET = 1.29022
RADIANCE_SCALING_FACTOR = 0.00337313
REFLECTANCE_SCALING_FACTOR = 0.000151318
MEX:REFLECTANCE_OFFSET = 0.0578792
/* IMAGE OBJECT DEFINITIONS */
OBJECT = IMAGE
  INTERCHANGE_FORMAT = BINARY
  LINES = 8572
  LINE_SAMPLES = 1498
  SAMPLE_TYPE = UNSIGNED_INTEGER
  SAMPLE_BITS = 8
  BANDS = 1
  BAND_STORAGE_TYPE = BAND_SEQUENTIAL
  MAXIMUM = 255
  MEAN = 145.544
  MINIMUM = 1
  STANDARD_DEVIATION = 20.0324
END_OBJECT = IMAGE
/* MAP OBJECT DEFINITIONS */
OBJECT = IMAGE_MAP_PROJECTION
  ^DATA_SET_MAP_PROJECTION_CATALOG= "DSMAP.CAT"
  A_AXIS_RADIUS = 3396.0
  B_AXIS_RADIUS = 3396.0
  C_AXIS_RADIUS = 3396.0
  CENTER_LATITUDE = 0.0
  CENTER_LONGITUDE = 232.0
  COORDINATE_SYSTEM_NAME = PLANETOGRAPHIC
  COORDINATE_SYSTEM_TYPE = "BODY-FIXED ROTATING"
  EASTERNMOST_LONGITUDE = 232.634
  FIRST_STANDARD_PARALLEL = "N/A"
  LINE_FIRST_PIXEL = 1
  LINE_LAST_PIXEL = 8572
  LINE_PROJECTION_OFFSET = -39418.875
  MAP_PROJECTION_ROTATION = 0.0
  MAP_PROJECTION_TYPE = SINUSOIDAL
  MAP_RESOLUTION = 1185.42760773333
  MAP_SCALE = 0.05
  MAXIMUM_LATITUDE = -33.9006
  MINIMUM_LATITUDE = -41.1374
  POSITIVE_LONGITUDE_DIRECTION = EAST
  REFERENCE_LATITUDE = "N/A"
  REFERENCE_LONGITUDE = "N/A"
  SAMPLE_FIRST_PIXEL = 1
  SAMPLE_LAST_PIXEL = 1498
  SAMPLE_PROJECTION_OFFSET = 862.125
  SECOND_STANDARD_PARALLEL = "N/A"
  WESTERNMOST_LONGITUDE = 231.023
END_OBJECT = IMAGE_MAP_PROJECTION
END
