PDS_VERSION_ID = PDS3
/* FILE DATA ELEMENTS */
RECORD_TYPE = UNDEFINED
/* POINTERS TO DATA OBJECTS */
^IMAGE = ("HG811_0000_IR4.TIF")
/* IDENTIFICATION DATA ELEMENTS */
DATA_SET_ID = "MEX-M-HRSC-4-REFDR-MAPPROJECT-EXT6-V4.0"
DATA_SET_NAME = "MARS EXPRESS HRSC MAP PROJECTED REFDR EXTENSION6 V4.0"
DETECTOR_ID = MEX_HRSC_IR
EVENT_TYPE = "MARS-REGIONAL-MAPPING-Vo-Te"
INSTRUMENT_HOST_ID = MEX
INSTRUMENT_HOST_NAME = "MARS EXPRESS"
INSTRUMENT_ID = HRSC
INSTRUMENT_NAME = "HIGH RESOLUTION STEREO CAMERA"
MISSION_NAME = "MARS EXPRESS"
MISSION_PHASE_NAME = ME_Phase_36
PROCESSING_LEVEL_ID = 4
PRODUCT_CREATION_TIME = 2023-01-26T14:39:22.000Z
PRODUCT_ID = "HG811_0000_IR4.TIF"
RELEASE_ID = 0001
REVISION_ID = 0000
/* QUALITY DATA ELEMENTS */
DATA_QUALITY_ID = 1
DATA_QUALITY_DESC = "Data calculated based on original SPICE kernels"
/* TIME DATA ELEMENTS */
SPACECRAFT_CLOCK_START_COUNT = "1/0439922640.08256"
SPACECRAFT_CLOCK_STOP_COUNT = "1/0439922811.64694"
START_TIME = 2017-04-10T16:44:13.368Z
STOP_TIME = 2017-04-10T16:46:03.442Z
/* ORBITAL DATA ELEMENTS */
ASCENDING_NODE_LONGITUDE = 258.18
MAXIMUM_RESOLUTION = 0.0543
FOOTPRINT_POINT_LATITUDE = (-43.6567,-43.6468,-43.6415,-43.6367, -43.6267,-43.6263,-43.6578,-43.5118, -43.3667,-43.0806,-42.9357,-42.7903, -42.6438,-42.4966,-42.2777,-42.1285, -41.9833,-41.8384,-41.6935,-41.5489, -41.4047,-41.2603,-41.1161,-40.9712, -40.8269,-40.6831,-40.5387,-40.323, -40.1783,-40.0344,-39.7474,-39.6031, -39.4592,-39.3151,-39.0277,-38.8837, -38.7394,-38.5949,-38.4503,-38.3061, -38.1598,-37.9412,-37.7976,-37.5147, -37.3709,-37.2254,-37.0098,-36.5806, -36.5089,-36.439,-36.4441,-36.4506, -36.4476,-36.4499,-36.4523,-36.455, -36.4551,-36.456,-36.6713,-36.887, -37.0309,-37.1746,-37.3186,-37.6059, -37.7502,-38.0364,-38.1807,-38.3973, -38.6147,-38.8319,-38.9802,-39.1976, -39.3426,-39.56,-39.7045,-39.9213, -40.2044,-40.3484,-40.4933,-40.6378, -40.782,-41.0006,-41.1477,-41.3671, -41.5125,-41.6577,-41.8029,-41.9477, -42.1665,-42.3123,-42.4575,-42.603, -42.7483,-42.8937,-43.0391,-43.2574, -43.4031,-43.5486,-43.6213,-43.6567)
FOOTPRINT_POINT_LONGITUDE = (232.469,231.872,231.596,231.363, 230.927,230.912,230.89,230.899,230.907, 230.921,230.929,230.936,230.945,230.954 ,230.966,230.975,230.982,230.99,230.997 ,231.003,231.01,231.016,231.023,231.029 ,231.035,231.041,231.047,231.056, 231.062,231.068,231.078,231.084,231.089 ,231.095,231.105,231.11,231.115,231.121 ,231.126,231.131,231.137,231.145,231.15 ,231.157,231.161,231.166,231.173, 231.184,231.186,231.188,231.386,231.664 ,231.851,232.037,232.276,232.594, 232.607,232.612,232.609,232.606,232.604 ,232.602,232.6,232.595,232.593,232.588, 232.586,232.583,232.58,232.577,232.576, 232.573,232.571,232.567,232.565,232.561 ,232.553,232.55,232.547,232.545,232.542 ,232.538,232.536,232.533,232.531, 232.528,232.525,232.522,232.518,232.516 ,232.513,232.51,232.507,232.504,232.501 ,232.496,232.493,232.49,232.488, 232.469)
ORBIT_NUMBER = 16811
ORBITAL_ECCENTRICITY = 0.579
ORBITAL_INCLINATION = 86.96
ORBITAL_SEMIMAJOR_AXIS = 8822.27
PERIAPSIS_ALTITUDE = 328.61
PERIAPSIS_ARGUMENT_ANGLE = 321.38
PERIAPSIS_TIME = 2017-04-10T16:45:08.000Z
SPACECRAFT_ORIENTATION = (0.0,1.0,0.0)
^MEX_ORIENTATION_DESC = "MEX_ORIENTATION_DESC.TXT"
SPACECRAFT_POINTING_MODE = NADIR
^MEX_POINTING_DESC = "MEX_POINTING_DESC.TXT"
RIGHT_ASCENSION = -1e+32
DECLINATION = -1e+32
OFFSET_ANGLE = -1e+32
SPACECRAFT_SOLAR_DISTANCE = 2.28263e+08
TARGET_NAME = MARS
/* CAMERA DATA ELEMENTS */
DETECTOR_TEMPERATURE = 18.9822
FOCAL_PLANE_TEMPERATURE = 9.3989
INST_CMPRS_NAME = "DISCRETE COSINE TRANSFORMATION (DCT)"
INST_CMPRS_RATIO = 13.8102
INST_CMPRS_QUALITY = 0
INST_CMPRS_QUANTZ_TBL_ID = 0
INSTRUMENT_TEMPERATURE = 12.0496
LENS_TEMPERATURE = 9.6028
MACROPIXEL_SIZE = 4
MISSING_FRAMES = 0
PIXEL_SUBSAMPLING_FLAG = N
SIGNAL_CHAIN_ID = 2
/* RADIOMETRIC DATA ELEMENTS */
BANDWIDTH = 81.0
CENTER_FILTER_WAVELENGTH = 955.5
RADIANCE_OFFSET = 0.751407
RADIANCE_SCALING_FACTOR = 0.00388101
REFLECTANCE_SCALING_FACTOR = 0.000436256
MEX:REFLECTANCE_OFFSET = 0.0844641
/* IMAGE OBJECT DEFINITIONS */
OBJECT = IMAGE
  INTERCHANGE_FORMAT = BINARY
  LINES = 8572
  LINE_SAMPLES = 1498
  SAMPLE_TYPE = UNSIGNED_INTEGER
  SAMPLE_BITS = 8
  BANDS = 1
  BAND_STORAGE_TYPE = BAND_SEQUENTIAL
  MAXIMUM = 243
  MEAN = 119.346
  MINIMUM = 1
  STANDARD_DEVIATION = 23.3046
END_OBJECT = IMAGE
/* MAP OBJECT DEFINITIONS */
OBJECT = IMAGE_MAP_PROJECTION
  ^DATA_SET_MAP_PROJECTION_CATALOG= "DSMAP.CAT"
  A_AXIS_RADIUS = 3396.0
  B_AXIS_RADIUS = 3396.0
  C_AXIS_RADIUS = 3396.0
  CENTER_LATITUDE = 0.0
  CENTER_LONGITUDE = 232.0
  COORDINATE_SYSTEM_NAME = PLANETOGRAPHIC
  COORDINATE_SYSTEM_TYPE = "BODY-FIXED ROTATING"
  EASTERNMOST_LONGITUDE = 232.612
  FIRST_STANDARD_PARALLEL = "N/A"
  LINE_FIRST_PIXEL = 1
  LINE_LAST_PIXEL = 8572
  LINE_PROJECTION_OFFSET = -39418.875
  MAP_PROJECTION_ROTATION = 0.0
  MAP_PROJECTION_TYPE = SINUSOIDAL
  MAP_RESOLUTION = 1185.42760773333
  MAP_SCALE = 0.05
  MAXIMUM_LATITUDE = -36.439
  MINIMUM_LATITUDE = -43.6578
  POSITIVE_LONGITUDE_DIRECTION = EAST
  REFERENCE_LATITUDE = "N/A"
  REFERENCE_LONGITUDE = "N/A"
  SAMPLE_FIRST_PIXEL = 1
  SAMPLE_LAST_PIXEL = 1498
  SAMPLE_PROJECTION_OFFSET = 862.125
  SECOND_STANDARD_PARALLEL = "N/A"
  WESTERNMOST_LONGITUDE = 230.89
END_OBJECT = IMAGE_MAP_PROJECTION
END
