PDS_VERSION_ID = PDS3
/* FILE DATA ELEMENTS */
RECORD_TYPE = UNDEFINED
/* POINTERS TO DATA OBJECTS */
^IMAGE = ("HG820_0000_ND4.TIF")
/* IDENTIFICATION DATA ELEMENTS */
DATA_SET_ID = "MEX-M-HRSC-4-REFDR-MAPPROJECT-EXT6-V4.0"
DATA_SET_NAME = "MARS EXPRESS HRSC MAP PROJECTED REFDR EXTENSION6 V4.0"
DETECTOR_ID = MEX_HRSC_NADIR
EVENT_TYPE = "MARS-REGIONAL-MAPPING-Im-Eo"
INSTRUMENT_HOST_ID = MEX
INSTRUMENT_HOST_NAME = "MARS EXPRESS"
INSTRUMENT_ID = HRSC
INSTRUMENT_NAME = "HIGH RESOLUTION STEREO CAMERA"
MISSION_NAME = "MARS EXPRESS"
MISSION_PHASE_NAME = ME_Phase_36
PROCESSING_LEVEL_ID = 4
PRODUCT_CREATION_TIME = 2023-01-26T14:39:22.000Z
PRODUCT_ID = "HG820_0000_ND4.TIF"
RELEASE_ID = 0001
REVISION_ID = 0000
/* QUALITY DATA ELEMENTS */
DATA_QUALITY_ID = 1
DATA_QUALITY_DESC = "Data calculated based on original SPICE kernels"
/* TIME DATA ELEMENTS */
SPACECRAFT_CLOCK_START_COUNT = "1/0440149173.07319"
SPACECRAFT_CLOCK_STOP_COUNT = "1/0440149409.21881"
START_TIME = 2017-04-13T07:40:13.814Z
STOP_TIME = 2017-04-13T07:43:05.829Z
/* ORBITAL DATA ELEMENTS */
ASCENDING_NODE_LONGITUDE = 258.01
MAXIMUM_RESOLUTION = 0.013
FOOTPRINT_POINT_LATITUDE = (-49.5477,-49.5372,-49.5236,-49.5044, -49.5039,-49.5019,-49.2745,-49.0471, -48.8193,-48.5916,-48.3638,-48.1358, -47.9078,-47.6796,-47.4513,-47.223, -46.9945,-46.7659,-46.5373,-46.3087, -46.0798,-45.8521,-45.4088,-44.9653, -44.5214,-44.0772,-43.6327,-43.1882, -42.8549,-42.5212,-42.1875,-41.965, -41.7424,-41.5198,-41.1858,-40.9632, -40.7405,-40.4065,-40.1838,-39.8497, -39.6269,-39.2929,-39.0701,-38.8474, -38.6247,-38.4018,-38.2905,-38.2716, -38.2807,-38.2846,-38.29,-38.2901, -38.2904,-38.5135,-38.7366,-38.9597, -39.1828,-39.406,-39.6291,-39.8522, -40.0754,-40.2985,-40.5216,-40.7447, -40.9678,-41.3025,-41.5255,-41.7486, -42.0831,-42.3061,-42.529,-42.7519, -42.9748,-43.1976,-43.4204,-43.6432, -43.8659,-44.0885,-44.3112,-44.5338, -44.9787,-45.4234,-45.8679,-46.2103, -46.4397,-46.6691,-46.8983,-47.1275, -47.3566,-47.5856,-47.8144,-48.0432, -48.2719,-48.5006,-48.7291,-48.9575, -49.1857,-49.4139,-49.528,-49.5477)
FOOTPRINT_POINT_LONGITUDE = (31.8921,31.3281,30.7497,30.0854, 30.0675,30.0433,30.0631,30.0831,30.1003 ,30.1189,30.1374,30.1554,30.1734, 30.1907,30.2075,30.2242,30.2406,30.2567 ,30.2727,30.2897,30.305,30.3198,30.348, 30.3753,30.4014,30.4252,30.4478,30.4707 ,30.4899,30.5053,30.5208,30.5312, 30.5408,30.5503,30.5642,30.5734,30.5823 ,30.5953,30.6037,30.6157,30.6235, 30.6354,30.6426,30.6498,30.6569,30.6626 ,30.6658,30.6664,31.2093,31.5107, 32.1034,32.118,32.1251,32.1226,32.1201, 32.1175,32.1148,32.112,32.1094,32.1075, 32.1035,32.1009,32.098,32.0951,32.0922, 32.0877,32.0839,32.0795,32.0765,32.0728 ,32.069,32.066,32.0622,32.0589,32.0546, 32.051,32.0473,32.0456,32.0405,32.0355, 32.0287,32.0214,32.0121,32.0052,32.0003 ,31.9957,31.9906,31.9852,31.9801, 31.9744,31.9713,31.967,31.9611,31.9552, 31.9491,31.9424,31.9372,31.931,31.9279, 31.8921)
ORBIT_NUMBER = 16820
ORBITAL_ECCENTRICITY = 0.579
ORBITAL_INCLINATION = 86.94
ORBITAL_SEMIMAJOR_AXIS = 8820.9
PERIAPSIS_ALTITUDE = 329.26
PERIAPSIS_ARGUMENT_ANGLE = 319.87
PERIAPSIS_TIME = 2017-04-13T07:42:39.000Z
SPACECRAFT_ORIENTATION = (0.0,1.0,0.0)
^MEX_ORIENTATION_DESC = "MEX_ORIENTATION_DESC.TXT"
SPACECRAFT_POINTING_MODE = ACROSSTRACK
^MEX_POINTING_DESC = "MEX_POINTING_DESC.TXT"
RIGHT_ASCENSION = -1e+32
DECLINATION = -1e+32
OFFSET_ANGLE = -0.229
SPACECRAFT_SOLAR_DISTANCE = 2.28772e+08
TARGET_NAME = MARS
/* CAMERA DATA ELEMENTS */
DETECTOR_TEMPERATURE = 18.5744
FOCAL_PLANE_TEMPERATURE = 8.9911
INST_CMPRS_NAME = "DISCRETE COSINE TRANSFORMATION (DCT)"
INST_CMPRS_RATIO = 6.08752
INST_CMPRS_QUALITY = 0
INST_CMPRS_QUANTZ_TBL_ID = 0
INSTRUMENT_TEMPERATURE = 12.0496
LENS_TEMPERATURE = 10.4184
MACROPIXEL_SIZE = 1
MISSING_FRAMES = 0
PIXEL_SUBSAMPLING_FLAG = N
SIGNAL_CHAIN_ID = 0
/* RADIOMETRIC DATA ELEMENTS */
BANDWIDTH = 177.0
CENTER_FILTER_WAVELENGTH = 677.5
RADIANCE_OFFSET = 2.51427
RADIANCE_SCALING_FACTOR = 0.0138417
REFLECTANCE_SCALING_FACTOR = 0.000384842
MEX:REFLECTANCE_OFFSET = 0.0699041
/* IMAGE OBJECT DEFINITIONS */
OBJECT = IMAGE
  INTERCHANGE_FORMAT = BINARY
  LINES = 53466
  LINE_SAMPLES = 7135
  SAMPLE_TYPE = UNSIGNED_INTEGER
  SAMPLE_BITS = 8
  BANDS = 1
  BAND_STORAGE_TYPE = BAND_SEQUENTIAL
  MAXIMUM = 255
  MEAN = 154.543
  MINIMUM = 1
  STANDARD_DEVIATION = 29.6482
END_OBJECT = IMAGE
/* MAP OBJECT DEFINITIONS */
OBJECT = IMAGE_MAP_PROJECTION
  ^DATA_SET_MAP_PROJECTION_CATALOG= "DSMAP.CAT"
  A_AXIS_RADIUS = 3396.0
  B_AXIS_RADIUS = 3396.0
  C_AXIS_RADIUS = 3396.0
  CENTER_LATITUDE = 0.0
  CENTER_LONGITUDE = 31.0
  COORDINATE_SYSTEM_NAME = PLANETOGRAPHIC
  COORDINATE_SYSTEM_TYPE = "BODY-FIXED ROTATING"
  EASTERNMOST_LONGITUDE = 32.1251
  FIRST_STANDARD_PARALLEL = "N/A"
  LINE_FIRST_PIXEL = 1
  LINE_LAST_PIXEL = 53466
  LINE_PROJECTION_OFFSET = -181474.0
  MAP_PROJECTION_ROTATION = 0.0
  MAP_PROJECTION_TYPE = SINUSOIDAL
  MAP_RESOLUTION = 4741.71043093333
  MAP_SCALE = 0.0125
  MAXIMUM_LATITUDE = -38.2716
  MINIMUM_LATITUDE = -49.5477
  POSITIVE_LONGITUDE_DIRECTION = EAST
  REFERENCE_LATITUDE = "N/A"
  REFERENCE_LONGITUDE = "N/A"
  SAMPLE_FIRST_PIXEL = 1
  SAMPLE_LAST_PIXEL = 7135
  SAMPLE_PROJECTION_OFFSET = 2946.0
  SECOND_STANDARD_PARALLEL = "N/A"
  WESTERNMOST_LONGITUDE = 30.0433
END_OBJECT = IMAGE_MAP_PROJECTION
END
