PDS_VERSION_ID = PDS3
/* FILE DATA ELEMENTS */
RECORD_TYPE = UNDEFINED
/* POINTERS TO DATA OBJECTS */
^IMAGE = ("HG820_0000_S14.TIF")
/* IDENTIFICATION DATA ELEMENTS */
DATA_SET_ID = "MEX-M-HRSC-4-REFDR-MAPPROJECT-EXT6-V4.0"
DATA_SET_NAME = "MARS EXPRESS HRSC MAP PROJECTED REFDR EXTENSION6 V4.0"
DETECTOR_ID = MEX_HRSC_S1
EVENT_TYPE = "MARS-REGIONAL-MAPPING-Im-Eo"
INSTRUMENT_HOST_ID = MEX
INSTRUMENT_HOST_NAME = "MARS EXPRESS"
INSTRUMENT_ID = HRSC
INSTRUMENT_NAME = "HIGH RESOLUTION STEREO CAMERA"
MISSION_NAME = "MARS EXPRESS"
MISSION_PHASE_NAME = ME_Phase_36
PROCESSING_LEVEL_ID = 4
PRODUCT_CREATION_TIME = 2023-01-26T14:39:22.000Z
PRODUCT_ID = "HG820_0000_S14.TIF"
RELEASE_ID = 0001
REVISION_ID = 0000
/* QUALITY DATA ELEMENTS */
DATA_QUALITY_ID = 1
DATA_QUALITY_DESC = "Data calculated based on original SPICE kernels"
/* TIME DATA ELEMENTS */
SPACECRAFT_CLOCK_START_COUNT = "1/0440149173.07319"
SPACECRAFT_CLOCK_STOP_COUNT = "1/0440149409.21881"
START_TIME = 2017-04-13T07:40:44.712Z
STOP_TIME = 2017-04-13T07:43:35.446Z
/* ORBITAL DATA ELEMENTS */
ASCENDING_NODE_LONGITUDE = 258.01
MAXIMUM_RESOLUTION = 0.0278
FOOTPRINT_POINT_LATITUDE = (-49.4839,-49.4636,-49.4452,-49.4264, -49.4258,-49.4803,-49.2475,-49.0146, -48.7875,-48.4394,-48.0906,-47.8579, -47.6331,-47.409,-47.1843,-46.8474, -46.6227,-46.3952,-46.1671,-45.8268, -45.6019,-45.2654,-44.9284,-44.7037, -44.3667,-43.9238,-43.5935,-43.3702, -43.1466,-42.9162,-42.5796,-42.3565, -42.1334,-41.9096,-41.5769,-41.3544, -41.1325,-40.9095,-40.576,-40.3539, -40.1321,-39.911,-39.5794,-39.3558, -39.1353,-38.9146,-38.3673,-38.2573, -38.2399,-38.2488,-38.2658,-38.2715, -38.2717,-38.2723,-38.6043,-38.9363, -39.2685,-39.4901,-39.714,-39.9339, -40.1561,-40.4896,-40.7124,-40.9349, -41.158,-41.3807,-41.6017,-41.8263, -42.0503,-42.2728,-42.608,-42.832, -43.0551,-43.3901,-43.7262,-43.9528, -44.1785,-44.3995,-44.6247,-44.8501, -45.0734,-45.2998,-45.525,-45.749, -45.9739,-46.2016,-46.5388,-46.7644, -46.9888,-47.3258,-47.5504,-47.7785, -48.1257,-48.3577,-48.7053,-48.9376, -49.1715,-49.4039,-49.5201,-49.4839)
FOOTPRINT_POINT_LONGITUDE = (31.8854,31.1852,30.6297,30.1117, 30.0945,30.0692,30.0889,30.1081,30.125, 30.1524,30.1791,30.1966,30.2129,30.2288 ,30.2447,30.2678,30.2829,30.2986, 30.3142,30.3356,30.3495,30.3696,30.3893 ,30.4021,30.4209,30.4432,30.4588, 30.4698,30.4807,30.4934,30.5094,30.5194 ,30.5292,30.5391,30.5526,30.5616, 30.5703,30.5791,30.5917,30.5998,30.6076 ,30.6151,30.626,30.6338,30.6406,30.6473 ,30.6623,30.6653,30.6658,31.1894, 31.7885,32.1182,32.1326,32.1378,32.1337 ,32.1293,32.1248,32.1216,32.1196, 32.1153,32.1121,32.1073,32.1041,32.1007 ,32.0974,32.0939,32.0892,32.0864, 32.0832,32.0791,32.0734,32.0697,32.0654 ,32.059,32.0529,32.0502,32.0468,32.0406 ,32.0366,32.0327,32.0274,32.0239, 32.0194,32.0142,32.0094,32.004,31.9963, 31.9914,31.9857,31.9772,31.9713,31.9674 ,31.9599,31.9533,31.9429,31.9362, 31.9303,31.9233,31.9198,31.8854)
ORBIT_NUMBER = 16820
ORBITAL_ECCENTRICITY = 0.579
ORBITAL_INCLINATION = 86.94
ORBITAL_SEMIMAJOR_AXIS = 8820.9
PERIAPSIS_ALTITUDE = 329.26
PERIAPSIS_ARGUMENT_ANGLE = 319.87
PERIAPSIS_TIME = 2017-04-13T07:42:39.000Z
SPACECRAFT_ORIENTATION = (0.0,1.0,0.0)
^MEX_ORIENTATION_DESC = "MEX_ORIENTATION_DESC.TXT"
SPACECRAFT_POINTING_MODE = ACROSSTRACK
^MEX_POINTING_DESC = "MEX_POINTING_DESC.TXT"
RIGHT_ASCENSION = -1e+32
DECLINATION = -1e+32
OFFSET_ANGLE = -0.229
SPACECRAFT_SOLAR_DISTANCE = 2.28772e+08
TARGET_NAME = MARS
/* CAMERA DATA ELEMENTS */
DETECTOR_TEMPERATURE = 17.7588
FOCAL_PLANE_TEMPERATURE = 8.9911
INST_CMPRS_NAME = "DISCRETE COSINE TRANSFORMATION (DCT)"
INST_CMPRS_RATIO = 10.0124
INST_CMPRS_QUALITY = 0
INST_CMPRS_QUANTZ_TBL_ID = 0
INSTRUMENT_TEMPERATURE = 12.0496
LENS_TEMPERATURE = 10.4184
MACROPIXEL_SIZE = 2
MISSING_FRAMES = 1
PIXEL_SUBSAMPLING_FLAG = N
SIGNAL_CHAIN_ID = 1
/* RADIOMETRIC DATA ELEMENTS */
BANDWIDTH = 180.0
CENTER_FILTER_WAVELENGTH = 677.0
RADIANCE_OFFSET = 3.11016
RADIANCE_SCALING_FACTOR = 0.0149687
REFLECTANCE_SCALING_FACTOR = 0.000408726
MEX:REFLECTANCE_OFFSET = 0.0849242
/* IMAGE OBJECT DEFINITIONS */
OBJECT = IMAGE
  INTERCHANGE_FORMAT = BINARY
  LINES = 26733
  LINE_SAMPLES = 3568
  SAMPLE_TYPE = UNSIGNED_INTEGER
  SAMPLE_BITS = 8
  BANDS = 1
  BAND_STORAGE_TYPE = BAND_SEQUENTIAL
  MAXIMUM = 255
  MEAN = 162.209
  MINIMUM = 1
  STANDARD_DEVIATION = 31.0518
END_OBJECT = IMAGE
/* MAP OBJECT DEFINITIONS */
OBJECT = IMAGE_MAP_PROJECTION
  ^DATA_SET_MAP_PROJECTION_CATALOG= "DSMAP.CAT"
  A_AXIS_RADIUS = 3396.0
  B_AXIS_RADIUS = 3396.0
  C_AXIS_RADIUS = 3396.0
  CENTER_LATITUDE = 0.0
  CENTER_LONGITUDE = 31.0
  COORDINATE_SYSTEM_NAME = PLANETOGRAPHIC
  COORDINATE_SYSTEM_TYPE = "BODY-FIXED ROTATING"
  EASTERNMOST_LONGITUDE = 32.1378
  FIRST_STANDARD_PARALLEL = "N/A"
  LINE_FIRST_PIXEL = 1
  LINE_LAST_PIXEL = 26733
  LINE_PROJECTION_OFFSET = -90737.25
  MAP_PROJECTION_ROTATION = 0.0
  MAP_PROJECTION_TYPE = SINUSOIDAL
  MAP_RESOLUTION = 2370.85521546667
  MAP_SCALE = 0.025
  MAXIMUM_LATITUDE = -38.2399
  MINIMUM_LATITUDE = -49.5201
  POSITIVE_LONGITUDE_DIRECTION = EAST
  REFERENCE_LATITUDE = "N/A"
  REFERENCE_LONGITUDE = "N/A"
  SAMPLE_FIRST_PIXEL = 1
  SAMPLE_LAST_PIXEL = 3568
  SAMPLE_PROJECTION_OFFSET = 1472.75
  SECOND_STANDARD_PARALLEL = "N/A"
  WESTERNMOST_LONGITUDE = 30.0692
END_OBJECT = IMAGE_MAP_PROJECTION
END
