PDS_VERSION_ID = PDS3
/* FILE DATA ELEMENTS */
RECORD_TYPE = UNDEFINED
/* POINTERS TO DATA OBJECTS */
^IMAGE = ("HG829_0000_P14.TIF")
/* IDENTIFICATION DATA ELEMENTS */
DATA_SET_ID = "MEX-M-HRSC-4-REFDR-MAPPROJECT-EXT6-V4.0"
DATA_SET_NAME = "MARS EXPRESS HRSC MAP PROJECTED REFDR EXTENSION6 V4.0"
DETECTOR_ID = MEX_HRSC_P1
EVENT_TYPE = "MARS-REGIONAL-MAPPING-Te-Lc"
INSTRUMENT_HOST_ID = MEX
INSTRUMENT_HOST_NAME = "MARS EXPRESS"
INSTRUMENT_ID = HRSC
INSTRUMENT_NAME = "HIGH RESOLUTION STEREO CAMERA"
MISSION_NAME = "MARS EXPRESS"
MISSION_PHASE_NAME = ME_Phase_36
PROCESSING_LEVEL_ID = 4
PRODUCT_CREATION_TIME = 2023-01-26T14:39:22.000Z
PRODUCT_ID = "HG829_0000_P14.TIF"
RELEASE_ID = 0001
REVISION_ID = 0000
/* QUALITY DATA ELEMENTS */
DATA_QUALITY_ID = 1
DATA_QUALITY_DESC = "Data calculated based on original SPICE kernels"
/* TIME DATA ELEMENTS */
SPACECRAFT_CLOCK_START_COUNT = "1/0440375965.07325"
SPACECRAFT_CLOCK_STOP_COUNT = "1/0440376143.23290"
START_TIME = 2017-04-15T22:39:43.331Z
STOP_TIME = 2017-04-15T22:41:39.198Z
/* ORBITAL DATA ELEMENTS */
ASCENDING_NODE_LONGITUDE = 257.84
MAXIMUM_RESOLUTION = 0.0269
FOOTPRINT_POINT_LATITUDE = (-44.9001,-44.8919,-44.8838,-44.8782, -44.8671,-44.8667,-44.8982,-44.6709, -44.5195,-44.3682,-44.1413,-43.9899, -43.8383,-43.6871,-43.5359,-43.3848, -43.2332,-43.0819,-42.9308,-42.7797, -42.553,-42.4031,-42.2523,-42.0259, -41.7997,-41.5735,-41.4229,-41.2725, -41.1219,-40.8957,-40.7448,-40.5944, -40.4437,-40.293,-40.1424,-39.9171, -39.7634,-39.6134,-39.4635,-39.3138, -39.1641,-38.865,-38.6406,-38.3414, -38.1917,-37.9667,-37.6675,-37.4437, -37.3688,-37.3298,-37.335,-37.339, -37.342,-37.3443,-37.3468,-37.347, -37.3474,-37.5724,-37.7967,-38.0208, -38.32,-38.4706,-38.8448,-39.1419, -39.2921,-39.5171,-39.6676,-39.8981, -40.0495,-40.2006,-40.426,-40.5775, -40.7283,-40.879,-41.0299,-41.181, -41.3317,-41.5589,-41.7856,-41.9368, -42.0879,-42.2388,-42.3908,-42.5426, -42.694,-42.8453,-42.9966,-43.148, -43.2996,-43.4513,-43.6787,-43.8306, -43.9822,-44.1338,-44.2856,-44.4374, -44.589,-44.8168,-44.8928,-44.9001)
FOOTPRINT_POINT_LONGITUDE = (190.9,190.425,190.026,189.781,189.336, 189.321,189.293,189.307,189.316,189.325 ,189.338,189.346,189.355,189.363, 189.372,189.38,189.388,189.396,189.404, 189.411,189.423,189.43,189.437,189.447, 189.458,189.468,189.475,189.481,189.488 ,189.497,189.504,189.51,189.516,189.522 ,189.528,189.536,189.542,189.548, 189.553,189.558,189.563,189.573,189.58, 189.589,189.594,189.601,189.609,189.616 ,189.618,189.619,189.932,190.245, 190.486,190.714,191.069,191.083,191.088 ,191.085,191.081,191.076,191.07,191.068 ,191.06,191.052,191.049,191.045,191.042 ,191.038,191.035,191.032,191.027, 191.025,191.021,191.018,191.015,191.012 ,191.008,191.004,190.998,190.995, 190.992,190.988,190.985,190.982,190.978 ,190.974,190.97,190.967,190.963,190.959 ,190.954,190.95,190.946,190.942,190.938 ,190.934,190.93,190.924,190.922,190.9)
ORBIT_NUMBER = 16829
ORBITAL_ECCENTRICITY = 0.578
ORBITAL_INCLINATION = 86.95
ORBITAL_SEMIMAJOR_AXIS = 8813.34
PERIAPSIS_ALTITUDE = 328.93
PERIAPSIS_ARGUMENT_ANGLE = 318.34
PERIAPSIS_TIME = 2017-04-15T22:40:16.000Z
SPACECRAFT_ORIENTATION = (0.0,1.0,0.0)
^MEX_ORIENTATION_DESC = "MEX_ORIENTATION_DESC.TXT"
SPACECRAFT_POINTING_MODE = NADIR
^MEX_POINTING_DESC = "MEX_POINTING_DESC.TXT"
RIGHT_ASCENSION = -1e+32
DECLINATION = -1e+32
OFFSET_ANGLE = -1e+32
SPACECRAFT_SOLAR_DISTANCE = 2.29281e+08
TARGET_NAME = MARS
/* CAMERA DATA ELEMENTS */
DETECTOR_TEMPERATURE = 18.1666
FOCAL_PLANE_TEMPERATURE = 8.5833
INST_CMPRS_NAME = "DISCRETE COSINE TRANSFORMATION (DCT)"
INST_CMPRS_RATIO = 7.53806
INST_CMPRS_QUALITY = 0
INST_CMPRS_QUANTZ_TBL_ID = 0
INSTRUMENT_TEMPERATURE = 12.2535
LENS_TEMPERATURE = 8.9911
MACROPIXEL_SIZE = 2
MISSING_FRAMES = 1
PIXEL_SUBSAMPLING_FLAG = N
SIGNAL_CHAIN_ID = 3
/* RADIOMETRIC DATA ELEMENTS */
BANDWIDTH = 174.0
CENTER_FILTER_WAVELENGTH = 675.0
RADIANCE_OFFSET = 3.37353
RADIANCE_SCALING_FACTOR = 0.012568
REFLECTANCE_SCALING_FACTOR = 0.000355376
MEX:REFLECTANCE_OFFSET = 0.0953904
/* IMAGE OBJECT DEFINITIONS */
OBJECT = IMAGE
  INTERCHANGE_FORMAT = BINARY
  LINES = 18071
  LINE_SAMPLES = 3170
  SAMPLE_TYPE = UNSIGNED_INTEGER
  SAMPLE_BITS = 8
  BANDS = 1
  BAND_STORAGE_TYPE = BAND_SEQUENTIAL
  MAXIMUM = 255
  MEAN = 137.091
  MINIMUM = 1
  STANDARD_DEVIATION = 33.3785
END_OBJECT = IMAGE
/* MAP OBJECT DEFINITIONS */
OBJECT = IMAGE_MAP_PROJECTION
  ^DATA_SET_MAP_PROJECTION_CATALOG= "DSMAP.CAT"
  A_AXIS_RADIUS = 3396.0
  B_AXIS_RADIUS = 3396.0
  C_AXIS_RADIUS = 3396.0
  CENTER_LATITUDE = 0.0
  CENTER_LONGITUDE = 190.0
  COORDINATE_SYSTEM_NAME = PLANETOGRAPHIC
  COORDINATE_SYSTEM_TYPE = "BODY-FIXED ROTATING"
  EASTERNMOST_LONGITUDE = 191.088
  FIRST_STANDARD_PARALLEL = "N/A"
  LINE_FIRST_PIXEL = 1
  LINE_LAST_PIXEL = 18071
  LINE_PROJECTION_OFFSET = -82452.25
  MAP_PROJECTION_ROTATION = 0.0
  MAP_PROJECTION_TYPE = SINUSOIDAL
  MAP_RESOLUTION = 2370.85521546667
  MAP_SCALE = 0.025
  MAXIMUM_LATITUDE = -37.3298
  MINIMUM_LATITUDE = -44.9001
  POSITIVE_LONGITUDE_DIRECTION = EAST
  REFERENCE_LATITUDE = "N/A"
  REFERENCE_LONGITUDE = "N/A"
  SAMPLE_FIRST_PIXEL = 1
  SAMPLE_LAST_PIXEL = 3170
  SAMPLE_PROJECTION_OFFSET = 998.75
  SECOND_STANDARD_PARALLEL = "N/A"
  WESTERNMOST_LONGITUDE = 189.293
END_OBJECT = IMAGE_MAP_PROJECTION
END
