PDS_VERSION_ID = PDS3
/* FILE DATA ELEMENTS */
RECORD_TYPE = UNDEFINED
/* POINTERS TO DATA OBJECTS */
^IMAGE = ("HG829_0000_S24.TIF")
/* IDENTIFICATION DATA ELEMENTS */
DATA_SET_ID = "MEX-M-HRSC-4-REFDR-MAPPROJECT-EXT6-V4.0"
DATA_SET_NAME = "MARS EXPRESS HRSC MAP PROJECTED REFDR EXTENSION6 V4.0"
DETECTOR_ID = MEX_HRSC_S2
EVENT_TYPE = "MARS-REGIONAL-MAPPING-Te-Lc"
INSTRUMENT_HOST_ID = MEX
INSTRUMENT_HOST_NAME = "MARS EXPRESS"
INSTRUMENT_ID = HRSC
INSTRUMENT_NAME = "HIGH RESOLUTION STEREO CAMERA"
MISSION_NAME = "MARS EXPRESS"
MISSION_PHASE_NAME = ME_Phase_36
PROCESSING_LEVEL_ID = 4
PRODUCT_CREATION_TIME = 2023-01-26T14:39:22.000Z
PRODUCT_ID = "HG829_0000_S24.TIF"
RELEASE_ID = 0001
REVISION_ID = 0000
/* QUALITY DATA ELEMENTS */
DATA_QUALITY_ID = 1
DATA_QUALITY_DESC = "Data calculated based on original SPICE kernels"
/* TIME DATA ELEMENTS */
SPACECRAFT_CLOCK_START_COUNT = "1/0440375965.07325"
SPACECRAFT_CLOCK_STOP_COUNT = "1/0440376143.23290"
START_TIME = 2017-04-15T22:40:32.230Z
STOP_TIME = 2017-04-15T22:42:29.482Z
/* ORBITAL DATA ELEMENTS */
ASCENDING_NODE_LONGITUDE = 257.84
MAXIMUM_RESOLUTION = 0.0279
FOOTPRINT_POINT_LATITUDE = (-38.591,-38.5876,-38.5845,-38.5774, -38.5725,-38.5659,-38.5655,-38.5161, -38.3627,-38.2097,-37.9051,-37.6748, -37.5207,-37.368,-37.2148,-37.0618, -36.9077,-36.7546,-36.6016,-36.2968, -35.9939,-35.8413,-35.5373,-35.3056, -35.1507,-34.9973,-34.767,-34.6132, -34.3824,-34.0749,-33.9207,-33.7673, -33.6138,-33.4599,-33.3058,-33.1521, -32.9226,-32.7693,-32.5402,-32.3051, -32.1484,-31.9928,-31.8392,-31.6806, -31.5263,-31.367,-31.2063,-31.0463, -30.8868,-30.8073,-30.7915,-30.7969, -30.7976,-30.7993,-30.8018,-30.8026, -30.8027,-30.8031,-31.0431,-31.283, -31.4439,-31.603,-31.7623,-31.997, -32.1514,-32.306,-32.4623,-32.6174, -32.7732,-33.0039,-33.1575,-33.3895, -33.6216,-33.7766,-34.0821,-34.312, -34.4658,-34.6194,-34.7734,-34.9272, -35.1589,-35.3132,-35.467,-35.6974, -35.9251,-36.2306,-36.4594,-36.6124, -36.7659,-36.9961,-37.1497,-37.4557, -37.6092,-37.7631,-37.9169,-38.0715, -38.2253,-38.4548,-38.5309,-38.591)
FOOTPRINT_POINT_LONGITUDE = (191.045,190.724,190.501,190.11,189.887 ,189.621,189.608,189.587,189.592, 189.597,189.608,189.615,189.619,189.624 ,189.629,189.634,189.638,189.642, 189.647,189.656,189.666,189.67,189.679, 189.684,189.687,189.691,189.696,189.699 ,189.704,189.711,189.714,189.717,189.72 ,189.723,189.725,189.728,189.733, 189.735,189.74,189.742,189.743,189.745, 189.747,189.75,189.753,189.755,189.757, 189.759,189.76,189.761,189.762,190.098, 190.299,190.515,190.865,191.134,191.147 ,191.152,191.15,191.148,191.146,191.144 ,191.143,191.141,191.139,191.138, 191.136,191.134,191.132,191.13,191.128, 191.126,191.123,191.121,191.119,191.117 ,191.115,191.113,191.112,191.11,191.107 ,191.105,191.103,191.1,191.098,191.095, 191.093,191.091,191.089,191.086,191.084 ,191.08,191.078,191.075,191.073,191.07, 191.067,191.064,191.063,191.045)
ORBIT_NUMBER = 16829
ORBITAL_ECCENTRICITY = 0.578
ORBITAL_INCLINATION = 86.95
ORBITAL_SEMIMAJOR_AXIS = 8813.34
PERIAPSIS_ALTITUDE = 328.93
PERIAPSIS_ARGUMENT_ANGLE = 318.34
PERIAPSIS_TIME = 2017-04-15T22:40:16.000Z
SPACECRAFT_ORIENTATION = (0.0,1.0,0.0)
^MEX_ORIENTATION_DESC = "MEX_ORIENTATION_DESC.TXT"
SPACECRAFT_POINTING_MODE = NADIR
^MEX_POINTING_DESC = "MEX_POINTING_DESC.TXT"
RIGHT_ASCENSION = -1e+32
DECLINATION = -1e+32
OFFSET_ANGLE = -1e+32
SPACECRAFT_SOLAR_DISTANCE = 2.29281e+08
TARGET_NAME = MARS
/* CAMERA DATA ELEMENTS */
DETECTOR_TEMPERATURE = 19.39
FOCAL_PLANE_TEMPERATURE = 8.5833
INST_CMPRS_NAME = "DISCRETE COSINE TRANSFORMATION (DCT)"
INST_CMPRS_RATIO = 9.88148
INST_CMPRS_QUALITY = 0
INST_CMPRS_QUANTZ_TBL_ID = 0
INSTRUMENT_TEMPERATURE = 12.2535
LENS_TEMPERATURE = 8.9911
MACROPIXEL_SIZE = 2
MISSING_FRAMES = 0
PIXEL_SUBSAMPLING_FLAG = N
SIGNAL_CHAIN_ID = 1
/* RADIOMETRIC DATA ELEMENTS */
BANDWIDTH = 178.0
CENTER_FILTER_WAVELENGTH = 679.0
RADIANCE_OFFSET = 3.30169
RADIANCE_SCALING_FACTOR = 0.0137094
REFLECTANCE_SCALING_FACTOR = 0.000381668
MEX:REFLECTANCE_OFFSET = 0.0919183
/* IMAGE OBJECT DEFINITIONS */
OBJECT = IMAGE
  INTERCHANGE_FORMAT = BINARY
  LINES = 18071
  LINE_SAMPLES = 3170
  SAMPLE_TYPE = UNSIGNED_INTEGER
  SAMPLE_BITS = 8
  BANDS = 1
  BAND_STORAGE_TYPE = BAND_SEQUENTIAL
  MAXIMUM = 255
  MEAN = 115.121
  MINIMUM = 1
  STANDARD_DEVIATION = 28.4415
END_OBJECT = IMAGE
/* MAP OBJECT DEFINITIONS */
OBJECT = IMAGE_MAP_PROJECTION
  ^DATA_SET_MAP_PROJECTION_CATALOG= "DSMAP.CAT"
  A_AXIS_RADIUS = 3396.0
  B_AXIS_RADIUS = 3396.0
  C_AXIS_RADIUS = 3396.0
  CENTER_LATITUDE = 0.0
  CENTER_LONGITUDE = 190.0
  COORDINATE_SYSTEM_NAME = PLANETOGRAPHIC
  COORDINATE_SYSTEM_TYPE = "BODY-FIXED ROTATING"
  EASTERNMOST_LONGITUDE = 191.152
  FIRST_STANDARD_PARALLEL = "N/A"
  LINE_FIRST_PIXEL = 1
  LINE_LAST_PIXEL = 18071
  LINE_PROJECTION_OFFSET = -82452.25
  MAP_PROJECTION_ROTATION = 0.0
  MAP_PROJECTION_TYPE = SINUSOIDAL
  MAP_RESOLUTION = 2370.85521546667
  MAP_SCALE = 0.025
  MAXIMUM_LATITUDE = -30.7915
  MINIMUM_LATITUDE = -38.591
  POSITIVE_LONGITUDE_DIRECTION = EAST
  REFERENCE_LATITUDE = "N/A"
  REFERENCE_LONGITUDE = "N/A"
  SAMPLE_FIRST_PIXEL = 1
  SAMPLE_LAST_PIXEL = 3170
  SAMPLE_PROJECTION_OFFSET = 998.75
  SECOND_STANDARD_PARALLEL = "N/A"
  WESTERNMOST_LONGITUDE = 189.587
END_OBJECT = IMAGE_MAP_PROJECTION
END
