PDS_VERSION_ID = PDS3
/* FILE DATA ELEMENTS */
RECORD_TYPE = UNDEFINED
/* POINTERS TO DATA OBJECTS */
^IMAGE = ("HG830_0000_BL4.TIF")
/* IDENTIFICATION DATA ELEMENTS */
DATA_SET_ID = "MEX-M-HRSC-4-REFDR-MAPPROJECT-EXT6-V4.0"
DATA_SET_NAME = "MARS EXPRESS HRSC MAP PROJECTED REFDR EXTENSION6 V4.0"
DETECTOR_ID = MEX_HRSC_BLUE
EVENT_TYPE = "MARS-REGIONAL-MAPPING-Im-Fl-Gl"
INSTRUMENT_HOST_ID = MEX
INSTRUMENT_HOST_NAME = "MARS EXPRESS"
INSTRUMENT_ID = HRSC
INSTRUMENT_NAME = "HIGH RESOLUTION STEREO CAMERA"
MISSION_NAME = "MARS EXPRESS"
MISSION_PHASE_NAME = ME_Phase_36
PROCESSING_LEVEL_ID = 4
PRODUCT_CREATION_TIME = 2023-01-26T14:39:22.000Z
PRODUCT_ID = "HG830_0000_BL4.TIF"
RELEASE_ID = 0001
REVISION_ID = 0000
/* QUALITY DATA ELEMENTS */
DATA_QUALITY_ID = 1
DATA_QUALITY_DESC = "Data calculated based on original SPICE kernels"
/* TIME DATA ELEMENTS */
SPACECRAFT_CLOCK_START_COUNT = "1/0440401142.09030"
SPACECRAFT_CLOCK_STOP_COUNT = "1/0440401321.09141"
START_TIME = 2017-04-16T05:39:34.920Z
STOP_TIME = 2017-04-16T05:41:31.746Z
/* ORBITAL DATA ELEMENTS */
ASCENDING_NODE_LONGITUDE = 257.82
MAXIMUM_RESOLUTION = 0.0531
FOOTPRINT_POINT_LATITUDE = (-43.0415,-43.0385,-43.0345,-43.031, -43.0234,-43.0177,-43.0174,-42.9995, -42.8455,-42.6913,-42.5365,-42.383, -42.2285,-42.0742,-41.9199,-41.7656, -41.6138,-41.1661,-40.7931,-40.4197, -40.1211,-39.7479,-39.369,-39.2147, -39.0602,-38.9058,-38.7503,-38.5966, -38.4421,-38.2876,-38.056,-37.9015, -37.7472,-37.5154,-37.3609,-37.2065, -37.052,-36.8205,-36.6661,-36.4345, -36.2801,-36.1257,-35.9713,-35.7398, -35.5856,-35.4312,-35.3541,-35.3424, -35.3462,-35.3486,-35.3506,-35.3531, -35.3539,-35.3539,-35.3548,-35.5094, -35.6639,-35.8958,-36.0505,-36.2051, -36.4369,-36.5915,-36.7462,-36.9008, -37.0554,-37.2872,-37.4417,-37.5958, -37.7514,-37.9062,-38.1382,-38.3704, -38.5251,-38.6799,-38.8346,-38.9894, -39.2216,-39.4539,-39.6065,-39.756, -39.9056,-40.1298,-40.3544,-40.5041, -40.6537,-40.8034,-40.9529,-41.1771, -41.3266,-41.4761,-41.6998,-41.8549, -42.0871,-42.2414,-42.3961,-42.6279, -42.7824,-42.9371,-43.0145,-43.0415)
FOOTPRINT_POINT_LONGITUDE = (88.96,88.6737,88.36,88.1327,87.7229, 87.4552,87.4411,87.4176,87.4251,87.4324 ,87.4388,87.4467,87.4533,87.46,87.4668, 87.4734,87.4798,87.498,87.5127,87.5265, 87.5372,87.5502,87.5627,87.5678,87.5726 ,87.5776,87.5812,87.5867,87.5912, 87.5956,87.6022,87.6065,87.6107,87.6168 ,87.6206,87.6245,87.6282,87.6338, 87.6375,87.6427,87.646,87.6493,87.6524, 87.6572,87.6603,87.6632,87.6646,87.6648 ,87.9572,88.1844,88.4122,88.816,89.0863 ,89.0999,89.1043,89.1028,89.1014, 89.0991,89.0973,89.0957,89.0937,89.0923 ,89.0908,89.0894,89.0879,89.0863, 89.0853,89.0853,89.0809,89.0792,89.077, 89.074,89.0723,89.0705,89.0689,89.0669, 89.064,89.0606,89.0592,89.0576,89.0558, 89.0535,89.0497,89.0475,89.0454,89.043, 89.0411,89.0384,89.0363,89.0341,89.0328 ,89.0283,89.024,89.0224,89.0199,89.0165 ,89.0141,89.0111,89.0095,88.96)
ORBIT_NUMBER = 16830
ORBITAL_ECCENTRICITY = 0.579
ORBITAL_INCLINATION = 86.95
ORBITAL_SEMIMAJOR_AXIS = 8818.42
PERIAPSIS_ALTITUDE = 327.97
PERIAPSIS_ARGUMENT_ANGLE = 318.15
PERIAPSIS_TIME = 2017-04-16T05:39:59.000Z
SPACECRAFT_ORIENTATION = (0.0,1.0,0.0)
^MEX_ORIENTATION_DESC = "MEX_ORIENTATION_DESC.TXT"
SPACECRAFT_POINTING_MODE = ACROSSTRACK
^MEX_POINTING_DESC = "MEX_POINTING_DESC.TXT"
RIGHT_ASCENSION = -1e+32
DECLINATION = -1e+32
OFFSET_ANGLE = -0.229
SPACECRAFT_SOLAR_DISTANCE = 2.29337e+08
TARGET_NAME = MARS
/* CAMERA DATA ELEMENTS */
DETECTOR_TEMPERATURE = 18.5744
FOCAL_PLANE_TEMPERATURE = 10.0106
INST_CMPRS_NAME = "DISCRETE COSINE TRANSFORMATION (DCT)"
INST_CMPRS_RATIO = 5.60118
INST_CMPRS_QUALITY = 0
INST_CMPRS_QUANTZ_TBL_ID = 0
INSTRUMENT_TEMPERATURE = 11.8457
LENS_TEMPERATURE = 10.2145
MACROPIXEL_SIZE = 4
MISSING_FRAMES = 0
PIXEL_SUBSAMPLING_FLAG = N
SIGNAL_CHAIN_ID = 2
/* RADIOMETRIC DATA ELEMENTS */
BANDWIDTH = 76.0
CENTER_FILTER_WAVELENGTH = 444.0
RADIANCE_OFFSET = 0.651463
RADIANCE_SCALING_FACTOR = 0.000968119
REFLECTANCE_SCALING_FACTOR = 5.23159e-05
MEX:REFLECTANCE_OFFSET = 0.0352042
/* IMAGE OBJECT DEFINITIONS */
OBJECT = IMAGE
  INTERCHANGE_FORMAT = BINARY
  LINES = 9119
  LINE_SAMPLES = 1583
  SAMPLE_TYPE = UNSIGNED_INTEGER
  SAMPLE_BITS = 8
  BANDS = 1
  BAND_STORAGE_TYPE = BAND_SEQUENTIAL
  MAXIMUM = 252
  MEAN = 144.808
  MINIMUM = 1
  STANDARD_DEVIATION = 20.269
END_OBJECT = IMAGE
/* MAP OBJECT DEFINITIONS */
OBJECT = IMAGE_MAP_PROJECTION
  ^DATA_SET_MAP_PROJECTION_CATALOG= "DSMAP.CAT"
  A_AXIS_RADIUS = 3396.0
  B_AXIS_RADIUS = 3396.0
  C_AXIS_RADIUS = 3396.0
  CENTER_LATITUDE = 0.0
  CENTER_LONGITUDE = 88.0
  COORDINATE_SYSTEM_NAME = PLANETOGRAPHIC
  COORDINATE_SYSTEM_TYPE = "BODY-FIXED ROTATING"
  EASTERNMOST_LONGITUDE = 89.10429999999999
  FIRST_STANDARD_PARALLEL = "N/A"
  LINE_FIRST_PIXEL = 1
  LINE_LAST_PIXEL = 9119
  LINE_PROJECTION_OFFSET = -41893.625
  MAP_PROJECTION_ROTATION = 0.0
  MAP_PROJECTION_TYPE = SINUSOIDAL
  MAP_RESOLUTION = 1185.42760773333
  MAP_SCALE = 0.05
  MAXIMUM_LATITUDE = -35.3424
  MINIMUM_LATITUDE = -43.0415
  POSITIVE_LONGITUDE_DIRECTION = EAST
  REFERENCE_LATITUDE = "N/A"
  REFERENCE_LONGITUDE = "N/A"
  SAMPLE_FIRST_PIXEL = 1
  SAMPLE_LAST_PIXEL = 1583
  SAMPLE_PROJECTION_OFFSET = 513.125
  SECOND_STANDARD_PARALLEL = "N/A"
  WESTERNMOST_LONGITUDE = 87.41759999999999
END_OBJECT = IMAGE_MAP_PROJECTION
END
