PDS_VERSION_ID = PDS3
/* FILE DATA ELEMENTS */
RECORD_TYPE = UNDEFINED
/* POINTERS TO DATA OBJECTS */
^IMAGE = ("HG830_0000_GR4.TIF")
/* IDENTIFICATION DATA ELEMENTS */
DATA_SET_ID = "MEX-M-HRSC-4-REFDR-MAPPROJECT-EXT6-V4.0"
DATA_SET_NAME = "MARS EXPRESS HRSC MAP PROJECTED REFDR EXTENSION6 V4.0"
DETECTOR_ID = MEX_HRSC_GREEN
EVENT_TYPE = "MARS-REGIONAL-MAPPING-Im-Fl-Gl"
INSTRUMENT_HOST_ID = MEX
INSTRUMENT_HOST_NAME = "MARS EXPRESS"
INSTRUMENT_ID = HRSC
INSTRUMENT_NAME = "HIGH RESOLUTION STEREO CAMERA"
MISSION_NAME = "MARS EXPRESS"
MISSION_PHASE_NAME = ME_Phase_36
PROCESSING_LEVEL_ID = 4
PRODUCT_CREATION_TIME = 2023-01-26T14:39:22.000Z
PRODUCT_ID = "HG830_0000_GR4.TIF"
RELEASE_ID = 0001
REVISION_ID = 0000
/* QUALITY DATA ELEMENTS */
DATA_QUALITY_ID = 1
DATA_QUALITY_DESC = "Data calculated based on original SPICE kernels"
/* TIME DATA ELEMENTS */
SPACECRAFT_CLOCK_START_COUNT = "1/0440401142.09030"
SPACECRAFT_CLOCK_STOP_COUNT = "1/0440401321.09141"
START_TIME = 2017-04-16T05:39:44.751Z
STOP_TIME = 2017-04-16T05:41:41.884Z
/* ORBITAL DATA ELEMENTS */
ASCENDING_NODE_LONGITUDE = 257.82
MAXIMUM_RESOLUTION = 0.0531
FOOTPRINT_POINT_LATITUDE = (-43.0299,-43.0255,-43.0216,-43.0148, -43.0099,-43.0003,-43.0,-43.0119, -42.7799,-42.6258,-42.4706,-42.3171, -41.9437,-41.6449,-41.4209,-41.1969, -40.9728,-40.6741,-40.3757,-40.0734, -39.919,-39.6875,-39.5332,-39.3788, -39.1474,-38.993,-38.8395,-38.685, -38.5305,-38.2992,-38.145,-37.9909, -37.8368,-37.6057,-37.4517,-37.2978, -37.1438,-36.913,-36.6821,-36.5283, -36.3745,-36.2208,-36.0672,-35.9135, -35.7598,-35.6062,-35.4527,-35.3759, -35.3442,-35.3483,-35.3533,-35.3559, -35.3585,-35.3612,-35.3613,-35.3622, -35.5159,-35.6697,-35.8235,-35.9773, -36.1312,-36.3622,-36.5163,-36.6704, -36.8245,-36.9787,-37.1328,-37.3644, -37.5188,-37.7499,-37.9042,-38.0586, -38.213,-38.3674,-38.5218,-38.6763, -38.8309,-39.0626,-39.2171,-39.3716, -39.5262,-39.681,-39.8356,-39.9903, -40.3714,-40.6704,-40.8947,-41.0444, -41.3437,-41.5681,-41.7184,-42.0169, -42.1667,-42.3165,-42.4692,-42.6244, -42.7792,-42.934,-43.0113,-43.0299)
FOOTPRINT_POINT_LONGITUDE = (88.9588,88.6585,88.4305,88.0757, 87.8497,87.4554,87.4413,87.4164,87.4276 ,87.4338,87.4419,87.4485,87.4644,87.477 ,87.4861,87.4949,87.5038,87.5152, 87.5258,87.5365,87.5419,87.5496,87.5546 ,87.5596,87.567,87.5718,87.5753,87.5803 ,87.5853,87.5919,87.5962,87.6004, 87.6045,87.6106,87.6144,87.6182,87.6219 ,87.6274,87.6327,87.6362,87.6395, 87.6427,87.6457,87.6488,87.652,87.6549, 87.6577,87.6592,87.6597,87.9136,88.263, 88.4787,88.7361,89.0894,89.103,89.1075, 89.106,89.1044,89.1029,89.101,89.0993, 89.0971,89.0956,89.0941,89.0926,89.0911 ,89.0894,89.0877,89.0866,89.0828,89.081 ,89.0793,89.0776,89.0755,89.0737, 89.0719,89.0702,89.0671,89.065,89.0627, 89.0608,89.0593,89.0573,89.0554,89.0498 ,89.0453,89.0418,89.0397,89.0357,89.032 ,89.032,89.0245,89.0224,89.0204,89.017, 89.0154,89.0129,89.01,89.0082,88.9588)
ORBIT_NUMBER = 16830
ORBITAL_ECCENTRICITY = 0.579
ORBITAL_INCLINATION = 86.95
ORBITAL_SEMIMAJOR_AXIS = 8818.42
PERIAPSIS_ALTITUDE = 327.97
PERIAPSIS_ARGUMENT_ANGLE = 318.15
PERIAPSIS_TIME = 2017-04-16T05:39:59.000Z
SPACECRAFT_ORIENTATION = (0.0,1.0,0.0)
^MEX_ORIENTATION_DESC = "MEX_ORIENTATION_DESC.TXT"
SPACECRAFT_POINTING_MODE = ACROSSTRACK
^MEX_POINTING_DESC = "MEX_POINTING_DESC.TXT"
RIGHT_ASCENSION = -1e+32
DECLINATION = -1e+32
OFFSET_ANGLE = -0.229
SPACECRAFT_SOLAR_DISTANCE = 2.29337e+08
TARGET_NAME = MARS
/* CAMERA DATA ELEMENTS */
DETECTOR_TEMPERATURE = 18.5744
FOCAL_PLANE_TEMPERATURE = 10.0106
INST_CMPRS_NAME = "DISCRETE COSINE TRANSFORMATION (DCT)"
INST_CMPRS_RATIO = 14.103
INST_CMPRS_QUALITY = 0
INST_CMPRS_QUANTZ_TBL_ID = 0
INSTRUMENT_TEMPERATURE = 11.8457
LENS_TEMPERATURE = 10.2145
MACROPIXEL_SIZE = 4
MISSING_FRAMES = 0
PIXEL_SUBSAMPLING_FLAG = N
SIGNAL_CHAIN_ID = 2
/* RADIOMETRIC DATA ELEMENTS */
BANDWIDTH = 88.0
CENTER_FILTER_WAVELENGTH = 538.0
RADIANCE_OFFSET = 1.6743
RADIANCE_SCALING_FACTOR = 0.00207033
REFLECTANCE_SCALING_FACTOR = 9.37511e-05
MEX:REFLECTANCE_OFFSET = 0.0758179
/* IMAGE OBJECT DEFINITIONS */
OBJECT = IMAGE
  INTERCHANGE_FORMAT = BINARY
  LINES = 9119
  LINE_SAMPLES = 1583
  SAMPLE_TYPE = UNSIGNED_INTEGER
  SAMPLE_BITS = 8
  BANDS = 1
  BAND_STORAGE_TYPE = BAND_SEQUENTIAL
  MAXIMUM = 255
  MEAN = 159.983
  MINIMUM = 1
  STANDARD_DEVIATION = 21.3685
END_OBJECT = IMAGE
/* MAP OBJECT DEFINITIONS */
OBJECT = IMAGE_MAP_PROJECTION
  ^DATA_SET_MAP_PROJECTION_CATALOG= "DSMAP.CAT"
  A_AXIS_RADIUS = 3396.0
  B_AXIS_RADIUS = 3396.0
  C_AXIS_RADIUS = 3396.0
  CENTER_LATITUDE = 0.0
  CENTER_LONGITUDE = 88.0
  COORDINATE_SYSTEM_NAME = PLANETOGRAPHIC
  COORDINATE_SYSTEM_TYPE = "BODY-FIXED ROTATING"
  EASTERNMOST_LONGITUDE = 89.1075
  FIRST_STANDARD_PARALLEL = "N/A"
  LINE_FIRST_PIXEL = 1
  LINE_LAST_PIXEL = 9119
  LINE_PROJECTION_OFFSET = -41893.625
  MAP_PROJECTION_ROTATION = 0.0
  MAP_PROJECTION_TYPE = SINUSOIDAL
  MAP_RESOLUTION = 1185.42760773333
  MAP_SCALE = 0.05
  MAXIMUM_LATITUDE = -35.3442
  MINIMUM_LATITUDE = -43.0299
  POSITIVE_LONGITUDE_DIRECTION = EAST
  REFERENCE_LATITUDE = "N/A"
  REFERENCE_LONGITUDE = "N/A"
  SAMPLE_FIRST_PIXEL = 1
  SAMPLE_LAST_PIXEL = 1583
  SAMPLE_PROJECTION_OFFSET = 513.125
  SECOND_STANDARD_PARALLEL = "N/A"
  WESTERNMOST_LONGITUDE = 87.4164
END_OBJECT = IMAGE_MAP_PROJECTION
END
