PDS_VERSION_ID = PDS3
/* FILE DATA ELEMENTS */
RECORD_TYPE = UNDEFINED
/* POINTERS TO DATA OBJECTS */
^IMAGE = ("HG830_0000_RE4.TIF")
/* IDENTIFICATION DATA ELEMENTS */
DATA_SET_ID = "MEX-M-HRSC-4-REFDR-MAPPROJECT-EXT6-V4.0"
DATA_SET_NAME = "MARS EXPRESS HRSC MAP PROJECTED REFDR EXTENSION6 V4.0"
DETECTOR_ID = MEX_HRSC_RED
EVENT_TYPE = "MARS-REGIONAL-MAPPING-Im-Fl-Gl"
INSTRUMENT_HOST_ID = MEX
INSTRUMENT_HOST_NAME = "MARS EXPRESS"
INSTRUMENT_ID = HRSC
INSTRUMENT_NAME = "HIGH RESOLUTION STEREO CAMERA"
MISSION_NAME = "MARS EXPRESS"
MISSION_PHASE_NAME = ME_Phase_36
PROCESSING_LEVEL_ID = 4
PRODUCT_CREATION_TIME = 2023-01-26T14:39:22.000Z
PRODUCT_ID = "HG830_0000_RE4.TIF"
RELEASE_ID = 0001
REVISION_ID = 0000
/* QUALITY DATA ELEMENTS */
DATA_QUALITY_ID = 1
DATA_QUALITY_DESC = "Data calculated based on original SPICE kernels"
/* TIME DATA ELEMENTS */
SPACECRAFT_CLOCK_START_COUNT = "1/0440401142.09030"
SPACECRAFT_CLOCK_STOP_COUNT = "1/0440401321.09141"
START_TIME = 2017-04-16T05:39:15.360Z
STOP_TIME = 2017-04-16T05:41:12.289Z
/* ORBITAL DATA ELEMENTS */
ASCENDING_NODE_LONGITUDE = 257.82
MAXIMUM_RESOLUTION = 0.0555
FOOTPRINT_POINT_LATITUDE = (-43.0821,-43.0813,-43.0796,-43.0775, -43.0726,-43.0682,-43.0679,-42.9919, -42.8391,-42.6861,-42.5303,-42.3799, -42.2262,-42.0732,-41.9197,-41.7667, -41.6134,-41.46,-41.3056,-41.0759, -40.8456,-40.6922,-40.5374,-40.2353, -39.9383,-39.714,-39.5646,-39.2672, -38.8922,-38.7421,-38.4456,-38.296, -38.0657,-37.9111,-37.7568,-37.6019, -37.447,-37.2919,-37.137,-36.9046, -36.7497,-36.5952,-36.3624,-36.2072, -36.0514,-35.8966,-35.7421,-35.587, -35.4317,-35.3538,-35.3358,-35.3375, -35.3383,-35.3398,-35.3398,-35.3374, -35.3374,-35.3382,-35.6494,-35.8049, -35.9605,-36.1163,-36.2715,-36.5041, -36.6593,-36.8145,-36.9693,-37.2017, -37.3552,-37.5848,-37.8216,-37.9767, -38.131,-38.2857,-38.4354,-38.6599, -38.9588,-39.1834,-39.3333,-39.4827, -39.7804,-40.0784,-40.3775,-40.5306, -40.6849,-40.8397,-40.9935,-41.1468, -41.3008,-41.5318,-41.7612,-41.9175, -42.0713,-42.224,-42.3776,-42.5323, -42.6845,-42.9152,-42.9923,-43.0821)
FOOTPRINT_POINT_LONGITUDE = (88.9668,88.6046,88.3306,88.1007, 87.7145,87.4433,87.429,87.4079,87.4154, 87.4228,87.4295,87.4373,87.4442,87.4512 ,87.4581,87.4649,87.4716,87.4782, 87.4845,87.4941,87.5035,87.5097,87.5154 ,87.5268,87.5378,87.5456,87.5507,87.561 ,87.5728,87.5773,87.5871,87.5915, 87.5984,87.6028,87.6072,87.6115,87.6156 ,87.6197,87.6237,87.6295,87.6333, 87.6372,87.6426,87.6461,87.6494,87.6528 ,87.6563,87.6595,87.6627,87.6642, 87.6647,87.9168,88.1035,88.3307,88.6798 ,89.0848,89.0983,89.1028,89.1001, 89.0988,89.0974,89.0958,89.0946,89.0928 ,89.0914,89.0901,89.089,89.0871,89.0866 ,89.0864,89.0814,89.0798,89.0787, 89.0768,89.0752,89.0729,89.07,89.0673, 89.0654,89.0638,89.0611,89.058,89.054, 89.0519,89.05,89.0476,89.0459,89.0444, 89.0424,89.0394,89.0373,89.0334,89.0312 ,89.0298,89.0276,89.0246,89.0233, 89.0195,89.0181,88.9668)
ORBIT_NUMBER = 16830
ORBITAL_ECCENTRICITY = 0.579
ORBITAL_INCLINATION = 86.95
ORBITAL_SEMIMAJOR_AXIS = 8818.42
PERIAPSIS_ALTITUDE = 327.97
PERIAPSIS_ARGUMENT_ANGLE = 318.15
PERIAPSIS_TIME = 2017-04-16T05:39:59.000Z
SPACECRAFT_ORIENTATION = (0.0,1.0,0.0)
^MEX_ORIENTATION_DESC = "MEX_ORIENTATION_DESC.TXT"
SPACECRAFT_POINTING_MODE = ACROSSTRACK
^MEX_POINTING_DESC = "MEX_POINTING_DESC.TXT"
RIGHT_ASCENSION = -1e+32
DECLINATION = -1e+32
OFFSET_ANGLE = -0.229
SPACECRAFT_SOLAR_DISTANCE = 2.29337e+08
TARGET_NAME = MARS
/* CAMERA DATA ELEMENTS */
DETECTOR_TEMPERATURE = 18.9822
FOCAL_PLANE_TEMPERATURE = 10.0106
INST_CMPRS_NAME = "DISCRETE COSINE TRANSFORMATION (DCT)"
INST_CMPRS_RATIO = 19.2018
INST_CMPRS_QUALITY = 0
INST_CMPRS_QUANTZ_TBL_ID = 0
INSTRUMENT_TEMPERATURE = 11.8457
LENS_TEMPERATURE = 10.2145
MACROPIXEL_SIZE = 4
MISSING_FRAMES = 0
PIXEL_SUBSAMPLING_FLAG = N
SIGNAL_CHAIN_ID = 2
/* RADIOMETRIC DATA ELEMENTS */
BANDWIDTH = 48.0
CENTER_FILTER_WAVELENGTH = 748.0
RADIANCE_OFFSET = 1.2342
RADIANCE_SCALING_FACTOR = 0.00242
REFLECTANCE_SCALING_FACTOR = 0.000290464
MEX:REFLECTANCE_OFFSET = 0.148137
/* IMAGE OBJECT DEFINITIONS */
OBJECT = IMAGE
  INTERCHANGE_FORMAT = BINARY
  LINES = 9119
  LINE_SAMPLES = 1583
  SAMPLE_TYPE = UNSIGNED_INTEGER
  SAMPLE_BITS = 8
  BANDS = 1
  BAND_STORAGE_TYPE = BAND_SEQUENTIAL
  MAXIMUM = 255
  MEAN = 158.775
  MINIMUM = 1
  STANDARD_DEVIATION = 28.2392
END_OBJECT = IMAGE
/* MAP OBJECT DEFINITIONS */
OBJECT = IMAGE_MAP_PROJECTION
  ^DATA_SET_MAP_PROJECTION_CATALOG= "DSMAP.CAT"
  A_AXIS_RADIUS = 3396.0
  B_AXIS_RADIUS = 3396.0
  C_AXIS_RADIUS = 3396.0
  CENTER_LATITUDE = 0.0
  CENTER_LONGITUDE = 88.0
  COORDINATE_SYSTEM_NAME = PLANETOGRAPHIC
  COORDINATE_SYSTEM_TYPE = "BODY-FIXED ROTATING"
  EASTERNMOST_LONGITUDE = 89.1028
  FIRST_STANDARD_PARALLEL = "N/A"
  LINE_FIRST_PIXEL = 1
  LINE_LAST_PIXEL = 9119
  LINE_PROJECTION_OFFSET = -41893.625
  MAP_PROJECTION_ROTATION = 0.0
  MAP_PROJECTION_TYPE = SINUSOIDAL
  MAP_RESOLUTION = 1185.42760773333
  MAP_SCALE = 0.05
  MAXIMUM_LATITUDE = -35.3358
  MINIMUM_LATITUDE = -43.0821
  POSITIVE_LONGITUDE_DIRECTION = EAST
  REFERENCE_LATITUDE = "N/A"
  REFERENCE_LONGITUDE = "N/A"
  SAMPLE_FIRST_PIXEL = 1
  SAMPLE_LAST_PIXEL = 1583
  SAMPLE_PROJECTION_OFFSET = 513.125
  SECOND_STANDARD_PARALLEL = "N/A"
  WESTERNMOST_LONGITUDE = 87.4079
END_OBJECT = IMAGE_MAP_PROJECTION
END
