PDS_VERSION_ID = PDS3
/* FILE DATA ELEMENTS */
RECORD_TYPE = UNDEFINED
/* POINTERS TO DATA OBJECTS */
^IMAGE = ("HG830_0002_RE4.TIF")
/* IDENTIFICATION DATA ELEMENTS */
DATA_SET_ID = "MEX-M-HRSC-4-REFDR-MAPPROJECT-EXT6-V4.0"
DATA_SET_NAME = "MARS EXPRESS HRSC MAP PROJECTED REFDR EXTENSION6 V4.0"
DETECTOR_ID = MEX_HRSC_RED
EVENT_TYPE = "MARS-REGIONAL-MAPPING-Vo-Im-Fl"
INSTRUMENT_HOST_ID = MEX
INSTRUMENT_HOST_NAME = "MARS EXPRESS"
INSTRUMENT_ID = HRSC
INSTRUMENT_NAME = "HIGH RESOLUTION STEREO CAMERA"
MISSION_NAME = "MARS EXPRESS"
MISSION_PHASE_NAME = ME_Phase_36
PROCESSING_LEVEL_ID = 4
PRODUCT_CREATION_TIME = 2023-01-26T14:39:22.000Z
PRODUCT_ID = "HG830_0002_RE4.TIF"
RELEASE_ID = 0001
REVISION_ID = 0000
/* QUALITY DATA ELEMENTS */
DATA_QUALITY_ID = 1
DATA_QUALITY_DESC = "Data calculated based on original SPICE kernels"
/* TIME DATA ELEMENTS */
SPACECRAFT_CLOCK_START_COUNT = "1/0440401489.59937"
SPACECRAFT_CLOCK_STOP_COUNT = "1/0440401809.20613"
START_TIME = 2017-04-16T05:45:04.019Z
STOP_TIME = 2017-04-16T05:48:26.364Z
/* ORBITAL DATA ELEMENTS */
ASCENDING_NODE_LONGITUDE = 257.82
MAXIMUM_RESOLUTION = 0.0673
FOOTPRINT_POINT_LATITUDE = (-20.0561,-20.063,-20.0693,-20.0746, -20.0772,-20.0772,-20.073,-19.5064, -19.162,-18.5805,-18.1165,-17.878, -17.6403,-17.4026,-17.1657,-16.8047, -16.5615,-16.318,-15.954,-15.582, -15.3327,-15.085,-14.7065,-14.4525, -14.1988,-13.9467,-13.6885,-13.4281, -13.1687,-12.7741,-12.5094,-12.2446, -11.9764,-11.7075,-11.437,-11.1645, -10.891,-10.4735,-10.0555,-9.77597, -9.35018,-9.06624,-8.78059,-8.49023, -8.05431,-7.7606,-7.31829,-7.16864, -7.09554,-7.08951,-7.08356,-7.07791, -7.06777,-7.06034,-7.05225,-7.0517, -7.05289,-7.35261,-7.64759,-8.08877, -8.37893,-8.66924,-8.95827,-9.38745, -9.66991,-9.94579,-10.2264,-10.6483, -10.9273,-11.1997,-11.6051,-11.8743, -12.1445,-12.4099,-12.6747,-13.0703, -13.3307,-13.5905,-13.9792,-14.2342, -14.6161,-14.8709,-15.114,-15.3647, -15.7415,-15.9885,-16.3538,-16.5976, -16.8408,-17.0822,-17.3201,-17.5582, -17.9155,-18.1528,-18.502,-18.9679, -19.3176,-19.8854,-19.9992,-20.0561)
FOOTPRINT_POINT_LONGITUDE = (89.1706,88.833,88.4549,88.0092,87.6894 ,87.6755,87.6712,87.6619,87.656,87.6453 ,87.6366,87.6318,87.6271,87.6222, 87.6174,87.6097,87.6044,87.5988,87.5906 ,87.582,87.5757,87.5698,87.5601,87.5535 ,87.5469,87.5407,87.534,87.5265,87.5192 ,87.5077,87.5,87.492,87.4839,87.4759, 87.4673,87.4585,87.4502,87.4352,87.4217 ,87.4124,87.3976,87.3879,87.3779, 87.3674,87.3514,87.3409,87.3243,87.3187 ,87.3161,87.6678,87.9501,88.2505, 88.6407,88.9072,89.1923,89.2102,89.2161 ,89.215,89.2138,89.2126,89.2114,89.2103 ,89.2087,89.2065,89.2063,89.207,89.2059 ,89.2017,89.1991,89.1994,89.1981, 89.1975,89.1963,89.1951,89.1943,89.1931 ,89.1917,89.1908,89.1896,89.1884,89.187 ,89.1861,89.1883,89.1867,89.1841, 89.1836,89.1824,89.1816,89.1812,89.1805 ,89.1799,89.1792,89.1783,89.1776, 89.1764,89.1748,89.1736,89.1718,89.1714 ,89.1706)
ORBIT_NUMBER = 16830
ORBITAL_ECCENTRICITY = 0.579
ORBITAL_INCLINATION = 86.95
ORBITAL_SEMIMAJOR_AXIS = 8818.42
PERIAPSIS_ALTITUDE = 327.97
PERIAPSIS_ARGUMENT_ANGLE = 318.15
PERIAPSIS_TIME = 2017-04-16T05:39:59.000Z
SPACECRAFT_ORIENTATION = (0.0,1.0,0.0)
^MEX_ORIENTATION_DESC = "MEX_ORIENTATION_DESC.TXT"
SPACECRAFT_POINTING_MODE = ACROSSTRACK
^MEX_POINTING_DESC = "MEX_POINTING_DESC.TXT"
RIGHT_ASCENSION = -1e+32
DECLINATION = -1e+32
OFFSET_ANGLE = -0.229
SPACECRAFT_SOLAR_DISTANCE = 2.29337e+08
TARGET_NAME = MARS
/* CAMERA DATA ELEMENTS */
DETECTOR_TEMPERATURE = 0.0
FOCAL_PLANE_TEMPERATURE = 0.0
INST_CMPRS_NAME = "DISCRETE COSINE TRANSFORMATION (DCT)"
INST_CMPRS_RATIO = 18.1695
INST_CMPRS_QUALITY = 0
INST_CMPRS_QUANTZ_TBL_ID = 0
INSTRUMENT_TEMPERATURE = 0.0
LENS_TEMPERATURE = 0.0
MACROPIXEL_SIZE = 4
MISSING_FRAMES = 0
PIXEL_SUBSAMPLING_FLAG = N
SIGNAL_CHAIN_ID = 2
/* RADIOMETRIC DATA ELEMENTS */
BANDWIDTH = 48.0
CENTER_FILTER_WAVELENGTH = 748.0
RADIANCE_OFFSET = 0.927126
RADIANCE_SCALING_FACTOR = 0.00363579
REFLECTANCE_SCALING_FACTOR = 0.000436392
MEX:REFLECTANCE_OFFSET = 0.11128
/* IMAGE OBJECT DEFINITIONS */
OBJECT = IMAGE
  INTERCHANGE_FORMAT = BINARY
  LINES = 12622
  LINE_SAMPLES = 2243
  SAMPLE_TYPE = UNSIGNED_INTEGER
  SAMPLE_BITS = 8
  BANDS = 1
  BAND_STORAGE_TYPE = BAND_SEQUENTIAL
  MAXIMUM = 223
  MEAN = 91.8206
  MINIMUM = 1
  STANDARD_DEVIATION = 15.9383
END_OBJECT = IMAGE
/* MAP OBJECT DEFINITIONS */
OBJECT = IMAGE_MAP_PROJECTION
  ^DATA_SET_MAP_PROJECTION_CATALOG= "DSMAP.CAT"
  A_AXIS_RADIUS = 3396.0
  B_AXIS_RADIUS = 3396.0
  C_AXIS_RADIUS = 3396.0
  CENTER_LATITUDE = 0.0
  CENTER_LONGITUDE = 88.0
  COORDINATE_SYSTEM_NAME = PLANETOGRAPHIC
  COORDINATE_SYSTEM_TYPE = "BODY-FIXED ROTATING"
  EASTERNMOST_LONGITUDE = 89.2161
  FIRST_STANDARD_PARALLEL = "N/A"
  LINE_FIRST_PIXEL = 1
  LINE_LAST_PIXEL = 12622
  LINE_PROJECTION_OFFSET = -11146.875
  MAP_PROJECTION_ROTATION = 0.0
  MAP_PROJECTION_TYPE = SINUSOIDAL
  MAP_RESOLUTION = 1185.42760773333
  MAP_SCALE = 0.05
  MAXIMUM_LATITUDE = -7.0517
  MINIMUM_LATITUDE = -20.0772
  POSITIVE_LONGITUDE_DIRECTION = EAST
  REFERENCE_LATITUDE = "N/A"
  REFERENCE_LONGITUDE = "N/A"
  SAMPLE_FIRST_PIXEL = 1
  SAMPLE_LAST_PIXEL = 2243
  SAMPLE_PROJECTION_OFFSET = 771.375
  SECOND_STANDARD_PARALLEL = "N/A"
  WESTERNMOST_LONGITUDE = 87.31610000000001
END_OBJECT = IMAGE_MAP_PROJECTION
END
